BEGIN:VCALENDAR
VERSION:2.0
PRODID:-//Kazerne Reigersbos - ECPv6.15.20//NONSGML v1.0//EN
CALSCALE:GREGORIAN
METHOD:PUBLISH
X-WR-CALNAME:Kazerne Reigersbos
X-ORIGINAL-URL:https://www.kazernereigersbos.org
X-WR-CALDESC:Evenementen voor Kazerne Reigersbos
REFRESH-INTERVAL;VALUE=DURATION:PT1H
X-Robots-Tag:noindex
X-PUBLISHED-TTL:PT1H
BEGIN:VTIMEZONE
TZID:UTC
BEGIN:STANDARD
TZOFFSETFROM:+0000
TZOFFSETTO:+0000
TZNAME:UTC
DTSTART:20240101T000000
END:STANDARD
END:VTIMEZONE
BEGIN:VEVENT
DTSTART;TZID=UTC:20250819T193000
DTEND;TZID=UTC:20250819T213000
DTSTAMP:20260421T072103
CREATED:20250819T104052Z
LAST-MODIFIED:20251219T130324Z
UID:10000868-1755631800-1755639000@www.kazernereigersbos.org
SUMMARY:Salsa lessen – elke dinsdag
DESCRIPTION:Zet je week in beweging met een salsales van SalsaFactor bij ons in de Remise. \nOnder begeleiding van ervaren docenten leer je de populaire L.A. Style. De lessen zijn toegankelijk voor zowel beginners als gevorderden\, met veel persoonlijke aandacht en een ontspannen sfeer. \nKlik hier voor meer informatie en aanmelding voor (proef)lessen!
URL:https://www.kazernereigersbos.org/event/salsa-lessen-elke-dinsdag/2025-08-19/
LOCATION:Remise\, Remmerdenplein 100\, Amsterdam\, 1106 AK\, Nederland
CATEGORIES:Sport
ATTACH;FMTTYPE=image/jpeg:https://www.kazernereigersbos.org/wp-content/uploads/2025/08/1301584-scaled.jpg
END:VEVENT
BEGIN:VEVENT
DTSTART;TZID=UTC:20250821T190000
DTEND;TZID=UTC:20250821T213000
DTSTAMP:20260421T072103
CREATED:20250722T102426Z
LAST-MODIFIED:20250819T111341Z
UID:10000810-1755802800-1755811800@www.kazernereigersbos.org
SUMMARY:Sankofa Archives presents House of Artistry Workshops
DESCRIPTION:This summer\, Sankofa Archives present House of Artistry\, a series of creative workshops led by inspiring artists and creators. From visual art and music to storytelling and culture\, each session invites you to explore your creativity\, connect with others\, and learn directly from professionals in their field. Open to all levels — no experience needed. \nWorkshop Line-Up:\n🎨 July 31 — Creative Workshop with Dion Rosina\nExplore images\, memories\, and imagination to create your own artwork. \n🎶 August 21 — Music Masterclass with Jarreau Vandal & Mondesir\nDive into sound\, creativity\, and collaboration in this hands-on session. \n🌍 September 25 — What’s Culture Workshop with Jamal Jama\nUnderstand culture through stories\, visuals\, and shared perspectives. \nBe part of the experience! Buy your tickets here.
URL:https://www.kazernereigersbos.org/event/house-of-artistry-workshops/2025-08-21/
LOCATION:Noord-Holland
CATEGORIES:Workshop
ATTACH;FMTTYPE=image/jpeg:https://www.kazernereigersbos.org/wp-content/uploads/2025/07/Agenda-2-1-scaled.jpg
END:VEVENT
BEGIN:VEVENT
DTSTART;TZID=UTC:20250823T090000
DTEND;TZID=UTC:20250823T160000
DTSTAMP:20260421T072103
CREATED:20250819T110148Z
LAST-MODIFIED:20250819T110348Z
UID:10001129-1755939600-1755964800@www.kazernereigersbos.org
SUMMARY:Tante Nel's buurtmarkt - elke zaterdag
DESCRIPTION:Zaterdag is marktdag bij Tante Nel! \nSnuffel tussen de leukste tweedehands vondsten\, ontdek verborgen schatten en geniet van de gezellige sfeer in de tuin. Iedere zaterdag van 9.00 tot 16.00 uur ben je van harte welkom op de Buurtmarkt van Tante Nel bij ons in de tuin.
URL:https://www.kazernereigersbos.org/event/tante-nels-buurtmarkt-elke-zaterdag/2025-08-23/
LOCATION:Buitenwerkplaats de Kazerne
CATEGORIES:Buurt
ATTACH;FMTTYPE=image/jpeg:https://www.kazernereigersbos.org/wp-content/uploads/2025/04/1289436-scaled.jpg
END:VEVENT
BEGIN:VEVENT
DTSTART;TZID=UTC:20250826T193000
DTEND;TZID=UTC:20250826T213000
DTSTAMP:20260421T072103
CREATED:20250819T104052Z
LAST-MODIFIED:20251219T130324Z
UID:10000869-1756236600-1756243800@www.kazernereigersbos.org
SUMMARY:Salsa lessen – elke dinsdag
DESCRIPTION:Zet je week in beweging met een salsales van SalsaFactor bij ons in de Remise. \nOnder begeleiding van ervaren docenten leer je de populaire L.A. Style. De lessen zijn toegankelijk voor zowel beginners als gevorderden\, met veel persoonlijke aandacht en een ontspannen sfeer. \nKlik hier voor meer informatie en aanmelding voor (proef)lessen!
URL:https://www.kazernereigersbos.org/event/salsa-lessen-elke-dinsdag/2025-08-26/
LOCATION:Remise\, Remmerdenplein 100\, Amsterdam\, 1106 AK\, Nederland
CATEGORIES:Sport
ATTACH;FMTTYPE=image/jpeg:https://www.kazernereigersbos.org/wp-content/uploads/2025/08/1301584-scaled.jpg
END:VEVENT
BEGIN:VEVENT
DTSTART;TZID=UTC:20250829T120000
DTEND;TZID=UTC:20250830T010000
DTSTAMP:20260421T072103
CREATED:20250822T094907Z
LAST-MODIFIED:20250822T094907Z
UID:10001395-1756468800-1756515600@www.kazernereigersbos.org
SUMMARY:41 Vision
DESCRIPTION:Wat kun je verwachten bij 41 Vision? \n– Twee inspirerende gastsprekers die hun journey en tips delen (co-owner FOUR Amsterdam: Jordi & artiest Burleson)\n– Een interactieve workshop om zelf aan de slag te gaan + pitchbacks & prijzen te winnen van o.a. Four & Banlieue (20 plekken)\n– Ongeveer 20 stands van jonge ondernemers en creators\n– Fashion show met upcoming brands\n– Live performances\n– Afterparty met DJ’s tot 01:00 (+ 1 gratis Lavish) \nBij aankoop van een ticket heb je toegang tot het volledige programma (inclusief afterparty + Lavish)\, krijg je een welkomstdrankje\, cupcake én een goodiebag met super leuke goodies!
URL:https://www.kazernereigersbos.org/event/41-vision/
LOCATION:Remise\, Remmerdenplein 100\, Amsterdam\, 1106 AK\, Nederland
ATTACH;FMTTYPE=image/jpeg:https://www.kazernereigersbos.org/wp-content/uploads/2025/08/https___cdn.evbuc_.com_images_1072255483_2208153395383_1_original.jpeg
END:VEVENT
BEGIN:VEVENT
DTSTART;TZID=UTC:20250830T090000
DTEND;TZID=UTC:20250830T160000
DTSTAMP:20260421T072103
CREATED:20250819T110148Z
LAST-MODIFIED:20250819T110348Z
UID:10001130-1756544400-1756569600@www.kazernereigersbos.org
SUMMARY:Tante Nel's buurtmarkt - elke zaterdag
DESCRIPTION:Zaterdag is marktdag bij Tante Nel! \nSnuffel tussen de leukste tweedehands vondsten\, ontdek verborgen schatten en geniet van de gezellige sfeer in de tuin. Iedere zaterdag van 9.00 tot 16.00 uur ben je van harte welkom op de Buurtmarkt van Tante Nel bij ons in de tuin.
URL:https://www.kazernereigersbos.org/event/tante-nels-buurtmarkt-elke-zaterdag/2025-08-30/
LOCATION:Buitenwerkplaats de Kazerne
CATEGORIES:Buurt
ATTACH;FMTTYPE=image/jpeg:https://www.kazernereigersbos.org/wp-content/uploads/2025/04/1289436-scaled.jpg
END:VEVENT
END:VCALENDAR