BEGIN:VCALENDAR
VERSION:2.0
PRODID:-//Kazerne Reigersbos - ECPv6.15.20//NONSGML v1.0//EN
CALSCALE:GREGORIAN
METHOD:PUBLISH
X-WR-CALNAME:Kazerne Reigersbos
X-ORIGINAL-URL:https://www.kazernereigersbos.org
X-WR-CALDESC:Evenementen voor Kazerne Reigersbos
REFRESH-INTERVAL;VALUE=DURATION:PT1H
X-Robots-Tag:noindex
X-PUBLISHED-TTL:PT1H
BEGIN:VTIMEZONE
TZID:UTC
BEGIN:STANDARD
TZOFFSETFROM:+0000
TZOFFSETTO:+0000
TZNAME:UTC
DTSTART:20240101T000000
END:STANDARD
END:VTIMEZONE
BEGIN:VEVENT
DTSTART;TZID=UTC:20250509T183000
DTEND;TZID=UTC:20250509T203000
DTSTAMP:20260421T181925
CREATED:20250425T091452Z
LAST-MODIFIED:20250425T091512Z
UID:10000807-1746815400-1746822600@www.kazernereigersbos.org
SUMMARY:BINGO AVOND: De Reigertjes
DESCRIPTION:🎉 Gezellige Bingo-Avond – Gratis Deelname voor Alle Leeftijden! 🎉 \nKom vrijdag 9 mei 2025 naar Kazerne Reigersbos voor een gezellige Bingo-avond\, georganiseerd door Platform Reigers! Of je nu alleen komt\, met je gezin of samen met vrienden – iedereen is welkom om mee te doen en te genieten van een avond vol plezier. \nWaarom je dit niet wilt missen: \n\n\nFantastische prijzen te winnen! \n\n\nGratis hapjes en drankjes voor alle deelnemers. \n\n\nGezellige muziek en een fijne sfeer. \n\n\nEen leuke activiteit voor alle leeftijden! \n\n\nAanmelden is verplicht! Vergeet niet je in te schrijven door de namen van alle deelnemers door te geven. We starten op tijd\, dus zorg ervoor dat je uiterlijk om 18:45 uur aanwezig bent. \n📅 Wanneer? Vrijdag 9 mei 2025🕒 Tijd? 18:30 – 20:30 uur (inloop van 18:30 tot 18:40 uur)📍 Waar? Kazerne Reigersbos\, Remmerdenplein 100\, Reigersbos \nAanmelden kan via:Sanne en Sherel📞 06-41045048📧 kapel.projecten@gmail.com \nWe kijken ernaar uit om samen een geweldige avond te beleven!
URL:https://www.kazernereigersbos.org/event/bingo-avond-de-reigertjes/
LOCATION:Remise\, Remmerdenplein 100\, Amsterdam\, 1106 AK\, Nederland
CATEGORIES:Buurt
ATTACH;FMTTYPE=image/png:https://www.kazernereigersbos.org/wp-content/uploads/2025/04/BingoPosterVersie2.png
END:VEVENT
END:VCALENDAR