BEGIN:VCALENDAR
VERSION:2.0
PRODID:-//Kazerne Reigersbos - ECPv6.15.20//NONSGML v1.0//EN
CALSCALE:GREGORIAN
METHOD:PUBLISH
X-ORIGINAL-URL:https://www.kazernereigersbos.org
X-WR-CALDESC:Evenementen voor Kazerne Reigersbos
REFRESH-INTERVAL;VALUE=DURATION:PT1H
X-Robots-Tag:noindex
X-PUBLISHED-TTL:PT1H
BEGIN:VTIMEZONE
TZID:UTC
BEGIN:STANDARD
TZOFFSETFROM:+0000
TZOFFSETTO:+0000
TZNAME:UTC
DTSTART:20250101T000000
END:STANDARD
END:VTIMEZONE
BEGIN:VTIMEZONE
TZID:Europe/Amsterdam
BEGIN:DAYLIGHT
TZOFFSETFROM:+0100
TZOFFSETTO:+0200
TZNAME:CEST
DTSTART:20250330T010000
END:DAYLIGHT
BEGIN:STANDARD
TZOFFSETFROM:+0200
TZOFFSETTO:+0100
TZNAME:CET
DTSTART:20251026T010000
END:STANDARD
BEGIN:DAYLIGHT
TZOFFSETFROM:+0100
TZOFFSETTO:+0200
TZNAME:CEST
DTSTART:20260329T010000
END:DAYLIGHT
BEGIN:STANDARD
TZOFFSETFROM:+0200
TZOFFSETTO:+0100
TZNAME:CET
DTSTART:20261025T010000
END:STANDARD
BEGIN:DAYLIGHT
TZOFFSETFROM:+0100
TZOFFSETTO:+0200
TZNAME:CEST
DTSTART:20270328T010000
END:DAYLIGHT
BEGIN:STANDARD
TZOFFSETFROM:+0200
TZOFFSETTO:+0100
TZNAME:CET
DTSTART:20271031T010000
END:STANDARD
END:VTIMEZONE
BEGIN:VEVENT
DTSTART;TZID=UTC:20260213T150000
DTEND;TZID=UTC:20260213T190000
DTSTAMP:20260421T030916
CREATED:20250822T083403Z
LAST-MODIFIED:20251219T125535Z
UID:10000329-1770994800-1771009200@www.kazernereigersbos.org
SUMMARY:Jongerendag - elke vrijdag
DESCRIPTION:📅 Elke vrijdag | ⏰ 15:00 – 19:00 | 📍 Remise | 🎯 Voor jongeren (10-16 jaar) \nBen jij tussen de 10 en 16 jaar en op zoek naar een toffe plek om je vrijdagmiddag door te brengen? Kom dan naar onze Jongerendag! We bieden een leuke middag vol activiteiten. \nWat kun je verwachten?\n📚 Naschoolse activiteiten – Leren\, ontmoeten en groeien\n🛠️ Workshops & praktische vaardigheden – Ontdek nieuwe talenten\n🎨 Creatieve expressie – Kunst\, muziek & dans\n🎮 Games & films – Ontspanning en fun na school
URL:https://www.kazernereigersbos.org/event/jongerendag-2/2026-02-13/
LOCATION:Remise\, Remmerdenplein 100\, Amsterdam\, 1106 AK\, Nederland
CATEGORIES:Buurt
ATTACH;FMTTYPE=image/jpeg:https://www.kazernereigersbos.org/wp-content/uploads/2025/03/f6c30791-f38c-4a9c-9b5e-2d4b6d6790a2.jpeg
END:VEVENT
BEGIN:VEVENT
DTSTART;TZID=UTC:20260214T090000
DTEND;TZID=UTC:20260214T160000
DTSTAMP:20260421T030916
CREATED:20250819T110148Z
LAST-MODIFIED:20250819T110348Z
UID:10001154-1771059600-1771084800@www.kazernereigersbos.org
SUMMARY:Tante Nel's buurtmarkt - elke zaterdag
DESCRIPTION:Zaterdag is marktdag bij Tante Nel! \nSnuffel tussen de leukste tweedehands vondsten\, ontdek verborgen schatten en geniet van de gezellige sfeer in de tuin. Iedere zaterdag van 9.00 tot 16.00 uur ben je van harte welkom op de Buurtmarkt van Tante Nel bij ons in de tuin.
URL:https://www.kazernereigersbos.org/event/tante-nels-buurtmarkt-elke-zaterdag/2026-02-14/
LOCATION:Buitenwerkplaats de Kazerne
CATEGORIES:Buurt
ATTACH;FMTTYPE=image/jpeg:https://www.kazernereigersbos.org/wp-content/uploads/2025/04/1289436-scaled.jpg
END:VEVENT
BEGIN:VEVENT
DTSTART;TZID=UTC:20260217T193000
DTEND;TZID=UTC:20260217T213000
DTSTAMP:20260421T030916
CREATED:20250819T104052Z
LAST-MODIFIED:20251219T130324Z
UID:10000894-1771356600-1771363800@www.kazernereigersbos.org
SUMMARY:Salsa lessen – elke dinsdag
DESCRIPTION:Zet je week in beweging met een salsales van SalsaFactor bij ons in de Remise. \nOnder begeleiding van ervaren docenten leer je de populaire L.A. Style. De lessen zijn toegankelijk voor zowel beginners als gevorderden\, met veel persoonlijke aandacht en een ontspannen sfeer. \nKlik hier voor meer informatie en aanmelding voor (proef)lessen!
URL:https://www.kazernereigersbos.org/event/salsa-lessen-elke-dinsdag/2026-02-17/
LOCATION:Remise\, Remmerdenplein 100\, Amsterdam\, 1106 AK\, Nederland
CATEGORIES:Sport
ATTACH;FMTTYPE=image/jpeg:https://www.kazernereigersbos.org/wp-content/uploads/2025/08/1301584-scaled.jpg
END:VEVENT
BEGIN:VEVENT
DTSTART;TZID=UTC:20260220T150000
DTEND;TZID=UTC:20260220T190000
DTSTAMP:20260421T030916
CREATED:20250822T083403Z
LAST-MODIFIED:20251219T125535Z
UID:10000330-1771599600-1771614000@www.kazernereigersbos.org
SUMMARY:Jongerendag - elke vrijdag
DESCRIPTION:📅 Elke vrijdag | ⏰ 15:00 – 19:00 | 📍 Remise | 🎯 Voor jongeren (10-16 jaar) \nBen jij tussen de 10 en 16 jaar en op zoek naar een toffe plek om je vrijdagmiddag door te brengen? Kom dan naar onze Jongerendag! We bieden een leuke middag vol activiteiten. \nWat kun je verwachten?\n📚 Naschoolse activiteiten – Leren\, ontmoeten en groeien\n🛠️ Workshops & praktische vaardigheden – Ontdek nieuwe talenten\n🎨 Creatieve expressie – Kunst\, muziek & dans\n🎮 Games & films – Ontspanning en fun na school
URL:https://www.kazernereigersbos.org/event/jongerendag-2/2026-02-20/
LOCATION:Remise\, Remmerdenplein 100\, Amsterdam\, 1106 AK\, Nederland
CATEGORIES:Buurt
ATTACH;FMTTYPE=image/jpeg:https://www.kazernereigersbos.org/wp-content/uploads/2025/03/f6c30791-f38c-4a9c-9b5e-2d4b6d6790a2.jpeg
END:VEVENT
BEGIN:VEVENT
DTSTART;TZID=UTC:20260221T090000
DTEND;TZID=UTC:20260221T160000
DTSTAMP:20260421T030916
CREATED:20250819T110148Z
LAST-MODIFIED:20250819T110348Z
UID:10001155-1771664400-1771689600@www.kazernereigersbos.org
SUMMARY:Tante Nel's buurtmarkt - elke zaterdag
DESCRIPTION:Zaterdag is marktdag bij Tante Nel! \nSnuffel tussen de leukste tweedehands vondsten\, ontdek verborgen schatten en geniet van de gezellige sfeer in de tuin. Iedere zaterdag van 9.00 tot 16.00 uur ben je van harte welkom op de Buurtmarkt van Tante Nel bij ons in de tuin.
URL:https://www.kazernereigersbos.org/event/tante-nels-buurtmarkt-elke-zaterdag/2026-02-21/
LOCATION:Buitenwerkplaats de Kazerne
CATEGORIES:Buurt
ATTACH;FMTTYPE=image/jpeg:https://www.kazernereigersbos.org/wp-content/uploads/2025/04/1289436-scaled.jpg
END:VEVENT
BEGIN:VEVENT
DTSTART;TZID=UTC:20260224T193000
DTEND;TZID=UTC:20260224T213000
DTSTAMP:20260421T030916
CREATED:20250819T104052Z
LAST-MODIFIED:20251219T130324Z
UID:10000895-1771961400-1771968600@www.kazernereigersbos.org
SUMMARY:Salsa lessen – elke dinsdag
DESCRIPTION:Zet je week in beweging met een salsales van SalsaFactor bij ons in de Remise. \nOnder begeleiding van ervaren docenten leer je de populaire L.A. Style. De lessen zijn toegankelijk voor zowel beginners als gevorderden\, met veel persoonlijke aandacht en een ontspannen sfeer. \nKlik hier voor meer informatie en aanmelding voor (proef)lessen!
URL:https://www.kazernereigersbos.org/event/salsa-lessen-elke-dinsdag/2026-02-24/
LOCATION:Remise\, Remmerdenplein 100\, Amsterdam\, 1106 AK\, Nederland
CATEGORIES:Sport
ATTACH;FMTTYPE=image/jpeg:https://www.kazernereigersbos.org/wp-content/uploads/2025/08/1301584-scaled.jpg
END:VEVENT
BEGIN:VEVENT
DTSTART;TZID=UTC:20260227T150000
DTEND;TZID=UTC:20260227T190000
DTSTAMP:20260421T030916
CREATED:20250822T083403Z
LAST-MODIFIED:20251219T125535Z
UID:10000331-1772204400-1772218800@www.kazernereigersbos.org
SUMMARY:Jongerendag - elke vrijdag
DESCRIPTION:📅 Elke vrijdag | ⏰ 15:00 – 19:00 | 📍 Remise | 🎯 Voor jongeren (10-16 jaar) \nBen jij tussen de 10 en 16 jaar en op zoek naar een toffe plek om je vrijdagmiddag door te brengen? Kom dan naar onze Jongerendag! We bieden een leuke middag vol activiteiten. \nWat kun je verwachten?\n📚 Naschoolse activiteiten – Leren\, ontmoeten en groeien\n🛠️ Workshops & praktische vaardigheden – Ontdek nieuwe talenten\n🎨 Creatieve expressie – Kunst\, muziek & dans\n🎮 Games & films – Ontspanning en fun na school
URL:https://www.kazernereigersbos.org/event/jongerendag-2/2026-02-27/
LOCATION:Remise\, Remmerdenplein 100\, Amsterdam\, 1106 AK\, Nederland
CATEGORIES:Buurt
ATTACH;FMTTYPE=image/jpeg:https://www.kazernereigersbos.org/wp-content/uploads/2025/03/f6c30791-f38c-4a9c-9b5e-2d4b6d6790a2.jpeg
END:VEVENT
BEGIN:VEVENT
DTSTART;TZID=UTC:20260228T090000
DTEND;TZID=UTC:20260228T160000
DTSTAMP:20260421T030916
CREATED:20250819T110148Z
LAST-MODIFIED:20250819T110348Z
UID:10001156-1772269200-1772294400@www.kazernereigersbos.org
SUMMARY:Tante Nel's buurtmarkt - elke zaterdag
DESCRIPTION:Zaterdag is marktdag bij Tante Nel! \nSnuffel tussen de leukste tweedehands vondsten\, ontdek verborgen schatten en geniet van de gezellige sfeer in de tuin. Iedere zaterdag van 9.00 tot 16.00 uur ben je van harte welkom op de Buurtmarkt van Tante Nel bij ons in de tuin.
URL:https://www.kazernereigersbos.org/event/tante-nels-buurtmarkt-elke-zaterdag/2026-02-28/
LOCATION:Buitenwerkplaats de Kazerne
CATEGORIES:Buurt
ATTACH;FMTTYPE=image/jpeg:https://www.kazernereigersbos.org/wp-content/uploads/2025/04/1289436-scaled.jpg
END:VEVENT
BEGIN:VEVENT
DTSTART;TZID=UTC:20260303T193000
DTEND;TZID=UTC:20260303T213000
DTSTAMP:20260421T030916
CREATED:20250819T104052Z
LAST-MODIFIED:20251219T130324Z
UID:10000896-1772566200-1772573400@www.kazernereigersbos.org
SUMMARY:Salsa lessen – elke dinsdag
DESCRIPTION:Zet je week in beweging met een salsales van SalsaFactor bij ons in de Remise. \nOnder begeleiding van ervaren docenten leer je de populaire L.A. Style. De lessen zijn toegankelijk voor zowel beginners als gevorderden\, met veel persoonlijke aandacht en een ontspannen sfeer. \nKlik hier voor meer informatie en aanmelding voor (proef)lessen!
URL:https://www.kazernereigersbos.org/event/salsa-lessen-elke-dinsdag/2026-03-03/
LOCATION:Remise\, Remmerdenplein 100\, Amsterdam\, 1106 AK\, Nederland
CATEGORIES:Sport
ATTACH;FMTTYPE=image/jpeg:https://www.kazernereigersbos.org/wp-content/uploads/2025/08/1301584-scaled.jpg
END:VEVENT
BEGIN:VEVENT
DTSTART;TZID=UTC:20260306T150000
DTEND;TZID=UTC:20260306T190000
DTSTAMP:20260421T030916
CREATED:20250822T083403Z
LAST-MODIFIED:20251219T125535Z
UID:10000332-1772809200-1772823600@www.kazernereigersbos.org
SUMMARY:Jongerendag - elke vrijdag
DESCRIPTION:📅 Elke vrijdag | ⏰ 15:00 – 19:00 | 📍 Remise | 🎯 Voor jongeren (10-16 jaar) \nBen jij tussen de 10 en 16 jaar en op zoek naar een toffe plek om je vrijdagmiddag door te brengen? Kom dan naar onze Jongerendag! We bieden een leuke middag vol activiteiten. \nWat kun je verwachten?\n📚 Naschoolse activiteiten – Leren\, ontmoeten en groeien\n🛠️ Workshops & praktische vaardigheden – Ontdek nieuwe talenten\n🎨 Creatieve expressie – Kunst\, muziek & dans\n🎮 Games & films – Ontspanning en fun na school
URL:https://www.kazernereigersbos.org/event/jongerendag-2/2026-03-06/
LOCATION:Remise\, Remmerdenplein 100\, Amsterdam\, 1106 AK\, Nederland
CATEGORIES:Buurt
ATTACH;FMTTYPE=image/jpeg:https://www.kazernereigersbos.org/wp-content/uploads/2025/03/f6c30791-f38c-4a9c-9b5e-2d4b6d6790a2.jpeg
END:VEVENT
BEGIN:VEVENT
DTSTART;TZID=UTC:20260307T090000
DTEND;TZID=UTC:20260307T160000
DTSTAMP:20260421T030916
CREATED:20250819T110148Z
LAST-MODIFIED:20250819T110348Z
UID:10001157-1772874000-1772899200@www.kazernereigersbos.org
SUMMARY:Tante Nel's buurtmarkt - elke zaterdag
DESCRIPTION:Zaterdag is marktdag bij Tante Nel! \nSnuffel tussen de leukste tweedehands vondsten\, ontdek verborgen schatten en geniet van de gezellige sfeer in de tuin. Iedere zaterdag van 9.00 tot 16.00 uur ben je van harte welkom op de Buurtmarkt van Tante Nel bij ons in de tuin.
URL:https://www.kazernereigersbos.org/event/tante-nels-buurtmarkt-elke-zaterdag/2026-03-07/
LOCATION:Buitenwerkplaats de Kazerne
CATEGORIES:Buurt
ATTACH;FMTTYPE=image/jpeg:https://www.kazernereigersbos.org/wp-content/uploads/2025/04/1289436-scaled.jpg
END:VEVENT
BEGIN:VEVENT
DTSTART;TZID=UTC:20260310T193000
DTEND;TZID=UTC:20260310T213000
DTSTAMP:20260421T030916
CREATED:20250819T104052Z
LAST-MODIFIED:20251219T130324Z
UID:10000897-1773171000-1773178200@www.kazernereigersbos.org
SUMMARY:Salsa lessen – elke dinsdag
DESCRIPTION:Zet je week in beweging met een salsales van SalsaFactor bij ons in de Remise. \nOnder begeleiding van ervaren docenten leer je de populaire L.A. Style. De lessen zijn toegankelijk voor zowel beginners als gevorderden\, met veel persoonlijke aandacht en een ontspannen sfeer. \nKlik hier voor meer informatie en aanmelding voor (proef)lessen!
URL:https://www.kazernereigersbos.org/event/salsa-lessen-elke-dinsdag/2026-03-10/
LOCATION:Remise\, Remmerdenplein 100\, Amsterdam\, 1106 AK\, Nederland
CATEGORIES:Sport
ATTACH;FMTTYPE=image/jpeg:https://www.kazernereigersbos.org/wp-content/uploads/2025/08/1301584-scaled.jpg
END:VEVENT
BEGIN:VEVENT
DTSTART;TZID=UTC:20260313T150000
DTEND;TZID=UTC:20260313T190000
DTSTAMP:20260421T030916
CREATED:20250822T083403Z
LAST-MODIFIED:20251219T125535Z
UID:10000333-1773414000-1773428400@www.kazernereigersbos.org
SUMMARY:Jongerendag - elke vrijdag
DESCRIPTION:📅 Elke vrijdag | ⏰ 15:00 – 19:00 | 📍 Remise | 🎯 Voor jongeren (10-16 jaar) \nBen jij tussen de 10 en 16 jaar en op zoek naar een toffe plek om je vrijdagmiddag door te brengen? Kom dan naar onze Jongerendag! We bieden een leuke middag vol activiteiten. \nWat kun je verwachten?\n📚 Naschoolse activiteiten – Leren\, ontmoeten en groeien\n🛠️ Workshops & praktische vaardigheden – Ontdek nieuwe talenten\n🎨 Creatieve expressie – Kunst\, muziek & dans\n🎮 Games & films – Ontspanning en fun na school
URL:https://www.kazernereigersbos.org/event/jongerendag-2/2026-03-13/
LOCATION:Remise\, Remmerdenplein 100\, Amsterdam\, 1106 AK\, Nederland
CATEGORIES:Buurt
ATTACH;FMTTYPE=image/jpeg:https://www.kazernereigersbos.org/wp-content/uploads/2025/03/f6c30791-f38c-4a9c-9b5e-2d4b6d6790a2.jpeg
END:VEVENT
BEGIN:VEVENT
DTSTART;TZID=UTC:20260314T090000
DTEND;TZID=UTC:20260314T160000
DTSTAMP:20260421T030916
CREATED:20250819T110148Z
LAST-MODIFIED:20250819T110348Z
UID:10001158-1773478800-1773504000@www.kazernereigersbos.org
SUMMARY:Tante Nel's buurtmarkt - elke zaterdag
DESCRIPTION:Zaterdag is marktdag bij Tante Nel! \nSnuffel tussen de leukste tweedehands vondsten\, ontdek verborgen schatten en geniet van de gezellige sfeer in de tuin. Iedere zaterdag van 9.00 tot 16.00 uur ben je van harte welkom op de Buurtmarkt van Tante Nel bij ons in de tuin.
URL:https://www.kazernereigersbos.org/event/tante-nels-buurtmarkt-elke-zaterdag/2026-03-14/
LOCATION:Buitenwerkplaats de Kazerne
CATEGORIES:Buurt
ATTACH;FMTTYPE=image/jpeg:https://www.kazernereigersbos.org/wp-content/uploads/2025/04/1289436-scaled.jpg
END:VEVENT
BEGIN:VEVENT
DTSTART;TZID=UTC:20260317T193000
DTEND;TZID=UTC:20260317T213000
DTSTAMP:20260421T030916
CREATED:20250819T104052Z
LAST-MODIFIED:20251219T130324Z
UID:10000898-1773775800-1773783000@www.kazernereigersbos.org
SUMMARY:Salsa lessen – elke dinsdag
DESCRIPTION:Zet je week in beweging met een salsales van SalsaFactor bij ons in de Remise. \nOnder begeleiding van ervaren docenten leer je de populaire L.A. Style. De lessen zijn toegankelijk voor zowel beginners als gevorderden\, met veel persoonlijke aandacht en een ontspannen sfeer. \nKlik hier voor meer informatie en aanmelding voor (proef)lessen!
URL:https://www.kazernereigersbos.org/event/salsa-lessen-elke-dinsdag/2026-03-17/
LOCATION:Remise\, Remmerdenplein 100\, Amsterdam\, 1106 AK\, Nederland
CATEGORIES:Sport
ATTACH;FMTTYPE=image/jpeg:https://www.kazernereigersbos.org/wp-content/uploads/2025/08/1301584-scaled.jpg
END:VEVENT
BEGIN:VEVENT
DTSTART;TZID=UTC:20260320T150000
DTEND;TZID=UTC:20260320T190000
DTSTAMP:20260421T030916
CREATED:20250822T083403Z
LAST-MODIFIED:20251219T125535Z
UID:10000334-1774018800-1774033200@www.kazernereigersbos.org
SUMMARY:Jongerendag - elke vrijdag
DESCRIPTION:📅 Elke vrijdag | ⏰ 15:00 – 19:00 | 📍 Remise | 🎯 Voor jongeren (10-16 jaar) \nBen jij tussen de 10 en 16 jaar en op zoek naar een toffe plek om je vrijdagmiddag door te brengen? Kom dan naar onze Jongerendag! We bieden een leuke middag vol activiteiten. \nWat kun je verwachten?\n📚 Naschoolse activiteiten – Leren\, ontmoeten en groeien\n🛠️ Workshops & praktische vaardigheden – Ontdek nieuwe talenten\n🎨 Creatieve expressie – Kunst\, muziek & dans\n🎮 Games & films – Ontspanning en fun na school
URL:https://www.kazernereigersbos.org/event/jongerendag-2/2026-03-20/
LOCATION:Remise\, Remmerdenplein 100\, Amsterdam\, 1106 AK\, Nederland
CATEGORIES:Buurt
ATTACH;FMTTYPE=image/jpeg:https://www.kazernereigersbos.org/wp-content/uploads/2025/03/f6c30791-f38c-4a9c-9b5e-2d4b6d6790a2.jpeg
END:VEVENT
BEGIN:VEVENT
DTSTART;TZID=UTC:20260321T090000
DTEND;TZID=UTC:20260321T160000
DTSTAMP:20260421T030916
CREATED:20250819T110148Z
LAST-MODIFIED:20250819T110348Z
UID:10001159-1774083600-1774108800@www.kazernereigersbos.org
SUMMARY:Tante Nel's buurtmarkt - elke zaterdag
DESCRIPTION:Zaterdag is marktdag bij Tante Nel! \nSnuffel tussen de leukste tweedehands vondsten\, ontdek verborgen schatten en geniet van de gezellige sfeer in de tuin. Iedere zaterdag van 9.00 tot 16.00 uur ben je van harte welkom op de Buurtmarkt van Tante Nel bij ons in de tuin.
URL:https://www.kazernereigersbos.org/event/tante-nels-buurtmarkt-elke-zaterdag/2026-03-21/
LOCATION:Buitenwerkplaats de Kazerne
CATEGORIES:Buurt
ATTACH;FMTTYPE=image/jpeg:https://www.kazernereigersbos.org/wp-content/uploads/2025/04/1289436-scaled.jpg
END:VEVENT
BEGIN:VEVENT
DTSTART;TZID=UTC:20260324T193000
DTEND;TZID=UTC:20260324T213000
DTSTAMP:20260421T030916
CREATED:20250819T104052Z
LAST-MODIFIED:20251219T130324Z
UID:10000899-1774380600-1774387800@www.kazernereigersbos.org
SUMMARY:Salsa lessen – elke dinsdag
DESCRIPTION:Zet je week in beweging met een salsales van SalsaFactor bij ons in de Remise. \nOnder begeleiding van ervaren docenten leer je de populaire L.A. Style. De lessen zijn toegankelijk voor zowel beginners als gevorderden\, met veel persoonlijke aandacht en een ontspannen sfeer. \nKlik hier voor meer informatie en aanmelding voor (proef)lessen!
URL:https://www.kazernereigersbos.org/event/salsa-lessen-elke-dinsdag/2026-03-24/
LOCATION:Remise\, Remmerdenplein 100\, Amsterdam\, 1106 AK\, Nederland
CATEGORIES:Sport
ATTACH;FMTTYPE=image/jpeg:https://www.kazernereigersbos.org/wp-content/uploads/2025/08/1301584-scaled.jpg
END:VEVENT
BEGIN:VEVENT
DTSTART;TZID=UTC:20260327T150000
DTEND;TZID=UTC:20260327T190000
DTSTAMP:20260421T030916
CREATED:20250822T083403Z
LAST-MODIFIED:20251219T125535Z
UID:10000335-1774623600-1774638000@www.kazernereigersbos.org
SUMMARY:Jongerendag - elke vrijdag
DESCRIPTION:📅 Elke vrijdag | ⏰ 15:00 – 19:00 | 📍 Remise | 🎯 Voor jongeren (10-16 jaar) \nBen jij tussen de 10 en 16 jaar en op zoek naar een toffe plek om je vrijdagmiddag door te brengen? Kom dan naar onze Jongerendag! We bieden een leuke middag vol activiteiten. \nWat kun je verwachten?\n📚 Naschoolse activiteiten – Leren\, ontmoeten en groeien\n🛠️ Workshops & praktische vaardigheden – Ontdek nieuwe talenten\n🎨 Creatieve expressie – Kunst\, muziek & dans\n🎮 Games & films – Ontspanning en fun na school
URL:https://www.kazernereigersbos.org/event/jongerendag-2/2026-03-27/
LOCATION:Remise\, Remmerdenplein 100\, Amsterdam\, 1106 AK\, Nederland
CATEGORIES:Buurt
ATTACH;FMTTYPE=image/jpeg:https://www.kazernereigersbos.org/wp-content/uploads/2025/03/f6c30791-f38c-4a9c-9b5e-2d4b6d6790a2.jpeg
END:VEVENT
BEGIN:VEVENT
DTSTART;TZID=UTC:20260328T090000
DTEND;TZID=UTC:20260328T160000
DTSTAMP:20260421T030916
CREATED:20250819T110148Z
LAST-MODIFIED:20250819T110348Z
UID:10001160-1774688400-1774713600@www.kazernereigersbos.org
SUMMARY:Tante Nel's buurtmarkt - elke zaterdag
DESCRIPTION:Zaterdag is marktdag bij Tante Nel! \nSnuffel tussen de leukste tweedehands vondsten\, ontdek verborgen schatten en geniet van de gezellige sfeer in de tuin. Iedere zaterdag van 9.00 tot 16.00 uur ben je van harte welkom op de Buurtmarkt van Tante Nel bij ons in de tuin.
URL:https://www.kazernereigersbos.org/event/tante-nels-buurtmarkt-elke-zaterdag/2026-03-28/
LOCATION:Buitenwerkplaats de Kazerne
CATEGORIES:Buurt
ATTACH;FMTTYPE=image/jpeg:https://www.kazernereigersbos.org/wp-content/uploads/2025/04/1289436-scaled.jpg
END:VEVENT
BEGIN:VEVENT
DTSTART;TZID=UTC:20260331T193000
DTEND;TZID=UTC:20260331T213000
DTSTAMP:20260421T030916
CREATED:20250819T104052Z
LAST-MODIFIED:20251219T130324Z
UID:10000900-1774985400-1774992600@www.kazernereigersbos.org
SUMMARY:Salsa lessen – elke dinsdag
DESCRIPTION:Zet je week in beweging met een salsales van SalsaFactor bij ons in de Remise. \nOnder begeleiding van ervaren docenten leer je de populaire L.A. Style. De lessen zijn toegankelijk voor zowel beginners als gevorderden\, met veel persoonlijke aandacht en een ontspannen sfeer. \nKlik hier voor meer informatie en aanmelding voor (proef)lessen!
URL:https://www.kazernereigersbos.org/event/salsa-lessen-elke-dinsdag/2026-03-31/
LOCATION:Remise\, Remmerdenplein 100\, Amsterdam\, 1106 AK\, Nederland
CATEGORIES:Sport
ATTACH;FMTTYPE=image/jpeg:https://www.kazernereigersbos.org/wp-content/uploads/2025/08/1301584-scaled.jpg
END:VEVENT
BEGIN:VEVENT
DTSTART;TZID=UTC:20260403T150000
DTEND;TZID=UTC:20260403T190000
DTSTAMP:20260421T030916
CREATED:20250822T083403Z
LAST-MODIFIED:20251219T125535Z
UID:10000336-1775228400-1775242800@www.kazernereigersbos.org
SUMMARY:Jongerendag - elke vrijdag
DESCRIPTION:📅 Elke vrijdag | ⏰ 15:00 – 19:00 | 📍 Remise | 🎯 Voor jongeren (10-16 jaar) \nBen jij tussen de 10 en 16 jaar en op zoek naar een toffe plek om je vrijdagmiddag door te brengen? Kom dan naar onze Jongerendag! We bieden een leuke middag vol activiteiten. \nWat kun je verwachten?\n📚 Naschoolse activiteiten – Leren\, ontmoeten en groeien\n🛠️ Workshops & praktische vaardigheden – Ontdek nieuwe talenten\n🎨 Creatieve expressie – Kunst\, muziek & dans\n🎮 Games & films – Ontspanning en fun na school
URL:https://www.kazernereigersbos.org/event/jongerendag-2/2026-04-03/
LOCATION:Remise\, Remmerdenplein 100\, Amsterdam\, 1106 AK\, Nederland
CATEGORIES:Buurt
ATTACH;FMTTYPE=image/jpeg:https://www.kazernereigersbos.org/wp-content/uploads/2025/03/f6c30791-f38c-4a9c-9b5e-2d4b6d6790a2.jpeg
END:VEVENT
BEGIN:VEVENT
DTSTART;TZID=UTC:20260404T090000
DTEND;TZID=UTC:20260404T160000
DTSTAMP:20260421T030916
CREATED:20250819T110148Z
LAST-MODIFIED:20250819T110348Z
UID:10001161-1775293200-1775318400@www.kazernereigersbos.org
SUMMARY:Tante Nel's buurtmarkt - elke zaterdag
DESCRIPTION:Zaterdag is marktdag bij Tante Nel! \nSnuffel tussen de leukste tweedehands vondsten\, ontdek verborgen schatten en geniet van de gezellige sfeer in de tuin. Iedere zaterdag van 9.00 tot 16.00 uur ben je van harte welkom op de Buurtmarkt van Tante Nel bij ons in de tuin.
URL:https://www.kazernereigersbos.org/event/tante-nels-buurtmarkt-elke-zaterdag/2026-04-04/
LOCATION:Buitenwerkplaats de Kazerne
CATEGORIES:Buurt
ATTACH;FMTTYPE=image/jpeg:https://www.kazernereigersbos.org/wp-content/uploads/2025/04/1289436-scaled.jpg
END:VEVENT
BEGIN:VEVENT
DTSTART;TZID=UTC:20260407T193000
DTEND;TZID=UTC:20260407T213000
DTSTAMP:20260421T030916
CREATED:20250819T104052Z
LAST-MODIFIED:20251219T130324Z
UID:10000901-1775590200-1775597400@www.kazernereigersbos.org
SUMMARY:Salsa lessen – elke dinsdag
DESCRIPTION:Zet je week in beweging met een salsales van SalsaFactor bij ons in de Remise. \nOnder begeleiding van ervaren docenten leer je de populaire L.A. Style. De lessen zijn toegankelijk voor zowel beginners als gevorderden\, met veel persoonlijke aandacht en een ontspannen sfeer. \nKlik hier voor meer informatie en aanmelding voor (proef)lessen!
URL:https://www.kazernereigersbos.org/event/salsa-lessen-elke-dinsdag/2026-04-07/
LOCATION:Remise\, Remmerdenplein 100\, Amsterdam\, 1106 AK\, Nederland
CATEGORIES:Sport
ATTACH;FMTTYPE=image/jpeg:https://www.kazernereigersbos.org/wp-content/uploads/2025/08/1301584-scaled.jpg
END:VEVENT
BEGIN:VEVENT
DTSTART;TZID=UTC:20260408T090000
DTEND;TZID=UTC:20260408T160000
DTSTAMP:20260421T030916
CREATED:20260408T142539Z
LAST-MODIFIED:20260408T142541Z
UID:10001162-1775638800-1775664000@www.kazernereigersbos.org
SUMMARY:Tante Nel's buurtmarkt - elke woensdag
DESCRIPTION:Woensdag is marktdag bij Tante Nel! \nSnuffel tussen de leukste tweedehands vondsten\, ontdek verborgen schatten en geniet van de gezellige sfeer in de tuin. Iedere zaterdag van 9.00 tot 16.00 uur ben je van harte welkom op de Buurtmarkt van Tante Nel bij ons in de tuin.
URL:https://www.kazernereigersbos.org/event/tante-nels-buurtmarkt-elke-zaterdag-2/2026-04-08/
LOCATION:Buitenwerkplaats de Kazerne
CATEGORIES:Buurt
ATTACH;FMTTYPE=image/jpeg:https://www.kazernereigersbos.org/wp-content/uploads/2025/04/1289436-scaled.jpg
END:VEVENT
BEGIN:VEVENT
DTSTART;TZID=UTC:20260410T150000
DTEND;TZID=UTC:20260410T190000
DTSTAMP:20260421T030916
CREATED:20250822T083403Z
LAST-MODIFIED:20251219T125535Z
UID:10000337-1775833200-1775847600@www.kazernereigersbos.org
SUMMARY:Jongerendag - elke vrijdag
DESCRIPTION:📅 Elke vrijdag | ⏰ 15:00 – 19:00 | 📍 Remise | 🎯 Voor jongeren (10-16 jaar) \nBen jij tussen de 10 en 16 jaar en op zoek naar een toffe plek om je vrijdagmiddag door te brengen? Kom dan naar onze Jongerendag! We bieden een leuke middag vol activiteiten. \nWat kun je verwachten?\n📚 Naschoolse activiteiten – Leren\, ontmoeten en groeien\n🛠️ Workshops & praktische vaardigheden – Ontdek nieuwe talenten\n🎨 Creatieve expressie – Kunst\, muziek & dans\n🎮 Games & films – Ontspanning en fun na school
URL:https://www.kazernereigersbos.org/event/jongerendag-2/2026-04-10/
LOCATION:Remise\, Remmerdenplein 100\, Amsterdam\, 1106 AK\, Nederland
CATEGORIES:Buurt
ATTACH;FMTTYPE=image/jpeg:https://www.kazernereigersbos.org/wp-content/uploads/2025/03/f6c30791-f38c-4a9c-9b5e-2d4b6d6790a2.jpeg
END:VEVENT
BEGIN:VEVENT
DTSTART;TZID=Europe/Amsterdam:20260413T173000
DTEND;TZID=Europe/Amsterdam:20260413T200000
DTSTAMP:20260421T030916
CREATED:20260408T142214Z
LAST-MODIFIED:20260408T144040Z
UID:10001436-1776101400-1776110400@www.kazernereigersbos.org
SUMMARY:Wijzer in je Cijfers Deel 1 | Slimme administratie voor slimme ondernemers
DESCRIPTION:Ondernemen is bouwen\, maar zonder grip op je cijfers bouw je blind. Daarom starten De Ondernemerswinkel & Kazerne Reigersbos op 13 april met deel 1 van de workshopreeks Wijzer in je Cijfers. \nTijdens deze eerste sessie krijg je praktische tips om je administratie slimmer in te richten en meer inzicht te krijgen in omzet\, winst en cashflow. Geen droge theorie\, maar direct toepasbare handvatten waar je meteen mee aan de slag kunt. \nDeze workshop is er voor iedere ondernemer – of je nu net start\, al langer onderneemt\, of naast je boekhouder zelf meer overzicht wilt. \nWat kun je verwachten?\n\nadministratie slim opzetten\nfacturen en bonnetjes beheren\ninzicht in omzet\, winst en cashflow\nbetere keuzes maken op basis van je cijfers\n\n📍 Locatie: Kazerne Reigersbos\, Remmerdenplein 100\n⏰ Tijd: 17:30 – 20:00\n🎟️ Toegang: gratis\, aanmelden via de link
URL:https://www.kazernereigersbos.org/event/wijzer-in-je-cijfers-deel-1-slimme-administratie-voor-slimme-ondernemers/
LOCATION:Kazerne Reigersbos\, Remmerdenplein 100\, Amsterdam\, Noord-Holland\, 1106AK\, Nederland
CATEGORIES:Workshop
ATTACH;FMTTYPE=image/png:https://www.kazernereigersbos.org/wp-content/uploads/2026/04/Green-and-Orange-Modern-Illustrative-Finance-Flyer.png
END:VEVENT
BEGIN:VEVENT
DTSTART;TZID=UTC:20260414T193000
DTEND;TZID=UTC:20260414T213000
DTSTAMP:20260421T030916
CREATED:20250819T104052Z
LAST-MODIFIED:20251219T130324Z
UID:10000902-1776195000-1776202200@www.kazernereigersbos.org
SUMMARY:Salsa lessen – elke dinsdag
DESCRIPTION:Zet je week in beweging met een salsales van SalsaFactor bij ons in de Remise. \nOnder begeleiding van ervaren docenten leer je de populaire L.A. Style. De lessen zijn toegankelijk voor zowel beginners als gevorderden\, met veel persoonlijke aandacht en een ontspannen sfeer. \nKlik hier voor meer informatie en aanmelding voor (proef)lessen!
URL:https://www.kazernereigersbos.org/event/salsa-lessen-elke-dinsdag/2026-04-14/
LOCATION:Remise\, Remmerdenplein 100\, Amsterdam\, 1106 AK\, Nederland
CATEGORIES:Sport
ATTACH;FMTTYPE=image/jpeg:https://www.kazernereigersbos.org/wp-content/uploads/2025/08/1301584-scaled.jpg
END:VEVENT
BEGIN:VEVENT
DTSTART;TZID=UTC:20260415T090000
DTEND;TZID=UTC:20260415T160000
DTSTAMP:20260421T030916
CREATED:20260408T142539Z
LAST-MODIFIED:20260408T142541Z
UID:10001437-1776243600-1776268800@www.kazernereigersbos.org
SUMMARY:Tante Nel's buurtmarkt - elke woensdag
DESCRIPTION:Woensdag is marktdag bij Tante Nel! \nSnuffel tussen de leukste tweedehands vondsten\, ontdek verborgen schatten en geniet van de gezellige sfeer in de tuin. Iedere zaterdag van 9.00 tot 16.00 uur ben je van harte welkom op de Buurtmarkt van Tante Nel bij ons in de tuin.
URL:https://www.kazernereigersbos.org/event/tante-nels-buurtmarkt-elke-zaterdag-2/2026-04-15/
LOCATION:Buitenwerkplaats de Kazerne
CATEGORIES:Buurt
ATTACH;FMTTYPE=image/jpeg:https://www.kazernereigersbos.org/wp-content/uploads/2025/04/1289436-scaled.jpg
END:VEVENT
BEGIN:VEVENT
DTSTART;TZID=UTC:20260417T150000
DTEND;TZID=UTC:20260417T190000
DTSTAMP:20260421T030916
CREATED:20250822T083403Z
LAST-MODIFIED:20251219T125535Z
UID:10000338-1776438000-1776452400@www.kazernereigersbos.org
SUMMARY:Jongerendag - elke vrijdag
DESCRIPTION:📅 Elke vrijdag | ⏰ 15:00 – 19:00 | 📍 Remise | 🎯 Voor jongeren (10-16 jaar) \nBen jij tussen de 10 en 16 jaar en op zoek naar een toffe plek om je vrijdagmiddag door te brengen? Kom dan naar onze Jongerendag! We bieden een leuke middag vol activiteiten. \nWat kun je verwachten?\n📚 Naschoolse activiteiten – Leren\, ontmoeten en groeien\n🛠️ Workshops & praktische vaardigheden – Ontdek nieuwe talenten\n🎨 Creatieve expressie – Kunst\, muziek & dans\n🎮 Games & films – Ontspanning en fun na school
URL:https://www.kazernereigersbos.org/event/jongerendag-2/2026-04-17/
LOCATION:Remise\, Remmerdenplein 100\, Amsterdam\, 1106 AK\, Nederland
CATEGORIES:Buurt
ATTACH;FMTTYPE=image/jpeg:https://www.kazernereigersbos.org/wp-content/uploads/2025/03/f6c30791-f38c-4a9c-9b5e-2d4b6d6790a2.jpeg
END:VEVENT
END:VCALENDAR