BEGIN:VCALENDAR
VERSION:2.0
PRODID:-//Kazerne Reigersbos - ECPv6.15.20//NONSGML v1.0//EN
CALSCALE:GREGORIAN
METHOD:PUBLISH
X-WR-CALNAME:Kazerne Reigersbos
X-ORIGINAL-URL:https://www.kazernereigersbos.org
X-WR-CALDESC:Evenementen voor Kazerne Reigersbos
REFRESH-INTERVAL;VALUE=DURATION:PT1H
X-Robots-Tag:noindex
X-PUBLISHED-TTL:PT1H
BEGIN:VTIMEZONE
TZID:Europe/Amsterdam
BEGIN:DAYLIGHT
TZOFFSETFROM:+0100
TZOFFSETTO:+0200
TZNAME:CEST
DTSTART:20230326T010000
END:DAYLIGHT
BEGIN:STANDARD
TZOFFSETFROM:+0200
TZOFFSETTO:+0100
TZNAME:CET
DTSTART:20231029T010000
END:STANDARD
BEGIN:DAYLIGHT
TZOFFSETFROM:+0100
TZOFFSETTO:+0200
TZNAME:CEST
DTSTART:20240331T010000
END:DAYLIGHT
BEGIN:STANDARD
TZOFFSETFROM:+0200
TZOFFSETTO:+0100
TZNAME:CET
DTSTART:20241027T010000
END:STANDARD
BEGIN:DAYLIGHT
TZOFFSETFROM:+0100
TZOFFSETTO:+0200
TZNAME:CEST
DTSTART:20250330T010000
END:DAYLIGHT
BEGIN:STANDARD
TZOFFSETFROM:+0200
TZOFFSETTO:+0100
TZNAME:CET
DTSTART:20251026T010000
END:STANDARD
END:VTIMEZONE
BEGIN:VTIMEZONE
TZID:UTC
BEGIN:STANDARD
TZOFFSETFROM:+0000
TZOFFSETTO:+0000
TZNAME:UTC
DTSTART:20220101T000000
END:STANDARD
END:VTIMEZONE
BEGIN:VEVENT
DTSTART;TZID=Europe/Amsterdam:20240419T173000
DTEND;TZID=Europe/Amsterdam:20240419T210000
DTSTAMP:20260422T011807
CREATED:20240409T085310Z
LAST-MODIFIED:20240409T095331Z
UID:10000012-1713547800-1713560400@www.kazernereigersbos.org
SUMMARY:Event Management Workshop
DESCRIPTION:Georganiseerd door Kazerne Reigersbos en Kokeb Haile \nBekend van zijn betrokkenheid bij Connekt Amsterdam\, Kweekvijver Festival en SMIB x TNO Fest. \nIn samenwerking met Kazerne Reigersbos\, kondigen we met trots de tweede editie van onze Eventmanagement Workshop aan. \nDeze editie vindt plaats in het culturele broedplaats centrum Kazerne Reigersbos en heeft als doel de gemeenschap in stadsdeel Zuidoost te versterken en verrijken. De workshop is specifiek ontworpen om lokale bewoners en ondernemers te betrekken en te empoweren. \nDeze keer breiden we het programma uit met een reeks van onderwerpen die essentieel zijn voor iedereen die zich bezighoudt met het creëren en beheren van evenementen. De deelnemers krijgen inzichten in creatieve conceptontwikkeling\, marketingstrategieën\, het verkrijgen van subsidies en evenementenvergunningen\, evenals het plannen van programmeringen en producties. \nWe zullen ook dieper ingaan op de specifieke uitdagingen en kansen die komen kijken bij het organiseren van evenementen in nachtclubs\, poppodia\, en buitenterreinen. Daarnaast komt ook het belang van begroting\, sponsoring\, en het opbouwen van een sterk netwerk uitgebreid aan bod.\nVoor deze editie hebben we een diverse groep sprekers uitgenodigd\, waaronder dj Ricks\, clubprogrammeur Shaniel\, en vertegenwoordiger Ashna Goerdat van de gemeentelijke afdeling evenementen\, naast mijzelf\, Kokeb Haile. Samen brengen we een breed scala aan ervaringen en perspectieven om de deelnemers niet alleen te informeren\, maar ook te inspireren en te motiveren. \nWe kijken ernaar uit om onze kennis en passie voor evenementenmanagement te delen met de gemeenschap van Zuidoost en verder. \nEntree gratis – RSVP via de link
URL:https://www.kazernereigersbos.org/event/event-management-workshop-2/
LOCATION:Remise\, Remmerdenplein 100\, Amsterdam\, 1106 AK\, Nederland
CATEGORIES:Workshop
ATTACH;FMTTYPE=image/jpeg:https://www.kazernereigersbos.org/wp-content/uploads/2024/04/EVENT-MANAGEMENT-2.jpg
END:VEVENT
BEGIN:VEVENT
DTSTART;TZID=UTC:20231209T150000
DTEND;TZID=UTC:20231209T190000
DTSTAMP:20260422T011807
CREATED:20231205T162559Z
LAST-MODIFIED:20231205T162559Z
UID:10000011-1702134000-1702148400@www.kazernereigersbos.org
SUMMARY:Panelgesprek: Welvarende stad
DESCRIPTION:Join het panelgesprek over de welvarende stad! \n\n\nOcho & Ibs\, Sankofa Archives en Jong Volwassen komen samen om hen percepties te delen over de ontwikkelingen van ons  stadsdeel Zuid-Oost. Dit gesprek word geleid door Ashanti Lord en de muziek word georganiseerd door onze resident dj: Fumez.\n\nDit zal een middag worden waar perceptie en mogelijkheden centraal staan en waar informatie vergaard gaat worden. Hiernaast zal er gratis Jollof en Johnny cakes!\n\n\nEr is geen RSVP of ticket nodig loop binnen en laten we samen komen tijdens het Panelgesprek: De Welvarende stad. \n\n\n\nPanel 1:\nWelvaart is gezondheid: Wat maakt gezondheid belangrijk binnen de ontwikkelingen in Zuidoost?\n\nSprekers: Ocho & Ibs\n\nPanel 2:\nStadsintelligentie: In gesprek met ervaringsdeskundigen over de ontwikkelingen omtrent veiligheid\nen perceptie van de buurt.\n\nSpreker: Sankofa Archives\n\nPanel 3:\nSamenwerkende stad: Nieuwe ontwikkelingen zorgen voor nieuwe kansen. Hoe brengen we\nondernemen en eigenaarschap bij aan de nieuwe generatie?\n\nSpreker: Jong volwassen\n\n\nTimetable:\n15:00    inloop\n15:30    Intro\n15:45    Eerste panel: Welvaart en gezondheid\n16:15    Q&A\n16:30    Tweede panel: Stadsintelligentie\n17:00    Q&A\n17:15    Pauze\n17:45    Derde Panel: Samenwerkende Stad\n18:15    Q&A\n18:30    Uitloop
URL:https://www.kazernereigersbos.org/event/panelgesprek-de-welvarende-stad/
LOCATION:Remise\, Remmerdenplein 100\, Amsterdam\, 1106 AK\, Nederland
CATEGORIES:Panel
ATTACH;FMTTYPE=image/jpeg:https://www.kazernereigersbos.org/wp-content/uploads/2023/12/DE-Welvarende-stad-LINE-UP-Hersteld-LOGO-.jpg
END:VEVENT
BEGIN:VEVENT
DTSTART;TZID=UTC:20231207T173000
DTEND;TZID=UTC:20231207T210000
DTSTAMP:20260422T011807
CREATED:20231205T155629Z
LAST-MODIFIED:20231205T155629Z
UID:10000010-1701970200-1701982800@www.kazernereigersbos.org
SUMMARY:Event Management Workshop
DESCRIPTION:LEER JE EIGEN EVENT MANAGEN \nKokeb bekend van Connekt Amsterdam\, Kweekvijver Festival en SMIB x TNO Fest. Organiseert samen met de Kazerne Reigersbos het Event management workshop. \nDe workshop is speciaal ontworpen om de gemeenschap in stadsdeel Zuidoost te verrijken en te versterken\, met betrokkenheid van lokale bewoners en ondernemers. Leer hoe je het best je eigen event kan managen en kom in contact met andere mensen. \nOnderwerpen die aanbod komen: Creatieve concepten\, marketing\, subsidies\, evenementenvergunningen\, programmeringen\, producties\, nachtclubs vs poppodia’s en buitenterreinen\, begroting en sponsoring en netwerk worden behandeld. \n\nTickets: https://www.eventbrite.nl/e/765595515797?aff=oddtdtcreator
URL:https://www.kazernereigersbos.org/event/event-management-workshop/
LOCATION:Remise\, Remmerdenplein 100\, Amsterdam\, 1106 AK\, Nederland
CATEGORIES:Workshop
ATTACH;FMTTYPE=image/jpeg:https://www.kazernereigersbos.org/wp-content/uploads/2023/12/EVENT-MANAGEMENT.jpg
END:VEVENT
BEGIN:VEVENT
DTSTART;TZID=UTC:20231104T190000
DTEND;TZID=UTC:20231105T190000
DTSTAMP:20260422T011807
CREATED:20231103T083758Z
LAST-MODIFIED:20231103T084001Z
UID:10000009-1699124400-1699210800@www.kazernereigersbos.org
SUMMARY:Sankofa Archives Presents: Third Culture Identities
DESCRIPTION:Tijdens Museumnacht organiseert Sankofa Archives een expositie bij Kazerne Reigersbos. In deze expositie zullen creatieven samenkomen om muziek\, mode en kunst te presenteren\, allemaal met sterke banden met de buurt of hun omgeving.\n\n\nIn een wereld die steeds meer met elkaar verweven is heeft het begrip identiteit zich ontvouwd als een rijk tapijt\, geweven met de diverse draden van verschillende culturen. Met trots presenteert Sankofa Archives de tentoonstelling Third Culture Identities\, die dieper ingaat op de gelaagde dans van culturele invloeden in Amsterdam. Met kunst van Elizar Veerman\, Kala Cité\, Trinity Williams\, Gabriella Akyea\, Sabrunnisa Cakmak & Lenny Di Gennaro.Met de term ‘derde cultuur’ wordt gedoeld op een generatie die voortkomt uit immigranten\, maar geboren is in Nederland. Het eerste komt de cultuur waar je vandaan komt\, als tweede de cultuur van het westen en als derde de mengelmoes van culturen die samenkomen. \n\n\nDe essentie van dit concept ontvouwt zich binnen de expositie “Third Culture Identities”. Sankofa Archives nodigt de bezoekers uit op een transformerende reis van begrip\, reflectie en viering van de culturele mengelmoes van Amsterdam Zuidoost. Gedreven door onze missie om vergeten verhalen en onontdekte kansen aan het licht te brengen\, duikt deze expositie diep in de kern van de multiculturele menselijke ervaring. \nLine up:\n\n19:00 – 20:00 – DJ Fer\n20:00 – 20:45 – DJ Sonia\n20:45 – 21:00 – Live poëzie – Sabrunnisa Cakmak\n21:00 – 22:00 – DJ Lexi D\n22:00 – 23:00 – DJ Blackprint\n23:00 – 00:00 – Kala Cité B2B Joya Astou\n00:00 – 01:00 – Pantonepapi\n01:00 – 02:00 – DJ Fumez\n\nTickets: https://shop.eventix.io/969a72ae-726f-11ee-bdc3-6a57c78572ab/tickets?shop_code=kjeuy55d\n 
URL:https://www.kazernereigersbos.org/event/sankofa-archives-presents-third-culture-identities/
LOCATION:Remise\, Remmerdenplein 100\, Amsterdam\, 1106 AK\, Nederland
CATEGORIES:Museumnacht
ATTACH;FMTTYPE=image/png:https://www.kazernereigersbos.org/wp-content/uploads/2023/11/Screenshot-2023-11-03-at-10.36.57.png
END:VEVENT
BEGIN:VEVENT
DTSTART;TZID=UTC:20231022T070000
DTEND;TZID=UTC:20231022T220000
DTSTAMP:20260422T011807
CREATED:20231013T130918Z
LAST-MODIFIED:20231103T100504Z
UID:10000008-1697958000-1698012000@www.kazernereigersbos.org
SUMMARY:Sankofa Archives presents: Mondesir (LIVE)
DESCRIPTION:Mondesir\, de veelzijdige muzikant: staat op het punt zijn debuut solo-optreden te geven in samenwerking met Sankofa Archives. Een Amsterdams platform dat jonge creatievelingen een podium biedt om hun talenten te tonen en diversiteit in kunst en cultuur te bevorderen. Het evenement zal plaatsvinden in de creative broedplaats in Amsterdam Zuidoost: Kazerne Reigersbos tijdens ADE. Amsterdam\, 29 september 2023 – Mondesir\, de getalenteerde multidisciplinaire muzikant\, producer en DJ\, maakt zich op voor zijn allereerste solo-optreden in samenwerking met Sankofa Archives\, een in Amsterdam gevestigd platform dat creatieve jongeren een podium biedt. \nTickets: https://www.eventbrite.nl/e/727439490097?aff=oddtdtcreator
URL:https://www.kazernereigersbos.org/event/sankofa-archives-presents-mondesir-live/
LOCATION:Remise\, Remmerdenplein 100\, Amsterdam\, 1106 AK\, Nederland
CATEGORIES:ADE
ATTACH;FMTTYPE=image/png:https://www.kazernereigersbos.org/wp-content/uploads/2023/10/Screenshot-2023-11-03-at-12.03.30.png
END:VEVENT
BEGIN:VEVENT
DTSTART;TZID=UTC:20231021T043000
DTEND;TZID=UTC:20231021T233000
DTSTAMP:20260422T011807
CREATED:20231013T125441Z
LAST-MODIFIED:20231013T131101Z
UID:10000007-1697862600-1697931000@www.kazernereigersbos.org
SUMMARY:The Base presents: House dance\, panel and jam
DESCRIPTION:Kom meepraten met onze panelleden Patricia Kabasu en Kim Tawjoeram en onze Mystery Guest. De talenten hebben naast hun grote danstalent elk hun eigen contributie binnen de House dance community in Nederland (en Europa). Tijdens het panelgesprek worden verschillende onderwerpen besproken en krijgt het publiek de kans om meer te leren over House dance. Natuurlijk zal er ruimte zijn om vragen te kunnen stellen.
URL:https://www.kazernereigersbos.org/event/the-base-presents-house-dance-panel-and-jam/
LOCATION:Remise\, Remmerdenplein 100\, Amsterdam\, 1106 AK\, Nederland
CATEGORIES:ADE
ATTACH;FMTTYPE=image/jpeg:https://www.kazernereigersbos.org/wp-content/uploads/2023/10/ADE.jpg
END:VEVENT
BEGIN:VEVENT
DTSTART;TZID=UTC:20231020T190000
DTEND;TZID=UTC:20231020T210000
DTSTAMP:20260422T011807
CREATED:20231013T124354Z
LAST-MODIFIED:20231013T125757Z
UID:10000005-1697828400-1697835600@www.kazernereigersbos.org
SUMMARY:Ocho & Ibs presents Kings Panel
DESCRIPTION:Tijdens Kings Panel gaan moderators Ocho & Ibs in gesprek met 3 andere panelleden over gezondheid en youths in hiphop. Hierbij zullen de gesprekvoerders hun kijk geven over dit onderwerp en verschillende perspectieven samenbrengen. \ntickets: https://www.eventbrite.nl/e/736600581167?aff=oddtdtcreator
URL:https://www.kazernereigersbos.org/event/ocho-ibs-presents-kings-panel/
LOCATION:Remise\, Remmerdenplein 100\, Amsterdam\, 1106 AK\, Nederland
CATEGORIES:ADE
ATTACH;FMTTYPE=image/jpeg:https://www.kazernereigersbos.org/wp-content/uploads/2023/10/ADE.jpg
END:VEVENT
BEGIN:VEVENT
DTSTART;TZID=UTC:20231019T060000
DTEND;TZID=UTC:20231019T230000
DTSTAMP:20260422T011807
CREATED:20231013T125123Z
LAST-MODIFIED:20231013T125728Z
UID:10000006-1697695200-1697756400@www.kazernereigersbos.org
SUMMARY:Pretty Girls Love Trapmusic presents Ladies first: Trapgirls in a Trappers world
DESCRIPTION:Tickets: https://eventix.shop/29sf69b7
URL:https://www.kazernereigersbos.org/event/pretty-girls-love-trapmusic-presents-ladies-first-trapgirls-in-a-trappers-world/
LOCATION:Remise\, Remmerdenplein 100\, Amsterdam\, 1106 AK\, Nederland
CATEGORIES:ADE
ATTACH;FMTTYPE=image/jpeg:https://www.kazernereigersbos.org/wp-content/uploads/2023/10/ADE.jpg
END:VEVENT
BEGIN:VEVENT
DTSTART;TZID=UTC:20231018T180000
DTEND;TZID=UTC:20231018T230000
DTSTAMP:20260422T011807
CREATED:20231013T122748Z
LAST-MODIFIED:20231023T101137Z
UID:10000004-1697652000-1697670000@www.kazernereigersbos.org
SUMMARY:House of Jungle presents Afro electronic music panel
DESCRIPTION:In samenwerking met lokatie De Kazerne Reigersbos organiseert bipoc DJ collectief ‘House Of Jungle’ tijdens ADEZO een interactieve afro elektronische music panel. Het evenement is een get-together waarin professionals uit de industrie in gesprek gaan over de muziekscene. Het panel bestaat uit Unruly Phoenix\, Doulou\, Osborne (Stewww) en House Of Jungle met Dija van Studio Kabba die het gesprek leidt. DJ & saxofonist Szhongo verwelkomt de gasten bij de inloop en na het panel is er ruimte voor een Q&A en zullen DJ’s; InkedRebelle\, Lexi D en Jollyfish de avond afsluiten. De genre’s die je kunt verwachten zijn; Afrohouse\, Afrotech\, Afrobeat\, Amapiano. \ntickets: https://www.eventbrite.nl/e/735486268227?aff=oddtdtcreator 
URL:https://www.kazernereigersbos.org/event/house-of-jungle-presents-afro-electronic-music-panel/
LOCATION:Remise\, Remmerdenplein 100\, Amsterdam\, 1106 AK\, Nederland
CATEGORIES:ADE
ATTACH;FMTTYPE=image/jpeg:https://www.kazernereigersbos.org/wp-content/uploads/2023/10/ADE.jpg
END:VEVENT
END:VCALENDAR