BEGIN:VCALENDAR
VERSION:2.0
PRODID:-//Kazerne Reigersbos - ECPv6.15.20//NONSGML v1.0//EN
CALSCALE:GREGORIAN
METHOD:PUBLISH
X-WR-CALNAME:Kazerne Reigersbos
X-ORIGINAL-URL:https://www.kazernereigersbos.org
X-WR-CALDESC:Evenementen voor Kazerne Reigersbos
REFRESH-INTERVAL;VALUE=DURATION:PT1H
X-Robots-Tag:noindex
X-PUBLISHED-TTL:PT1H
BEGIN:VTIMEZONE
TZID:UTC
BEGIN:STANDARD
TZOFFSETFROM:+0000
TZOFFSETTO:+0000
TZNAME:UTC
DTSTART:20270101T000000
END:STANDARD
END:VTIMEZONE
BEGIN:VEVENT
DTSTART;TZID=UTC:20280519T150000
DTEND;TZID=UTC:20280519T190000
DTSTAMP:20260424T182427
CREATED:20250822T083403Z
LAST-MODIFIED:20251219T125535Z
UID:10000447-1842361200-1842375600@www.kazernereigersbos.org
SUMMARY:Jongerendag - elke vrijdag
DESCRIPTION:📅 Elke vrijdag | ⏰ 15:00 – 19:00 | 📍 Remise | 🎯 Voor jongeren (10-16 jaar) \nBen jij tussen de 10 en 16 jaar en op zoek naar een toffe plek om je vrijdagmiddag door te brengen? Kom dan naar onze Jongerendag! We bieden een leuke middag vol activiteiten. \nWat kun je verwachten?\n📚 Naschoolse activiteiten – Leren\, ontmoeten en groeien\n🛠️ Workshops & praktische vaardigheden – Ontdek nieuwe talenten\n🎨 Creatieve expressie – Kunst\, muziek & dans\n🎮 Games & films – Ontspanning en fun na school
URL:https://www.kazernereigersbos.org/event/jongerendag-2/2028-05-19/
LOCATION:Remise\, Remmerdenplein 100\, Amsterdam\, 1106 AK\, Nederland
CATEGORIES:Buurt
ATTACH;FMTTYPE=image/jpeg:https://www.kazernereigersbos.org/wp-content/uploads/2025/03/f6c30791-f38c-4a9c-9b5e-2d4b6d6790a2.jpeg
END:VEVENT
BEGIN:VEVENT
DTSTART;TZID=UTC:20280523T193000
DTEND;TZID=UTC:20280523T213000
DTSTAMP:20260424T182427
CREATED:20250819T104052Z
LAST-MODIFIED:20251219T130324Z
UID:10001012-1842723000-1842730200@www.kazernereigersbos.org
SUMMARY:Salsa lessen – elke dinsdag
DESCRIPTION:Zet je week in beweging met een salsales van SalsaFactor bij ons in de Remise. \nOnder begeleiding van ervaren docenten leer je de populaire L.A. Style. De lessen zijn toegankelijk voor zowel beginners als gevorderden\, met veel persoonlijke aandacht en een ontspannen sfeer. \nKlik hier voor meer informatie en aanmelding voor (proef)lessen!
URL:https://www.kazernereigersbos.org/event/salsa-lessen-elke-dinsdag/2028-05-23/
LOCATION:Remise\, Remmerdenplein 100\, Amsterdam\, 1106 AK\, Nederland
CATEGORIES:Sport
ATTACH;FMTTYPE=image/jpeg:https://www.kazernereigersbos.org/wp-content/uploads/2025/08/1301584-scaled.jpg
END:VEVENT
BEGIN:VEVENT
DTSTART;TZID=UTC:20280524T090000
DTEND;TZID=UTC:20280524T160000
DTSTAMP:20260424T182427
CREATED:20260408T142539Z
LAST-MODIFIED:20260408T142541Z
UID:10001547-1842771600-1842796800@www.kazernereigersbos.org
SUMMARY:Tante Nel's buurtmarkt - elke woensdag
DESCRIPTION:Woensdag is marktdag bij Tante Nel! \nSnuffel tussen de leukste tweedehands vondsten\, ontdek verborgen schatten en geniet van de gezellige sfeer in de tuin. Iedere zaterdag van 9.00 tot 16.00 uur ben je van harte welkom op de Buurtmarkt van Tante Nel bij ons in de tuin.
URL:https://www.kazernereigersbos.org/event/tante-nels-buurtmarkt-elke-zaterdag-2/2028-05-24/
LOCATION:Buitenwerkplaats de Kazerne
CATEGORIES:Buurt
ATTACH;FMTTYPE=image/jpeg:https://www.kazernereigersbos.org/wp-content/uploads/2025/04/1289436-scaled.jpg
END:VEVENT
BEGIN:VEVENT
DTSTART;TZID=UTC:20280526T150000
DTEND;TZID=UTC:20280526T190000
DTSTAMP:20260424T182427
CREATED:20250822T083403Z
LAST-MODIFIED:20251219T125535Z
UID:10000448-1842966000-1842980400@www.kazernereigersbos.org
SUMMARY:Jongerendag - elke vrijdag
DESCRIPTION:📅 Elke vrijdag | ⏰ 15:00 – 19:00 | 📍 Remise | 🎯 Voor jongeren (10-16 jaar) \nBen jij tussen de 10 en 16 jaar en op zoek naar een toffe plek om je vrijdagmiddag door te brengen? Kom dan naar onze Jongerendag! We bieden een leuke middag vol activiteiten. \nWat kun je verwachten?\n📚 Naschoolse activiteiten – Leren\, ontmoeten en groeien\n🛠️ Workshops & praktische vaardigheden – Ontdek nieuwe talenten\n🎨 Creatieve expressie – Kunst\, muziek & dans\n🎮 Games & films – Ontspanning en fun na school
URL:https://www.kazernereigersbos.org/event/jongerendag-2/2028-05-26/
LOCATION:Remise\, Remmerdenplein 100\, Amsterdam\, 1106 AK\, Nederland
CATEGORIES:Buurt
ATTACH;FMTTYPE=image/jpeg:https://www.kazernereigersbos.org/wp-content/uploads/2025/03/f6c30791-f38c-4a9c-9b5e-2d4b6d6790a2.jpeg
END:VEVENT
BEGIN:VEVENT
DTSTART;TZID=UTC:20280530T193000
DTEND;TZID=UTC:20280530T213000
DTSTAMP:20260424T182427
CREATED:20250819T104052Z
LAST-MODIFIED:20251219T130324Z
UID:10001013-1843327800-1843335000@www.kazernereigersbos.org
SUMMARY:Salsa lessen – elke dinsdag
DESCRIPTION:Zet je week in beweging met een salsales van SalsaFactor bij ons in de Remise. \nOnder begeleiding van ervaren docenten leer je de populaire L.A. Style. De lessen zijn toegankelijk voor zowel beginners als gevorderden\, met veel persoonlijke aandacht en een ontspannen sfeer. \nKlik hier voor meer informatie en aanmelding voor (proef)lessen!
URL:https://www.kazernereigersbos.org/event/salsa-lessen-elke-dinsdag/2028-05-30/
LOCATION:Remise\, Remmerdenplein 100\, Amsterdam\, 1106 AK\, Nederland
CATEGORIES:Sport
ATTACH;FMTTYPE=image/jpeg:https://www.kazernereigersbos.org/wp-content/uploads/2025/08/1301584-scaled.jpg
END:VEVENT
BEGIN:VEVENT
DTSTART;TZID=UTC:20280531T090000
DTEND;TZID=UTC:20280531T160000
DTSTAMP:20260424T182427
CREATED:20260408T142539Z
LAST-MODIFIED:20260408T142541Z
UID:10001548-1843376400-1843401600@www.kazernereigersbos.org
SUMMARY:Tante Nel's buurtmarkt - elke woensdag
DESCRIPTION:Woensdag is marktdag bij Tante Nel! \nSnuffel tussen de leukste tweedehands vondsten\, ontdek verborgen schatten en geniet van de gezellige sfeer in de tuin. Iedere zaterdag van 9.00 tot 16.00 uur ben je van harte welkom op de Buurtmarkt van Tante Nel bij ons in de tuin.
URL:https://www.kazernereigersbos.org/event/tante-nels-buurtmarkt-elke-zaterdag-2/2028-05-31/
LOCATION:Buitenwerkplaats de Kazerne
CATEGORIES:Buurt
ATTACH;FMTTYPE=image/jpeg:https://www.kazernereigersbos.org/wp-content/uploads/2025/04/1289436-scaled.jpg
END:VEVENT
BEGIN:VEVENT
DTSTART;TZID=UTC:20280602T150000
DTEND;TZID=UTC:20280602T190000
DTSTAMP:20260424T182427
CREATED:20250822T083403Z
LAST-MODIFIED:20251219T125535Z
UID:10000449-1843570800-1843585200@www.kazernereigersbos.org
SUMMARY:Jongerendag - elke vrijdag
DESCRIPTION:📅 Elke vrijdag | ⏰ 15:00 – 19:00 | 📍 Remise | 🎯 Voor jongeren (10-16 jaar) \nBen jij tussen de 10 en 16 jaar en op zoek naar een toffe plek om je vrijdagmiddag door te brengen? Kom dan naar onze Jongerendag! We bieden een leuke middag vol activiteiten. \nWat kun je verwachten?\n📚 Naschoolse activiteiten – Leren\, ontmoeten en groeien\n🛠️ Workshops & praktische vaardigheden – Ontdek nieuwe talenten\n🎨 Creatieve expressie – Kunst\, muziek & dans\n🎮 Games & films – Ontspanning en fun na school
URL:https://www.kazernereigersbos.org/event/jongerendag-2/2028-06-02/
LOCATION:Remise\, Remmerdenplein 100\, Amsterdam\, 1106 AK\, Nederland
CATEGORIES:Buurt
ATTACH;FMTTYPE=image/jpeg:https://www.kazernereigersbos.org/wp-content/uploads/2025/03/f6c30791-f38c-4a9c-9b5e-2d4b6d6790a2.jpeg
END:VEVENT
BEGIN:VEVENT
DTSTART;TZID=UTC:20280606T193000
DTEND;TZID=UTC:20280606T213000
DTSTAMP:20260424T182427
CREATED:20250819T104052Z
LAST-MODIFIED:20251219T130324Z
UID:10001014-1843932600-1843939800@www.kazernereigersbos.org
SUMMARY:Salsa lessen – elke dinsdag
DESCRIPTION:Zet je week in beweging met een salsales van SalsaFactor bij ons in de Remise. \nOnder begeleiding van ervaren docenten leer je de populaire L.A. Style. De lessen zijn toegankelijk voor zowel beginners als gevorderden\, met veel persoonlijke aandacht en een ontspannen sfeer. \nKlik hier voor meer informatie en aanmelding voor (proef)lessen!
URL:https://www.kazernereigersbos.org/event/salsa-lessen-elke-dinsdag/2028-06-06/
LOCATION:Remise\, Remmerdenplein 100\, Amsterdam\, 1106 AK\, Nederland
CATEGORIES:Sport
ATTACH;FMTTYPE=image/jpeg:https://www.kazernereigersbos.org/wp-content/uploads/2025/08/1301584-scaled.jpg
END:VEVENT
BEGIN:VEVENT
DTSTART;TZID=UTC:20280607T090000
DTEND;TZID=UTC:20280607T160000
DTSTAMP:20260424T182427
CREATED:20260408T142539Z
LAST-MODIFIED:20260408T142541Z
UID:10001549-1843981200-1844006400@www.kazernereigersbos.org
SUMMARY:Tante Nel's buurtmarkt - elke woensdag
DESCRIPTION:Woensdag is marktdag bij Tante Nel! \nSnuffel tussen de leukste tweedehands vondsten\, ontdek verborgen schatten en geniet van de gezellige sfeer in de tuin. Iedere zaterdag van 9.00 tot 16.00 uur ben je van harte welkom op de Buurtmarkt van Tante Nel bij ons in de tuin.
URL:https://www.kazernereigersbos.org/event/tante-nels-buurtmarkt-elke-zaterdag-2/2028-06-07/
LOCATION:Buitenwerkplaats de Kazerne
CATEGORIES:Buurt
ATTACH;FMTTYPE=image/jpeg:https://www.kazernereigersbos.org/wp-content/uploads/2025/04/1289436-scaled.jpg
END:VEVENT
BEGIN:VEVENT
DTSTART;TZID=UTC:20280609T150000
DTEND;TZID=UTC:20280609T190000
DTSTAMP:20260424T182427
CREATED:20250822T083403Z
LAST-MODIFIED:20251219T125535Z
UID:10000450-1844175600-1844190000@www.kazernereigersbos.org
SUMMARY:Jongerendag - elke vrijdag
DESCRIPTION:📅 Elke vrijdag | ⏰ 15:00 – 19:00 | 📍 Remise | 🎯 Voor jongeren (10-16 jaar) \nBen jij tussen de 10 en 16 jaar en op zoek naar een toffe plek om je vrijdagmiddag door te brengen? Kom dan naar onze Jongerendag! We bieden een leuke middag vol activiteiten. \nWat kun je verwachten?\n📚 Naschoolse activiteiten – Leren\, ontmoeten en groeien\n🛠️ Workshops & praktische vaardigheden – Ontdek nieuwe talenten\n🎨 Creatieve expressie – Kunst\, muziek & dans\n🎮 Games & films – Ontspanning en fun na school
URL:https://www.kazernereigersbos.org/event/jongerendag-2/2028-06-09/
LOCATION:Remise\, Remmerdenplein 100\, Amsterdam\, 1106 AK\, Nederland
CATEGORIES:Buurt
ATTACH;FMTTYPE=image/jpeg:https://www.kazernereigersbos.org/wp-content/uploads/2025/03/f6c30791-f38c-4a9c-9b5e-2d4b6d6790a2.jpeg
END:VEVENT
BEGIN:VEVENT
DTSTART;TZID=UTC:20280613T193000
DTEND;TZID=UTC:20280613T213000
DTSTAMP:20260424T182427
CREATED:20250819T104052Z
LAST-MODIFIED:20251219T130324Z
UID:10001015-1844537400-1844544600@www.kazernereigersbos.org
SUMMARY:Salsa lessen – elke dinsdag
DESCRIPTION:Zet je week in beweging met een salsales van SalsaFactor bij ons in de Remise. \nOnder begeleiding van ervaren docenten leer je de populaire L.A. Style. De lessen zijn toegankelijk voor zowel beginners als gevorderden\, met veel persoonlijke aandacht en een ontspannen sfeer. \nKlik hier voor meer informatie en aanmelding voor (proef)lessen!
URL:https://www.kazernereigersbos.org/event/salsa-lessen-elke-dinsdag/2028-06-13/
LOCATION:Remise\, Remmerdenplein 100\, Amsterdam\, 1106 AK\, Nederland
CATEGORIES:Sport
ATTACH;FMTTYPE=image/jpeg:https://www.kazernereigersbos.org/wp-content/uploads/2025/08/1301584-scaled.jpg
END:VEVENT
BEGIN:VEVENT
DTSTART;TZID=UTC:20280614T090000
DTEND;TZID=UTC:20280614T160000
DTSTAMP:20260424T182427
CREATED:20260408T142539Z
LAST-MODIFIED:20260408T142541Z
UID:10001550-1844586000-1844611200@www.kazernereigersbos.org
SUMMARY:Tante Nel's buurtmarkt - elke woensdag
DESCRIPTION:Woensdag is marktdag bij Tante Nel! \nSnuffel tussen de leukste tweedehands vondsten\, ontdek verborgen schatten en geniet van de gezellige sfeer in de tuin. Iedere zaterdag van 9.00 tot 16.00 uur ben je van harte welkom op de Buurtmarkt van Tante Nel bij ons in de tuin.
URL:https://www.kazernereigersbos.org/event/tante-nels-buurtmarkt-elke-zaterdag-2/2028-06-14/
LOCATION:Buitenwerkplaats de Kazerne
CATEGORIES:Buurt
ATTACH;FMTTYPE=image/jpeg:https://www.kazernereigersbos.org/wp-content/uploads/2025/04/1289436-scaled.jpg
END:VEVENT
BEGIN:VEVENT
DTSTART;TZID=UTC:20280616T150000
DTEND;TZID=UTC:20280616T190000
DTSTAMP:20260424T182427
CREATED:20250822T083403Z
LAST-MODIFIED:20251219T125535Z
UID:10000451-1844780400-1844794800@www.kazernereigersbos.org
SUMMARY:Jongerendag - elke vrijdag
DESCRIPTION:📅 Elke vrijdag | ⏰ 15:00 – 19:00 | 📍 Remise | 🎯 Voor jongeren (10-16 jaar) \nBen jij tussen de 10 en 16 jaar en op zoek naar een toffe plek om je vrijdagmiddag door te brengen? Kom dan naar onze Jongerendag! We bieden een leuke middag vol activiteiten. \nWat kun je verwachten?\n📚 Naschoolse activiteiten – Leren\, ontmoeten en groeien\n🛠️ Workshops & praktische vaardigheden – Ontdek nieuwe talenten\n🎨 Creatieve expressie – Kunst\, muziek & dans\n🎮 Games & films – Ontspanning en fun na school
URL:https://www.kazernereigersbos.org/event/jongerendag-2/2028-06-16/
LOCATION:Remise\, Remmerdenplein 100\, Amsterdam\, 1106 AK\, Nederland
CATEGORIES:Buurt
ATTACH;FMTTYPE=image/jpeg:https://www.kazernereigersbos.org/wp-content/uploads/2025/03/f6c30791-f38c-4a9c-9b5e-2d4b6d6790a2.jpeg
END:VEVENT
BEGIN:VEVENT
DTSTART;TZID=UTC:20280620T193000
DTEND;TZID=UTC:20280620T213000
DTSTAMP:20260424T182427
CREATED:20250819T104052Z
LAST-MODIFIED:20251219T130324Z
UID:10001016-1845142200-1845149400@www.kazernereigersbos.org
SUMMARY:Salsa lessen – elke dinsdag
DESCRIPTION:Zet je week in beweging met een salsales van SalsaFactor bij ons in de Remise. \nOnder begeleiding van ervaren docenten leer je de populaire L.A. Style. De lessen zijn toegankelijk voor zowel beginners als gevorderden\, met veel persoonlijke aandacht en een ontspannen sfeer. \nKlik hier voor meer informatie en aanmelding voor (proef)lessen!
URL:https://www.kazernereigersbos.org/event/salsa-lessen-elke-dinsdag/2028-06-20/
LOCATION:Remise\, Remmerdenplein 100\, Amsterdam\, 1106 AK\, Nederland
CATEGORIES:Sport
ATTACH;FMTTYPE=image/jpeg:https://www.kazernereigersbos.org/wp-content/uploads/2025/08/1301584-scaled.jpg
END:VEVENT
BEGIN:VEVENT
DTSTART;TZID=UTC:20280621T090000
DTEND;TZID=UTC:20280621T160000
DTSTAMP:20260424T182427
CREATED:20260408T142539Z
LAST-MODIFIED:20260408T142541Z
UID:10001551-1845190800-1845216000@www.kazernereigersbos.org
SUMMARY:Tante Nel's buurtmarkt - elke woensdag
DESCRIPTION:Woensdag is marktdag bij Tante Nel! \nSnuffel tussen de leukste tweedehands vondsten\, ontdek verborgen schatten en geniet van de gezellige sfeer in de tuin. Iedere zaterdag van 9.00 tot 16.00 uur ben je van harte welkom op de Buurtmarkt van Tante Nel bij ons in de tuin.
URL:https://www.kazernereigersbos.org/event/tante-nels-buurtmarkt-elke-zaterdag-2/2028-06-21/
LOCATION:Buitenwerkplaats de Kazerne
CATEGORIES:Buurt
ATTACH;FMTTYPE=image/jpeg:https://www.kazernereigersbos.org/wp-content/uploads/2025/04/1289436-scaled.jpg
END:VEVENT
BEGIN:VEVENT
DTSTART;TZID=UTC:20280623T150000
DTEND;TZID=UTC:20280623T190000
DTSTAMP:20260424T182427
CREATED:20250822T083403Z
LAST-MODIFIED:20251219T125535Z
UID:10000452-1845385200-1845399600@www.kazernereigersbos.org
SUMMARY:Jongerendag - elke vrijdag
DESCRIPTION:📅 Elke vrijdag | ⏰ 15:00 – 19:00 | 📍 Remise | 🎯 Voor jongeren (10-16 jaar) \nBen jij tussen de 10 en 16 jaar en op zoek naar een toffe plek om je vrijdagmiddag door te brengen? Kom dan naar onze Jongerendag! We bieden een leuke middag vol activiteiten. \nWat kun je verwachten?\n📚 Naschoolse activiteiten – Leren\, ontmoeten en groeien\n🛠️ Workshops & praktische vaardigheden – Ontdek nieuwe talenten\n🎨 Creatieve expressie – Kunst\, muziek & dans\n🎮 Games & films – Ontspanning en fun na school
URL:https://www.kazernereigersbos.org/event/jongerendag-2/2028-06-23/
LOCATION:Remise\, Remmerdenplein 100\, Amsterdam\, 1106 AK\, Nederland
CATEGORIES:Buurt
ATTACH;FMTTYPE=image/jpeg:https://www.kazernereigersbos.org/wp-content/uploads/2025/03/f6c30791-f38c-4a9c-9b5e-2d4b6d6790a2.jpeg
END:VEVENT
BEGIN:VEVENT
DTSTART;TZID=UTC:20280627T193000
DTEND;TZID=UTC:20280627T213000
DTSTAMP:20260424T182427
CREATED:20250819T104052Z
LAST-MODIFIED:20251219T130324Z
UID:10001017-1845747000-1845754200@www.kazernereigersbos.org
SUMMARY:Salsa lessen – elke dinsdag
DESCRIPTION:Zet je week in beweging met een salsales van SalsaFactor bij ons in de Remise. \nOnder begeleiding van ervaren docenten leer je de populaire L.A. Style. De lessen zijn toegankelijk voor zowel beginners als gevorderden\, met veel persoonlijke aandacht en een ontspannen sfeer. \nKlik hier voor meer informatie en aanmelding voor (proef)lessen!
URL:https://www.kazernereigersbos.org/event/salsa-lessen-elke-dinsdag/2028-06-27/
LOCATION:Remise\, Remmerdenplein 100\, Amsterdam\, 1106 AK\, Nederland
CATEGORIES:Sport
ATTACH;FMTTYPE=image/jpeg:https://www.kazernereigersbos.org/wp-content/uploads/2025/08/1301584-scaled.jpg
END:VEVENT
BEGIN:VEVENT
DTSTART;TZID=UTC:20280628T090000
DTEND;TZID=UTC:20280628T160000
DTSTAMP:20260424T182427
CREATED:20260408T142539Z
LAST-MODIFIED:20260408T142541Z
UID:10001552-1845795600-1845820800@www.kazernereigersbos.org
SUMMARY:Tante Nel's buurtmarkt - elke woensdag
DESCRIPTION:Woensdag is marktdag bij Tante Nel! \nSnuffel tussen de leukste tweedehands vondsten\, ontdek verborgen schatten en geniet van de gezellige sfeer in de tuin. Iedere zaterdag van 9.00 tot 16.00 uur ben je van harte welkom op de Buurtmarkt van Tante Nel bij ons in de tuin.
URL:https://www.kazernereigersbos.org/event/tante-nels-buurtmarkt-elke-zaterdag-2/2028-06-28/
LOCATION:Buitenwerkplaats de Kazerne
CATEGORIES:Buurt
ATTACH;FMTTYPE=image/jpeg:https://www.kazernereigersbos.org/wp-content/uploads/2025/04/1289436-scaled.jpg
END:VEVENT
BEGIN:VEVENT
DTSTART;TZID=UTC:20280630T150000
DTEND;TZID=UTC:20280630T190000
DTSTAMP:20260424T182427
CREATED:20250822T083403Z
LAST-MODIFIED:20251219T125535Z
UID:10000453-1845990000-1846004400@www.kazernereigersbos.org
SUMMARY:Jongerendag - elke vrijdag
DESCRIPTION:📅 Elke vrijdag | ⏰ 15:00 – 19:00 | 📍 Remise | 🎯 Voor jongeren (10-16 jaar) \nBen jij tussen de 10 en 16 jaar en op zoek naar een toffe plek om je vrijdagmiddag door te brengen? Kom dan naar onze Jongerendag! We bieden een leuke middag vol activiteiten. \nWat kun je verwachten?\n📚 Naschoolse activiteiten – Leren\, ontmoeten en groeien\n🛠️ Workshops & praktische vaardigheden – Ontdek nieuwe talenten\n🎨 Creatieve expressie – Kunst\, muziek & dans\n🎮 Games & films – Ontspanning en fun na school
URL:https://www.kazernereigersbos.org/event/jongerendag-2/2028-06-30/
LOCATION:Remise\, Remmerdenplein 100\, Amsterdam\, 1106 AK\, Nederland
CATEGORIES:Buurt
ATTACH;FMTTYPE=image/jpeg:https://www.kazernereigersbos.org/wp-content/uploads/2025/03/f6c30791-f38c-4a9c-9b5e-2d4b6d6790a2.jpeg
END:VEVENT
BEGIN:VEVENT
DTSTART;TZID=UTC:20280704T193000
DTEND;TZID=UTC:20280704T213000
DTSTAMP:20260424T182427
CREATED:20250819T104052Z
LAST-MODIFIED:20251219T130324Z
UID:10001018-1846351800-1846359000@www.kazernereigersbos.org
SUMMARY:Salsa lessen – elke dinsdag
DESCRIPTION:Zet je week in beweging met een salsales van SalsaFactor bij ons in de Remise. \nOnder begeleiding van ervaren docenten leer je de populaire L.A. Style. De lessen zijn toegankelijk voor zowel beginners als gevorderden\, met veel persoonlijke aandacht en een ontspannen sfeer. \nKlik hier voor meer informatie en aanmelding voor (proef)lessen!
URL:https://www.kazernereigersbos.org/event/salsa-lessen-elke-dinsdag/2028-07-04/
LOCATION:Remise\, Remmerdenplein 100\, Amsterdam\, 1106 AK\, Nederland
CATEGORIES:Sport
ATTACH;FMTTYPE=image/jpeg:https://www.kazernereigersbos.org/wp-content/uploads/2025/08/1301584-scaled.jpg
END:VEVENT
BEGIN:VEVENT
DTSTART;TZID=UTC:20280705T090000
DTEND;TZID=UTC:20280705T160000
DTSTAMP:20260424T182427
CREATED:20260408T142539Z
LAST-MODIFIED:20260408T142541Z
UID:10001553-1846400400-1846425600@www.kazernereigersbos.org
SUMMARY:Tante Nel's buurtmarkt - elke woensdag
DESCRIPTION:Woensdag is marktdag bij Tante Nel! \nSnuffel tussen de leukste tweedehands vondsten\, ontdek verborgen schatten en geniet van de gezellige sfeer in de tuin. Iedere zaterdag van 9.00 tot 16.00 uur ben je van harte welkom op de Buurtmarkt van Tante Nel bij ons in de tuin.
URL:https://www.kazernereigersbos.org/event/tante-nels-buurtmarkt-elke-zaterdag-2/2028-07-05/
LOCATION:Buitenwerkplaats de Kazerne
CATEGORIES:Buurt
ATTACH;FMTTYPE=image/jpeg:https://www.kazernereigersbos.org/wp-content/uploads/2025/04/1289436-scaled.jpg
END:VEVENT
BEGIN:VEVENT
DTSTART;TZID=UTC:20280707T150000
DTEND;TZID=UTC:20280707T190000
DTSTAMP:20260424T182427
CREATED:20250822T083403Z
LAST-MODIFIED:20251219T125535Z
UID:10000454-1846594800-1846609200@www.kazernereigersbos.org
SUMMARY:Jongerendag - elke vrijdag
DESCRIPTION:📅 Elke vrijdag | ⏰ 15:00 – 19:00 | 📍 Remise | 🎯 Voor jongeren (10-16 jaar) \nBen jij tussen de 10 en 16 jaar en op zoek naar een toffe plek om je vrijdagmiddag door te brengen? Kom dan naar onze Jongerendag! We bieden een leuke middag vol activiteiten. \nWat kun je verwachten?\n📚 Naschoolse activiteiten – Leren\, ontmoeten en groeien\n🛠️ Workshops & praktische vaardigheden – Ontdek nieuwe talenten\n🎨 Creatieve expressie – Kunst\, muziek & dans\n🎮 Games & films – Ontspanning en fun na school
URL:https://www.kazernereigersbos.org/event/jongerendag-2/2028-07-07/
LOCATION:Remise\, Remmerdenplein 100\, Amsterdam\, 1106 AK\, Nederland
CATEGORIES:Buurt
ATTACH;FMTTYPE=image/jpeg:https://www.kazernereigersbos.org/wp-content/uploads/2025/03/f6c30791-f38c-4a9c-9b5e-2d4b6d6790a2.jpeg
END:VEVENT
BEGIN:VEVENT
DTSTART;TZID=UTC:20280711T193000
DTEND;TZID=UTC:20280711T213000
DTSTAMP:20260424T182427
CREATED:20250819T104052Z
LAST-MODIFIED:20251219T130324Z
UID:10001019-1846956600-1846963800@www.kazernereigersbos.org
SUMMARY:Salsa lessen – elke dinsdag
DESCRIPTION:Zet je week in beweging met een salsales van SalsaFactor bij ons in de Remise. \nOnder begeleiding van ervaren docenten leer je de populaire L.A. Style. De lessen zijn toegankelijk voor zowel beginners als gevorderden\, met veel persoonlijke aandacht en een ontspannen sfeer. \nKlik hier voor meer informatie en aanmelding voor (proef)lessen!
URL:https://www.kazernereigersbos.org/event/salsa-lessen-elke-dinsdag/2028-07-11/
LOCATION:Remise\, Remmerdenplein 100\, Amsterdam\, 1106 AK\, Nederland
CATEGORIES:Sport
ATTACH;FMTTYPE=image/jpeg:https://www.kazernereigersbos.org/wp-content/uploads/2025/08/1301584-scaled.jpg
END:VEVENT
BEGIN:VEVENT
DTSTART;TZID=UTC:20280712T090000
DTEND;TZID=UTC:20280712T160000
DTSTAMP:20260424T182427
CREATED:20260408T142539Z
LAST-MODIFIED:20260408T142541Z
UID:10001554-1847005200-1847030400@www.kazernereigersbos.org
SUMMARY:Tante Nel's buurtmarkt - elke woensdag
DESCRIPTION:Woensdag is marktdag bij Tante Nel! \nSnuffel tussen de leukste tweedehands vondsten\, ontdek verborgen schatten en geniet van de gezellige sfeer in de tuin. Iedere zaterdag van 9.00 tot 16.00 uur ben je van harte welkom op de Buurtmarkt van Tante Nel bij ons in de tuin.
URL:https://www.kazernereigersbos.org/event/tante-nels-buurtmarkt-elke-zaterdag-2/2028-07-12/
LOCATION:Buitenwerkplaats de Kazerne
CATEGORIES:Buurt
ATTACH;FMTTYPE=image/jpeg:https://www.kazernereigersbos.org/wp-content/uploads/2025/04/1289436-scaled.jpg
END:VEVENT
BEGIN:VEVENT
DTSTART;TZID=UTC:20280714T150000
DTEND;TZID=UTC:20280714T190000
DTSTAMP:20260424T182427
CREATED:20250822T083403Z
LAST-MODIFIED:20251219T125535Z
UID:10000455-1847199600-1847214000@www.kazernereigersbos.org
SUMMARY:Jongerendag - elke vrijdag
DESCRIPTION:📅 Elke vrijdag | ⏰ 15:00 – 19:00 | 📍 Remise | 🎯 Voor jongeren (10-16 jaar) \nBen jij tussen de 10 en 16 jaar en op zoek naar een toffe plek om je vrijdagmiddag door te brengen? Kom dan naar onze Jongerendag! We bieden een leuke middag vol activiteiten. \nWat kun je verwachten?\n📚 Naschoolse activiteiten – Leren\, ontmoeten en groeien\n🛠️ Workshops & praktische vaardigheden – Ontdek nieuwe talenten\n🎨 Creatieve expressie – Kunst\, muziek & dans\n🎮 Games & films – Ontspanning en fun na school
URL:https://www.kazernereigersbos.org/event/jongerendag-2/2028-07-14/
LOCATION:Remise\, Remmerdenplein 100\, Amsterdam\, 1106 AK\, Nederland
CATEGORIES:Buurt
ATTACH;FMTTYPE=image/jpeg:https://www.kazernereigersbos.org/wp-content/uploads/2025/03/f6c30791-f38c-4a9c-9b5e-2d4b6d6790a2.jpeg
END:VEVENT
BEGIN:VEVENT
DTSTART;TZID=UTC:20280718T193000
DTEND;TZID=UTC:20280718T213000
DTSTAMP:20260424T182427
CREATED:20250819T104052Z
LAST-MODIFIED:20251219T130324Z
UID:10001020-1847561400-1847568600@www.kazernereigersbos.org
SUMMARY:Salsa lessen – elke dinsdag
DESCRIPTION:Zet je week in beweging met een salsales van SalsaFactor bij ons in de Remise. \nOnder begeleiding van ervaren docenten leer je de populaire L.A. Style. De lessen zijn toegankelijk voor zowel beginners als gevorderden\, met veel persoonlijke aandacht en een ontspannen sfeer. \nKlik hier voor meer informatie en aanmelding voor (proef)lessen!
URL:https://www.kazernereigersbos.org/event/salsa-lessen-elke-dinsdag/2028-07-18/
LOCATION:Remise\, Remmerdenplein 100\, Amsterdam\, 1106 AK\, Nederland
CATEGORIES:Sport
ATTACH;FMTTYPE=image/jpeg:https://www.kazernereigersbos.org/wp-content/uploads/2025/08/1301584-scaled.jpg
END:VEVENT
BEGIN:VEVENT
DTSTART;TZID=UTC:20280719T090000
DTEND;TZID=UTC:20280719T160000
DTSTAMP:20260424T182427
CREATED:20260408T142539Z
LAST-MODIFIED:20260408T142541Z
UID:10001555-1847610000-1847635200@www.kazernereigersbos.org
SUMMARY:Tante Nel's buurtmarkt - elke woensdag
DESCRIPTION:Woensdag is marktdag bij Tante Nel! \nSnuffel tussen de leukste tweedehands vondsten\, ontdek verborgen schatten en geniet van de gezellige sfeer in de tuin. Iedere zaterdag van 9.00 tot 16.00 uur ben je van harte welkom op de Buurtmarkt van Tante Nel bij ons in de tuin.
URL:https://www.kazernereigersbos.org/event/tante-nels-buurtmarkt-elke-zaterdag-2/2028-07-19/
LOCATION:Buitenwerkplaats de Kazerne
CATEGORIES:Buurt
ATTACH;FMTTYPE=image/jpeg:https://www.kazernereigersbos.org/wp-content/uploads/2025/04/1289436-scaled.jpg
END:VEVENT
BEGIN:VEVENT
DTSTART;TZID=UTC:20280721T150000
DTEND;TZID=UTC:20280721T190000
DTSTAMP:20260424T182427
CREATED:20250822T083403Z
LAST-MODIFIED:20251219T125535Z
UID:10000456-1847804400-1847818800@www.kazernereigersbos.org
SUMMARY:Jongerendag - elke vrijdag
DESCRIPTION:📅 Elke vrijdag | ⏰ 15:00 – 19:00 | 📍 Remise | 🎯 Voor jongeren (10-16 jaar) \nBen jij tussen de 10 en 16 jaar en op zoek naar een toffe plek om je vrijdagmiddag door te brengen? Kom dan naar onze Jongerendag! We bieden een leuke middag vol activiteiten. \nWat kun je verwachten?\n📚 Naschoolse activiteiten – Leren\, ontmoeten en groeien\n🛠️ Workshops & praktische vaardigheden – Ontdek nieuwe talenten\n🎨 Creatieve expressie – Kunst\, muziek & dans\n🎮 Games & films – Ontspanning en fun na school
URL:https://www.kazernereigersbos.org/event/jongerendag-2/2028-07-21/
LOCATION:Remise\, Remmerdenplein 100\, Amsterdam\, 1106 AK\, Nederland
CATEGORIES:Buurt
ATTACH;FMTTYPE=image/jpeg:https://www.kazernereigersbos.org/wp-content/uploads/2025/03/f6c30791-f38c-4a9c-9b5e-2d4b6d6790a2.jpeg
END:VEVENT
BEGIN:VEVENT
DTSTART;TZID=UTC:20280725T193000
DTEND;TZID=UTC:20280725T213000
DTSTAMP:20260424T182427
CREATED:20250819T104052Z
LAST-MODIFIED:20251219T130324Z
UID:10001021-1848166200-1848173400@www.kazernereigersbos.org
SUMMARY:Salsa lessen – elke dinsdag
DESCRIPTION:Zet je week in beweging met een salsales van SalsaFactor bij ons in de Remise. \nOnder begeleiding van ervaren docenten leer je de populaire L.A. Style. De lessen zijn toegankelijk voor zowel beginners als gevorderden\, met veel persoonlijke aandacht en een ontspannen sfeer. \nKlik hier voor meer informatie en aanmelding voor (proef)lessen!
URL:https://www.kazernereigersbos.org/event/salsa-lessen-elke-dinsdag/2028-07-25/
LOCATION:Remise\, Remmerdenplein 100\, Amsterdam\, 1106 AK\, Nederland
CATEGORIES:Sport
ATTACH;FMTTYPE=image/jpeg:https://www.kazernereigersbos.org/wp-content/uploads/2025/08/1301584-scaled.jpg
END:VEVENT
BEGIN:VEVENT
DTSTART;TZID=UTC:20280726T090000
DTEND;TZID=UTC:20280726T160000
DTSTAMP:20260424T182427
CREATED:20260408T142539Z
LAST-MODIFIED:20260408T142541Z
UID:10001556-1848214800-1848240000@www.kazernereigersbos.org
SUMMARY:Tante Nel's buurtmarkt - elke woensdag
DESCRIPTION:Woensdag is marktdag bij Tante Nel! \nSnuffel tussen de leukste tweedehands vondsten\, ontdek verborgen schatten en geniet van de gezellige sfeer in de tuin. Iedere zaterdag van 9.00 tot 16.00 uur ben je van harte welkom op de Buurtmarkt van Tante Nel bij ons in de tuin.
URL:https://www.kazernereigersbos.org/event/tante-nels-buurtmarkt-elke-zaterdag-2/2028-07-26/
LOCATION:Buitenwerkplaats de Kazerne
CATEGORIES:Buurt
ATTACH;FMTTYPE=image/jpeg:https://www.kazernereigersbos.org/wp-content/uploads/2025/04/1289436-scaled.jpg
END:VEVENT
END:VCALENDAR