BEGIN:VCALENDAR
VERSION:2.0
PRODID:-//Kazerne Reigersbos - ECPv6.15.20//NONSGML v1.0//EN
CALSCALE:GREGORIAN
METHOD:PUBLISH
X-WR-CALNAME:Kazerne Reigersbos
X-ORIGINAL-URL:https://www.kazernereigersbos.org
X-WR-CALDESC:Evenementen voor Kazerne Reigersbos
REFRESH-INTERVAL;VALUE=DURATION:PT1H
X-Robots-Tag:noindex
X-PUBLISHED-TTL:PT1H
BEGIN:VTIMEZONE
TZID:UTC
BEGIN:STANDARD
TZOFFSETFROM:+0000
TZOFFSETTO:+0000
TZNAME:UTC
DTSTART:20250101T000000
END:STANDARD
END:VTIMEZONE
BEGIN:VEVENT
DTSTART;TZID=UTC:20260519T193000
DTEND;TZID=UTC:20260519T213000
DTSTAMP:20260421T060734
CREATED:20250819T104052Z
LAST-MODIFIED:20251219T130324Z
UID:10000907-1779219000-1779226200@www.kazernereigersbos.org
SUMMARY:Salsa lessen – elke dinsdag
DESCRIPTION:Zet je week in beweging met een salsales van SalsaFactor bij ons in de Remise. \nOnder begeleiding van ervaren docenten leer je de populaire L.A. Style. De lessen zijn toegankelijk voor zowel beginners als gevorderden\, met veel persoonlijke aandacht en een ontspannen sfeer. \nKlik hier voor meer informatie en aanmelding voor (proef)lessen!
URL:https://www.kazernereigersbos.org/event/salsa-lessen-elke-dinsdag/2026-05-19/
LOCATION:Remise\, Remmerdenplein 100\, Amsterdam\, 1106 AK\, Nederland
CATEGORIES:Sport
ATTACH;FMTTYPE=image/jpeg:https://www.kazernereigersbos.org/wp-content/uploads/2025/08/1301584-scaled.jpg
END:VEVENT
BEGIN:VEVENT
DTSTART;TZID=UTC:20260520T090000
DTEND;TZID=UTC:20260520T160000
DTSTAMP:20260421T060734
CREATED:20260408T142539Z
LAST-MODIFIED:20260408T142541Z
UID:10001442-1779267600-1779292800@www.kazernereigersbos.org
SUMMARY:Tante Nel's buurtmarkt - elke woensdag
DESCRIPTION:Woensdag is marktdag bij Tante Nel! \nSnuffel tussen de leukste tweedehands vondsten\, ontdek verborgen schatten en geniet van de gezellige sfeer in de tuin. Iedere zaterdag van 9.00 tot 16.00 uur ben je van harte welkom op de Buurtmarkt van Tante Nel bij ons in de tuin.
URL:https://www.kazernereigersbos.org/event/tante-nels-buurtmarkt-elke-zaterdag-2/2026-05-20/
LOCATION:Buitenwerkplaats de Kazerne
CATEGORIES:Buurt
ATTACH;FMTTYPE=image/jpeg:https://www.kazernereigersbos.org/wp-content/uploads/2025/04/1289436-scaled.jpg
END:VEVENT
BEGIN:VEVENT
DTSTART;TZID=UTC:20260522T150000
DTEND;TZID=UTC:20260522T190000
DTSTAMP:20260421T060734
CREATED:20250822T083403Z
LAST-MODIFIED:20251219T125535Z
UID:10000343-1779462000-1779476400@www.kazernereigersbos.org
SUMMARY:Jongerendag - elke vrijdag
DESCRIPTION:📅 Elke vrijdag | ⏰ 15:00 – 19:00 | 📍 Remise | 🎯 Voor jongeren (10-16 jaar) \nBen jij tussen de 10 en 16 jaar en op zoek naar een toffe plek om je vrijdagmiddag door te brengen? Kom dan naar onze Jongerendag! We bieden een leuke middag vol activiteiten. \nWat kun je verwachten?\n📚 Naschoolse activiteiten – Leren\, ontmoeten en groeien\n🛠️ Workshops & praktische vaardigheden – Ontdek nieuwe talenten\n🎨 Creatieve expressie – Kunst\, muziek & dans\n🎮 Games & films – Ontspanning en fun na school
URL:https://www.kazernereigersbos.org/event/jongerendag-2/2026-05-22/
LOCATION:Remise\, Remmerdenplein 100\, Amsterdam\, 1106 AK\, Nederland
CATEGORIES:Buurt
ATTACH;FMTTYPE=image/jpeg:https://www.kazernereigersbos.org/wp-content/uploads/2025/03/f6c30791-f38c-4a9c-9b5e-2d4b6d6790a2.jpeg
END:VEVENT
BEGIN:VEVENT
DTSTART;TZID=UTC:20260526T193000
DTEND;TZID=UTC:20260526T213000
DTSTAMP:20260421T060734
CREATED:20250819T104052Z
LAST-MODIFIED:20251219T130324Z
UID:10000908-1779823800-1779831000@www.kazernereigersbos.org
SUMMARY:Salsa lessen – elke dinsdag
DESCRIPTION:Zet je week in beweging met een salsales van SalsaFactor bij ons in de Remise. \nOnder begeleiding van ervaren docenten leer je de populaire L.A. Style. De lessen zijn toegankelijk voor zowel beginners als gevorderden\, met veel persoonlijke aandacht en een ontspannen sfeer. \nKlik hier voor meer informatie en aanmelding voor (proef)lessen!
URL:https://www.kazernereigersbos.org/event/salsa-lessen-elke-dinsdag/2026-05-26/
LOCATION:Remise\, Remmerdenplein 100\, Amsterdam\, 1106 AK\, Nederland
CATEGORIES:Sport
ATTACH;FMTTYPE=image/jpeg:https://www.kazernereigersbos.org/wp-content/uploads/2025/08/1301584-scaled.jpg
END:VEVENT
BEGIN:VEVENT
DTSTART;TZID=UTC:20260527T090000
DTEND;TZID=UTC:20260527T160000
DTSTAMP:20260421T060734
CREATED:20260408T142539Z
LAST-MODIFIED:20260408T142541Z
UID:10001443-1779872400-1779897600@www.kazernereigersbos.org
SUMMARY:Tante Nel's buurtmarkt - elke woensdag
DESCRIPTION:Woensdag is marktdag bij Tante Nel! \nSnuffel tussen de leukste tweedehands vondsten\, ontdek verborgen schatten en geniet van de gezellige sfeer in de tuin. Iedere zaterdag van 9.00 tot 16.00 uur ben je van harte welkom op de Buurtmarkt van Tante Nel bij ons in de tuin.
URL:https://www.kazernereigersbos.org/event/tante-nels-buurtmarkt-elke-zaterdag-2/2026-05-27/
LOCATION:Buitenwerkplaats de Kazerne
CATEGORIES:Buurt
ATTACH;FMTTYPE=image/jpeg:https://www.kazernereigersbos.org/wp-content/uploads/2025/04/1289436-scaled.jpg
END:VEVENT
BEGIN:VEVENT
DTSTART;TZID=UTC:20260529T150000
DTEND;TZID=UTC:20260529T190000
DTSTAMP:20260421T060734
CREATED:20250822T083403Z
LAST-MODIFIED:20251219T125535Z
UID:10000344-1780066800-1780081200@www.kazernereigersbos.org
SUMMARY:Jongerendag - elke vrijdag
DESCRIPTION:📅 Elke vrijdag | ⏰ 15:00 – 19:00 | 📍 Remise | 🎯 Voor jongeren (10-16 jaar) \nBen jij tussen de 10 en 16 jaar en op zoek naar een toffe plek om je vrijdagmiddag door te brengen? Kom dan naar onze Jongerendag! We bieden een leuke middag vol activiteiten. \nWat kun je verwachten?\n📚 Naschoolse activiteiten – Leren\, ontmoeten en groeien\n🛠️ Workshops & praktische vaardigheden – Ontdek nieuwe talenten\n🎨 Creatieve expressie – Kunst\, muziek & dans\n🎮 Games & films – Ontspanning en fun na school
URL:https://www.kazernereigersbos.org/event/jongerendag-2/2026-05-29/
LOCATION:Remise\, Remmerdenplein 100\, Amsterdam\, 1106 AK\, Nederland
CATEGORIES:Buurt
ATTACH;FMTTYPE=image/jpeg:https://www.kazernereigersbos.org/wp-content/uploads/2025/03/f6c30791-f38c-4a9c-9b5e-2d4b6d6790a2.jpeg
END:VEVENT
BEGIN:VEVENT
DTSTART;TZID=UTC:20260602T193000
DTEND;TZID=UTC:20260602T213000
DTSTAMP:20260421T060734
CREATED:20250819T104052Z
LAST-MODIFIED:20251219T130324Z
UID:10000909-1780428600-1780435800@www.kazernereigersbos.org
SUMMARY:Salsa lessen – elke dinsdag
DESCRIPTION:Zet je week in beweging met een salsales van SalsaFactor bij ons in de Remise. \nOnder begeleiding van ervaren docenten leer je de populaire L.A. Style. De lessen zijn toegankelijk voor zowel beginners als gevorderden\, met veel persoonlijke aandacht en een ontspannen sfeer. \nKlik hier voor meer informatie en aanmelding voor (proef)lessen!
URL:https://www.kazernereigersbos.org/event/salsa-lessen-elke-dinsdag/2026-06-02/
LOCATION:Remise\, Remmerdenplein 100\, Amsterdam\, 1106 AK\, Nederland
CATEGORIES:Sport
ATTACH;FMTTYPE=image/jpeg:https://www.kazernereigersbos.org/wp-content/uploads/2025/08/1301584-scaled.jpg
END:VEVENT
BEGIN:VEVENT
DTSTART;TZID=UTC:20260603T090000
DTEND;TZID=UTC:20260603T160000
DTSTAMP:20260421T060734
CREATED:20260408T142539Z
LAST-MODIFIED:20260408T142541Z
UID:10001444-1780477200-1780502400@www.kazernereigersbos.org
SUMMARY:Tante Nel's buurtmarkt - elke woensdag
DESCRIPTION:Woensdag is marktdag bij Tante Nel! \nSnuffel tussen de leukste tweedehands vondsten\, ontdek verborgen schatten en geniet van de gezellige sfeer in de tuin. Iedere zaterdag van 9.00 tot 16.00 uur ben je van harte welkom op de Buurtmarkt van Tante Nel bij ons in de tuin.
URL:https://www.kazernereigersbos.org/event/tante-nels-buurtmarkt-elke-zaterdag-2/2026-06-03/
LOCATION:Buitenwerkplaats de Kazerne
CATEGORIES:Buurt
ATTACH;FMTTYPE=image/jpeg:https://www.kazernereigersbos.org/wp-content/uploads/2025/04/1289436-scaled.jpg
END:VEVENT
BEGIN:VEVENT
DTSTART;TZID=UTC:20260605T150000
DTEND;TZID=UTC:20260605T190000
DTSTAMP:20260421T060734
CREATED:20250822T083403Z
LAST-MODIFIED:20251219T125535Z
UID:10000345-1780671600-1780686000@www.kazernereigersbos.org
SUMMARY:Jongerendag - elke vrijdag
DESCRIPTION:📅 Elke vrijdag | ⏰ 15:00 – 19:00 | 📍 Remise | 🎯 Voor jongeren (10-16 jaar) \nBen jij tussen de 10 en 16 jaar en op zoek naar een toffe plek om je vrijdagmiddag door te brengen? Kom dan naar onze Jongerendag! We bieden een leuke middag vol activiteiten. \nWat kun je verwachten?\n📚 Naschoolse activiteiten – Leren\, ontmoeten en groeien\n🛠️ Workshops & praktische vaardigheden – Ontdek nieuwe talenten\n🎨 Creatieve expressie – Kunst\, muziek & dans\n🎮 Games & films – Ontspanning en fun na school
URL:https://www.kazernereigersbos.org/event/jongerendag-2/2026-06-05/
LOCATION:Remise\, Remmerdenplein 100\, Amsterdam\, 1106 AK\, Nederland
CATEGORIES:Buurt
ATTACH;FMTTYPE=image/jpeg:https://www.kazernereigersbos.org/wp-content/uploads/2025/03/f6c30791-f38c-4a9c-9b5e-2d4b6d6790a2.jpeg
END:VEVENT
BEGIN:VEVENT
DTSTART;TZID=UTC:20260609T193000
DTEND;TZID=UTC:20260609T213000
DTSTAMP:20260421T060734
CREATED:20250819T104052Z
LAST-MODIFIED:20251219T130324Z
UID:10000910-1781033400-1781040600@www.kazernereigersbos.org
SUMMARY:Salsa lessen – elke dinsdag
DESCRIPTION:Zet je week in beweging met een salsales van SalsaFactor bij ons in de Remise. \nOnder begeleiding van ervaren docenten leer je de populaire L.A. Style. De lessen zijn toegankelijk voor zowel beginners als gevorderden\, met veel persoonlijke aandacht en een ontspannen sfeer. \nKlik hier voor meer informatie en aanmelding voor (proef)lessen!
URL:https://www.kazernereigersbos.org/event/salsa-lessen-elke-dinsdag/2026-06-09/
LOCATION:Remise\, Remmerdenplein 100\, Amsterdam\, 1106 AK\, Nederland
CATEGORIES:Sport
ATTACH;FMTTYPE=image/jpeg:https://www.kazernereigersbos.org/wp-content/uploads/2025/08/1301584-scaled.jpg
END:VEVENT
BEGIN:VEVENT
DTSTART;TZID=UTC:20260610T090000
DTEND;TZID=UTC:20260610T160000
DTSTAMP:20260421T060734
CREATED:20260408T142539Z
LAST-MODIFIED:20260408T142541Z
UID:10001445-1781082000-1781107200@www.kazernereigersbos.org
SUMMARY:Tante Nel's buurtmarkt - elke woensdag
DESCRIPTION:Woensdag is marktdag bij Tante Nel! \nSnuffel tussen de leukste tweedehands vondsten\, ontdek verborgen schatten en geniet van de gezellige sfeer in de tuin. Iedere zaterdag van 9.00 tot 16.00 uur ben je van harte welkom op de Buurtmarkt van Tante Nel bij ons in de tuin.
URL:https://www.kazernereigersbos.org/event/tante-nels-buurtmarkt-elke-zaterdag-2/2026-06-10/
LOCATION:Buitenwerkplaats de Kazerne
CATEGORIES:Buurt
ATTACH;FMTTYPE=image/jpeg:https://www.kazernereigersbos.org/wp-content/uploads/2025/04/1289436-scaled.jpg
END:VEVENT
BEGIN:VEVENT
DTSTART;TZID=UTC:20260612T150000
DTEND;TZID=UTC:20260612T190000
DTSTAMP:20260421T060734
CREATED:20250822T083403Z
LAST-MODIFIED:20251219T125535Z
UID:10000346-1781276400-1781290800@www.kazernereigersbos.org
SUMMARY:Jongerendag - elke vrijdag
DESCRIPTION:📅 Elke vrijdag | ⏰ 15:00 – 19:00 | 📍 Remise | 🎯 Voor jongeren (10-16 jaar) \nBen jij tussen de 10 en 16 jaar en op zoek naar een toffe plek om je vrijdagmiddag door te brengen? Kom dan naar onze Jongerendag! We bieden een leuke middag vol activiteiten. \nWat kun je verwachten?\n📚 Naschoolse activiteiten – Leren\, ontmoeten en groeien\n🛠️ Workshops & praktische vaardigheden – Ontdek nieuwe talenten\n🎨 Creatieve expressie – Kunst\, muziek & dans\n🎮 Games & films – Ontspanning en fun na school
URL:https://www.kazernereigersbos.org/event/jongerendag-2/2026-06-12/
LOCATION:Remise\, Remmerdenplein 100\, Amsterdam\, 1106 AK\, Nederland
CATEGORIES:Buurt
ATTACH;FMTTYPE=image/jpeg:https://www.kazernereigersbos.org/wp-content/uploads/2025/03/f6c30791-f38c-4a9c-9b5e-2d4b6d6790a2.jpeg
END:VEVENT
BEGIN:VEVENT
DTSTART;TZID=UTC:20260616T193000
DTEND;TZID=UTC:20260616T213000
DTSTAMP:20260421T060734
CREATED:20250819T104052Z
LAST-MODIFIED:20251219T130324Z
UID:10000911-1781638200-1781645400@www.kazernereigersbos.org
SUMMARY:Salsa lessen – elke dinsdag
DESCRIPTION:Zet je week in beweging met een salsales van SalsaFactor bij ons in de Remise. \nOnder begeleiding van ervaren docenten leer je de populaire L.A. Style. De lessen zijn toegankelijk voor zowel beginners als gevorderden\, met veel persoonlijke aandacht en een ontspannen sfeer. \nKlik hier voor meer informatie en aanmelding voor (proef)lessen!
URL:https://www.kazernereigersbos.org/event/salsa-lessen-elke-dinsdag/2026-06-16/
LOCATION:Remise\, Remmerdenplein 100\, Amsterdam\, 1106 AK\, Nederland
CATEGORIES:Sport
ATTACH;FMTTYPE=image/jpeg:https://www.kazernereigersbos.org/wp-content/uploads/2025/08/1301584-scaled.jpg
END:VEVENT
BEGIN:VEVENT
DTSTART;TZID=UTC:20260617T090000
DTEND;TZID=UTC:20260617T160000
DTSTAMP:20260421T060734
CREATED:20260408T142539Z
LAST-MODIFIED:20260408T142541Z
UID:10001446-1781686800-1781712000@www.kazernereigersbos.org
SUMMARY:Tante Nel's buurtmarkt - elke woensdag
DESCRIPTION:Woensdag is marktdag bij Tante Nel! \nSnuffel tussen de leukste tweedehands vondsten\, ontdek verborgen schatten en geniet van de gezellige sfeer in de tuin. Iedere zaterdag van 9.00 tot 16.00 uur ben je van harte welkom op de Buurtmarkt van Tante Nel bij ons in de tuin.
URL:https://www.kazernereigersbos.org/event/tante-nels-buurtmarkt-elke-zaterdag-2/2026-06-17/
LOCATION:Buitenwerkplaats de Kazerne
CATEGORIES:Buurt
ATTACH;FMTTYPE=image/jpeg:https://www.kazernereigersbos.org/wp-content/uploads/2025/04/1289436-scaled.jpg
END:VEVENT
BEGIN:VEVENT
DTSTART;TZID=UTC:20260619T150000
DTEND;TZID=UTC:20260619T190000
DTSTAMP:20260421T060734
CREATED:20250822T083403Z
LAST-MODIFIED:20251219T125535Z
UID:10000347-1781881200-1781895600@www.kazernereigersbos.org
SUMMARY:Jongerendag - elke vrijdag
DESCRIPTION:📅 Elke vrijdag | ⏰ 15:00 – 19:00 | 📍 Remise | 🎯 Voor jongeren (10-16 jaar) \nBen jij tussen de 10 en 16 jaar en op zoek naar een toffe plek om je vrijdagmiddag door te brengen? Kom dan naar onze Jongerendag! We bieden een leuke middag vol activiteiten. \nWat kun je verwachten?\n📚 Naschoolse activiteiten – Leren\, ontmoeten en groeien\n🛠️ Workshops & praktische vaardigheden – Ontdek nieuwe talenten\n🎨 Creatieve expressie – Kunst\, muziek & dans\n🎮 Games & films – Ontspanning en fun na school
URL:https://www.kazernereigersbos.org/event/jongerendag-2/2026-06-19/
LOCATION:Remise\, Remmerdenplein 100\, Amsterdam\, 1106 AK\, Nederland
CATEGORIES:Buurt
ATTACH;FMTTYPE=image/jpeg:https://www.kazernereigersbos.org/wp-content/uploads/2025/03/f6c30791-f38c-4a9c-9b5e-2d4b6d6790a2.jpeg
END:VEVENT
BEGIN:VEVENT
DTSTART;TZID=UTC:20260623T193000
DTEND;TZID=UTC:20260623T213000
DTSTAMP:20260421T060734
CREATED:20250819T104052Z
LAST-MODIFIED:20251219T130324Z
UID:10000912-1782243000-1782250200@www.kazernereigersbos.org
SUMMARY:Salsa lessen – elke dinsdag
DESCRIPTION:Zet je week in beweging met een salsales van SalsaFactor bij ons in de Remise. \nOnder begeleiding van ervaren docenten leer je de populaire L.A. Style. De lessen zijn toegankelijk voor zowel beginners als gevorderden\, met veel persoonlijke aandacht en een ontspannen sfeer. \nKlik hier voor meer informatie en aanmelding voor (proef)lessen!
URL:https://www.kazernereigersbos.org/event/salsa-lessen-elke-dinsdag/2026-06-23/
LOCATION:Remise\, Remmerdenplein 100\, Amsterdam\, 1106 AK\, Nederland
CATEGORIES:Sport
ATTACH;FMTTYPE=image/jpeg:https://www.kazernereigersbos.org/wp-content/uploads/2025/08/1301584-scaled.jpg
END:VEVENT
BEGIN:VEVENT
DTSTART;TZID=UTC:20260624T090000
DTEND;TZID=UTC:20260624T160000
DTSTAMP:20260421T060734
CREATED:20260408T142539Z
LAST-MODIFIED:20260408T142541Z
UID:10001447-1782291600-1782316800@www.kazernereigersbos.org
SUMMARY:Tante Nel's buurtmarkt - elke woensdag
DESCRIPTION:Woensdag is marktdag bij Tante Nel! \nSnuffel tussen de leukste tweedehands vondsten\, ontdek verborgen schatten en geniet van de gezellige sfeer in de tuin. Iedere zaterdag van 9.00 tot 16.00 uur ben je van harte welkom op de Buurtmarkt van Tante Nel bij ons in de tuin.
URL:https://www.kazernereigersbos.org/event/tante-nels-buurtmarkt-elke-zaterdag-2/2026-06-24/
LOCATION:Buitenwerkplaats de Kazerne
CATEGORIES:Buurt
ATTACH;FMTTYPE=image/jpeg:https://www.kazernereigersbos.org/wp-content/uploads/2025/04/1289436-scaled.jpg
END:VEVENT
BEGIN:VEVENT
DTSTART;TZID=UTC:20260626T150000
DTEND;TZID=UTC:20260626T190000
DTSTAMP:20260421T060734
CREATED:20250822T083403Z
LAST-MODIFIED:20251219T125535Z
UID:10000348-1782486000-1782500400@www.kazernereigersbos.org
SUMMARY:Jongerendag - elke vrijdag
DESCRIPTION:📅 Elke vrijdag | ⏰ 15:00 – 19:00 | 📍 Remise | 🎯 Voor jongeren (10-16 jaar) \nBen jij tussen de 10 en 16 jaar en op zoek naar een toffe plek om je vrijdagmiddag door te brengen? Kom dan naar onze Jongerendag! We bieden een leuke middag vol activiteiten. \nWat kun je verwachten?\n📚 Naschoolse activiteiten – Leren\, ontmoeten en groeien\n🛠️ Workshops & praktische vaardigheden – Ontdek nieuwe talenten\n🎨 Creatieve expressie – Kunst\, muziek & dans\n🎮 Games & films – Ontspanning en fun na school
URL:https://www.kazernereigersbos.org/event/jongerendag-2/2026-06-26/
LOCATION:Remise\, Remmerdenplein 100\, Amsterdam\, 1106 AK\, Nederland
CATEGORIES:Buurt
ATTACH;FMTTYPE=image/jpeg:https://www.kazernereigersbos.org/wp-content/uploads/2025/03/f6c30791-f38c-4a9c-9b5e-2d4b6d6790a2.jpeg
END:VEVENT
BEGIN:VEVENT
DTSTART;TZID=UTC:20260630T193000
DTEND;TZID=UTC:20260630T213000
DTSTAMP:20260421T060734
CREATED:20250819T104052Z
LAST-MODIFIED:20251219T130324Z
UID:10000913-1782847800-1782855000@www.kazernereigersbos.org
SUMMARY:Salsa lessen – elke dinsdag
DESCRIPTION:Zet je week in beweging met een salsales van SalsaFactor bij ons in de Remise. \nOnder begeleiding van ervaren docenten leer je de populaire L.A. Style. De lessen zijn toegankelijk voor zowel beginners als gevorderden\, met veel persoonlijke aandacht en een ontspannen sfeer. \nKlik hier voor meer informatie en aanmelding voor (proef)lessen!
URL:https://www.kazernereigersbos.org/event/salsa-lessen-elke-dinsdag/2026-06-30/
LOCATION:Remise\, Remmerdenplein 100\, Amsterdam\, 1106 AK\, Nederland
CATEGORIES:Sport
ATTACH;FMTTYPE=image/jpeg:https://www.kazernereigersbos.org/wp-content/uploads/2025/08/1301584-scaled.jpg
END:VEVENT
BEGIN:VEVENT
DTSTART;TZID=UTC:20260701T090000
DTEND;TZID=UTC:20260701T160000
DTSTAMP:20260421T060734
CREATED:20260408T142539Z
LAST-MODIFIED:20260408T142541Z
UID:10001448-1782896400-1782921600@www.kazernereigersbos.org
SUMMARY:Tante Nel's buurtmarkt - elke woensdag
DESCRIPTION:Woensdag is marktdag bij Tante Nel! \nSnuffel tussen de leukste tweedehands vondsten\, ontdek verborgen schatten en geniet van de gezellige sfeer in de tuin. Iedere zaterdag van 9.00 tot 16.00 uur ben je van harte welkom op de Buurtmarkt van Tante Nel bij ons in de tuin.
URL:https://www.kazernereigersbos.org/event/tante-nels-buurtmarkt-elke-zaterdag-2/2026-07-01/
LOCATION:Buitenwerkplaats de Kazerne
CATEGORIES:Buurt
ATTACH;FMTTYPE=image/jpeg:https://www.kazernereigersbos.org/wp-content/uploads/2025/04/1289436-scaled.jpg
END:VEVENT
BEGIN:VEVENT
DTSTART;TZID=UTC:20260703T150000
DTEND;TZID=UTC:20260703T190000
DTSTAMP:20260421T060734
CREATED:20250822T083403Z
LAST-MODIFIED:20251219T125535Z
UID:10000349-1783090800-1783105200@www.kazernereigersbos.org
SUMMARY:Jongerendag - elke vrijdag
DESCRIPTION:📅 Elke vrijdag | ⏰ 15:00 – 19:00 | 📍 Remise | 🎯 Voor jongeren (10-16 jaar) \nBen jij tussen de 10 en 16 jaar en op zoek naar een toffe plek om je vrijdagmiddag door te brengen? Kom dan naar onze Jongerendag! We bieden een leuke middag vol activiteiten. \nWat kun je verwachten?\n📚 Naschoolse activiteiten – Leren\, ontmoeten en groeien\n🛠️ Workshops & praktische vaardigheden – Ontdek nieuwe talenten\n🎨 Creatieve expressie – Kunst\, muziek & dans\n🎮 Games & films – Ontspanning en fun na school
URL:https://www.kazernereigersbos.org/event/jongerendag-2/2026-07-03/
LOCATION:Remise\, Remmerdenplein 100\, Amsterdam\, 1106 AK\, Nederland
CATEGORIES:Buurt
ATTACH;FMTTYPE=image/jpeg:https://www.kazernereigersbos.org/wp-content/uploads/2025/03/f6c30791-f38c-4a9c-9b5e-2d4b6d6790a2.jpeg
END:VEVENT
BEGIN:VEVENT
DTSTART;TZID=UTC:20260707T193000
DTEND;TZID=UTC:20260707T213000
DTSTAMP:20260421T060734
CREATED:20250819T104052Z
LAST-MODIFIED:20251219T130324Z
UID:10000914-1783452600-1783459800@www.kazernereigersbos.org
SUMMARY:Salsa lessen – elke dinsdag
DESCRIPTION:Zet je week in beweging met een salsales van SalsaFactor bij ons in de Remise. \nOnder begeleiding van ervaren docenten leer je de populaire L.A. Style. De lessen zijn toegankelijk voor zowel beginners als gevorderden\, met veel persoonlijke aandacht en een ontspannen sfeer. \nKlik hier voor meer informatie en aanmelding voor (proef)lessen!
URL:https://www.kazernereigersbos.org/event/salsa-lessen-elke-dinsdag/2026-07-07/
LOCATION:Remise\, Remmerdenplein 100\, Amsterdam\, 1106 AK\, Nederland
CATEGORIES:Sport
ATTACH;FMTTYPE=image/jpeg:https://www.kazernereigersbos.org/wp-content/uploads/2025/08/1301584-scaled.jpg
END:VEVENT
BEGIN:VEVENT
DTSTART;TZID=UTC:20260708T090000
DTEND;TZID=UTC:20260708T160000
DTSTAMP:20260421T060734
CREATED:20260408T142539Z
LAST-MODIFIED:20260408T142541Z
UID:10001449-1783501200-1783526400@www.kazernereigersbos.org
SUMMARY:Tante Nel's buurtmarkt - elke woensdag
DESCRIPTION:Woensdag is marktdag bij Tante Nel! \nSnuffel tussen de leukste tweedehands vondsten\, ontdek verborgen schatten en geniet van de gezellige sfeer in de tuin. Iedere zaterdag van 9.00 tot 16.00 uur ben je van harte welkom op de Buurtmarkt van Tante Nel bij ons in de tuin.
URL:https://www.kazernereigersbos.org/event/tante-nels-buurtmarkt-elke-zaterdag-2/2026-07-08/
LOCATION:Buitenwerkplaats de Kazerne
CATEGORIES:Buurt
ATTACH;FMTTYPE=image/jpeg:https://www.kazernereigersbos.org/wp-content/uploads/2025/04/1289436-scaled.jpg
END:VEVENT
BEGIN:VEVENT
DTSTART;TZID=UTC:20260710T150000
DTEND;TZID=UTC:20260710T190000
DTSTAMP:20260421T060734
CREATED:20250822T083403Z
LAST-MODIFIED:20251219T125535Z
UID:10000350-1783695600-1783710000@www.kazernereigersbos.org
SUMMARY:Jongerendag - elke vrijdag
DESCRIPTION:📅 Elke vrijdag | ⏰ 15:00 – 19:00 | 📍 Remise | 🎯 Voor jongeren (10-16 jaar) \nBen jij tussen de 10 en 16 jaar en op zoek naar een toffe plek om je vrijdagmiddag door te brengen? Kom dan naar onze Jongerendag! We bieden een leuke middag vol activiteiten. \nWat kun je verwachten?\n📚 Naschoolse activiteiten – Leren\, ontmoeten en groeien\n🛠️ Workshops & praktische vaardigheden – Ontdek nieuwe talenten\n🎨 Creatieve expressie – Kunst\, muziek & dans\n🎮 Games & films – Ontspanning en fun na school
URL:https://www.kazernereigersbos.org/event/jongerendag-2/2026-07-10/
LOCATION:Remise\, Remmerdenplein 100\, Amsterdam\, 1106 AK\, Nederland
CATEGORIES:Buurt
ATTACH;FMTTYPE=image/jpeg:https://www.kazernereigersbos.org/wp-content/uploads/2025/03/f6c30791-f38c-4a9c-9b5e-2d4b6d6790a2.jpeg
END:VEVENT
BEGIN:VEVENT
DTSTART;TZID=UTC:20260714T193000
DTEND;TZID=UTC:20260714T213000
DTSTAMP:20260421T060734
CREATED:20250819T104052Z
LAST-MODIFIED:20251219T130324Z
UID:10000915-1784057400-1784064600@www.kazernereigersbos.org
SUMMARY:Salsa lessen – elke dinsdag
DESCRIPTION:Zet je week in beweging met een salsales van SalsaFactor bij ons in de Remise. \nOnder begeleiding van ervaren docenten leer je de populaire L.A. Style. De lessen zijn toegankelijk voor zowel beginners als gevorderden\, met veel persoonlijke aandacht en een ontspannen sfeer. \nKlik hier voor meer informatie en aanmelding voor (proef)lessen!
URL:https://www.kazernereigersbos.org/event/salsa-lessen-elke-dinsdag/2026-07-14/
LOCATION:Remise\, Remmerdenplein 100\, Amsterdam\, 1106 AK\, Nederland
CATEGORIES:Sport
ATTACH;FMTTYPE=image/jpeg:https://www.kazernereigersbos.org/wp-content/uploads/2025/08/1301584-scaled.jpg
END:VEVENT
BEGIN:VEVENT
DTSTART;TZID=UTC:20260715T090000
DTEND;TZID=UTC:20260715T160000
DTSTAMP:20260421T060734
CREATED:20260408T142539Z
LAST-MODIFIED:20260408T142541Z
UID:10001450-1784106000-1784131200@www.kazernereigersbos.org
SUMMARY:Tante Nel's buurtmarkt - elke woensdag
DESCRIPTION:Woensdag is marktdag bij Tante Nel! \nSnuffel tussen de leukste tweedehands vondsten\, ontdek verborgen schatten en geniet van de gezellige sfeer in de tuin. Iedere zaterdag van 9.00 tot 16.00 uur ben je van harte welkom op de Buurtmarkt van Tante Nel bij ons in de tuin.
URL:https://www.kazernereigersbos.org/event/tante-nels-buurtmarkt-elke-zaterdag-2/2026-07-15/
LOCATION:Buitenwerkplaats de Kazerne
CATEGORIES:Buurt
ATTACH;FMTTYPE=image/jpeg:https://www.kazernereigersbos.org/wp-content/uploads/2025/04/1289436-scaled.jpg
END:VEVENT
BEGIN:VEVENT
DTSTART;TZID=UTC:20260717T150000
DTEND;TZID=UTC:20260717T190000
DTSTAMP:20260421T060734
CREATED:20250822T083403Z
LAST-MODIFIED:20251219T125535Z
UID:10000351-1784300400-1784314800@www.kazernereigersbos.org
SUMMARY:Jongerendag - elke vrijdag
DESCRIPTION:📅 Elke vrijdag | ⏰ 15:00 – 19:00 | 📍 Remise | 🎯 Voor jongeren (10-16 jaar) \nBen jij tussen de 10 en 16 jaar en op zoek naar een toffe plek om je vrijdagmiddag door te brengen? Kom dan naar onze Jongerendag! We bieden een leuke middag vol activiteiten. \nWat kun je verwachten?\n📚 Naschoolse activiteiten – Leren\, ontmoeten en groeien\n🛠️ Workshops & praktische vaardigheden – Ontdek nieuwe talenten\n🎨 Creatieve expressie – Kunst\, muziek & dans\n🎮 Games & films – Ontspanning en fun na school
URL:https://www.kazernereigersbos.org/event/jongerendag-2/2026-07-17/
LOCATION:Remise\, Remmerdenplein 100\, Amsterdam\, 1106 AK\, Nederland
CATEGORIES:Buurt
ATTACH;FMTTYPE=image/jpeg:https://www.kazernereigersbos.org/wp-content/uploads/2025/03/f6c30791-f38c-4a9c-9b5e-2d4b6d6790a2.jpeg
END:VEVENT
BEGIN:VEVENT
DTSTART;TZID=UTC:20260721T193000
DTEND;TZID=UTC:20260721T213000
DTSTAMP:20260421T060734
CREATED:20250819T104052Z
LAST-MODIFIED:20251219T130324Z
UID:10000916-1784662200-1784669400@www.kazernereigersbos.org
SUMMARY:Salsa lessen – elke dinsdag
DESCRIPTION:Zet je week in beweging met een salsales van SalsaFactor bij ons in de Remise. \nOnder begeleiding van ervaren docenten leer je de populaire L.A. Style. De lessen zijn toegankelijk voor zowel beginners als gevorderden\, met veel persoonlijke aandacht en een ontspannen sfeer. \nKlik hier voor meer informatie en aanmelding voor (proef)lessen!
URL:https://www.kazernereigersbos.org/event/salsa-lessen-elke-dinsdag/2026-07-21/
LOCATION:Remise\, Remmerdenplein 100\, Amsterdam\, 1106 AK\, Nederland
CATEGORIES:Sport
ATTACH;FMTTYPE=image/jpeg:https://www.kazernereigersbos.org/wp-content/uploads/2025/08/1301584-scaled.jpg
END:VEVENT
BEGIN:VEVENT
DTSTART;TZID=UTC:20260722T090000
DTEND;TZID=UTC:20260722T160000
DTSTAMP:20260421T060734
CREATED:20260408T142539Z
LAST-MODIFIED:20260408T142541Z
UID:10001451-1784710800-1784736000@www.kazernereigersbos.org
SUMMARY:Tante Nel's buurtmarkt - elke woensdag
DESCRIPTION:Woensdag is marktdag bij Tante Nel! \nSnuffel tussen de leukste tweedehands vondsten\, ontdek verborgen schatten en geniet van de gezellige sfeer in de tuin. Iedere zaterdag van 9.00 tot 16.00 uur ben je van harte welkom op de Buurtmarkt van Tante Nel bij ons in de tuin.
URL:https://www.kazernereigersbos.org/event/tante-nels-buurtmarkt-elke-zaterdag-2/2026-07-22/
LOCATION:Buitenwerkplaats de Kazerne
CATEGORIES:Buurt
ATTACH;FMTTYPE=image/jpeg:https://www.kazernereigersbos.org/wp-content/uploads/2025/04/1289436-scaled.jpg
END:VEVENT
BEGIN:VEVENT
DTSTART;TZID=UTC:20260724T150000
DTEND;TZID=UTC:20260724T190000
DTSTAMP:20260421T060734
CREATED:20250822T083403Z
LAST-MODIFIED:20251219T125535Z
UID:10000352-1784905200-1784919600@www.kazernereigersbos.org
SUMMARY:Jongerendag - elke vrijdag
DESCRIPTION:📅 Elke vrijdag | ⏰ 15:00 – 19:00 | 📍 Remise | 🎯 Voor jongeren (10-16 jaar) \nBen jij tussen de 10 en 16 jaar en op zoek naar een toffe plek om je vrijdagmiddag door te brengen? Kom dan naar onze Jongerendag! We bieden een leuke middag vol activiteiten. \nWat kun je verwachten?\n📚 Naschoolse activiteiten – Leren\, ontmoeten en groeien\n🛠️ Workshops & praktische vaardigheden – Ontdek nieuwe talenten\n🎨 Creatieve expressie – Kunst\, muziek & dans\n🎮 Games & films – Ontspanning en fun na school
URL:https://www.kazernereigersbos.org/event/jongerendag-2/2026-07-24/
LOCATION:Remise\, Remmerdenplein 100\, Amsterdam\, 1106 AK\, Nederland
CATEGORIES:Buurt
ATTACH;FMTTYPE=image/jpeg:https://www.kazernereigersbos.org/wp-content/uploads/2025/03/f6c30791-f38c-4a9c-9b5e-2d4b6d6790a2.jpeg
END:VEVENT
END:VCALENDAR