BEGIN:VCALENDAR
VERSION:2.0
PRODID:-//Kazerne Reigersbos - ECPv6.15.20//NONSGML v1.0//EN
CALSCALE:GREGORIAN
METHOD:PUBLISH
X-WR-CALNAME:Kazerne Reigersbos
X-ORIGINAL-URL:https://www.kazernereigersbos.org
X-WR-CALDESC:Evenementen voor Kazerne Reigersbos
REFRESH-INTERVAL;VALUE=DURATION:PT1H
X-Robots-Tag:noindex
X-PUBLISHED-TTL:PT1H
BEGIN:VTIMEZONE
TZID:UTC
BEGIN:STANDARD
TZOFFSETFROM:+0000
TZOFFSETTO:+0000
TZNAME:UTC
DTSTART:20290101T000000
END:STANDARD
END:VTIMEZONE
BEGIN:VEVENT
DTSTART;TZID=UTC:20300611T193000
DTEND;TZID=UTC:20300611T213000
DTSTAMP:20260420T042312
CREATED:20250819T104052Z
LAST-MODIFIED:20251219T130324Z
UID:10001119-1907436600-1907443800@www.kazernereigersbos.org
SUMMARY:Salsa lessen – elke dinsdag
DESCRIPTION:Zet je week in beweging met een salsales van SalsaFactor bij ons in de Remise. \nOnder begeleiding van ervaren docenten leer je de populaire L.A. Style. De lessen zijn toegankelijk voor zowel beginners als gevorderden\, met veel persoonlijke aandacht en een ontspannen sfeer. \nKlik hier voor meer informatie en aanmelding voor (proef)lessen!
URL:https://www.kazernereigersbos.org/event/salsa-lessen-elke-dinsdag/2030-06-11/
LOCATION:Remise\, Remmerdenplein 100\, Amsterdam\, 1106 AK\, Nederland
CATEGORIES:Sport
ATTACH;FMTTYPE=image/jpeg:https://www.kazernereigersbos.org/wp-content/uploads/2025/08/1301584-scaled.jpg
END:VEVENT
BEGIN:VEVENT
DTSTART;TZID=UTC:20300618T193000
DTEND;TZID=UTC:20300618T213000
DTSTAMP:20260420T042312
CREATED:20250819T104052Z
LAST-MODIFIED:20251219T130324Z
UID:10001120-1908041400-1908048600@www.kazernereigersbos.org
SUMMARY:Salsa lessen – elke dinsdag
DESCRIPTION:Zet je week in beweging met een salsales van SalsaFactor bij ons in de Remise. \nOnder begeleiding van ervaren docenten leer je de populaire L.A. Style. De lessen zijn toegankelijk voor zowel beginners als gevorderden\, met veel persoonlijke aandacht en een ontspannen sfeer. \nKlik hier voor meer informatie en aanmelding voor (proef)lessen!
URL:https://www.kazernereigersbos.org/event/salsa-lessen-elke-dinsdag/2030-06-18/
LOCATION:Remise\, Remmerdenplein 100\, Amsterdam\, 1106 AK\, Nederland
CATEGORIES:Sport
ATTACH;FMTTYPE=image/jpeg:https://www.kazernereigersbos.org/wp-content/uploads/2025/08/1301584-scaled.jpg
END:VEVENT
BEGIN:VEVENT
DTSTART;TZID=UTC:20300625T193000
DTEND;TZID=UTC:20300625T213000
DTSTAMP:20260420T042312
CREATED:20250819T104052Z
LAST-MODIFIED:20251219T130324Z
UID:10001121-1908646200-1908653400@www.kazernereigersbos.org
SUMMARY:Salsa lessen – elke dinsdag
DESCRIPTION:Zet je week in beweging met een salsales van SalsaFactor bij ons in de Remise. \nOnder begeleiding van ervaren docenten leer je de populaire L.A. Style. De lessen zijn toegankelijk voor zowel beginners als gevorderden\, met veel persoonlijke aandacht en een ontspannen sfeer. \nKlik hier voor meer informatie en aanmelding voor (proef)lessen!
URL:https://www.kazernereigersbos.org/event/salsa-lessen-elke-dinsdag/2030-06-25/
LOCATION:Remise\, Remmerdenplein 100\, Amsterdam\, 1106 AK\, Nederland
CATEGORIES:Sport
ATTACH;FMTTYPE=image/jpeg:https://www.kazernereigersbos.org/wp-content/uploads/2025/08/1301584-scaled.jpg
END:VEVENT
BEGIN:VEVENT
DTSTART;TZID=UTC:20300702T193000
DTEND;TZID=UTC:20300702T213000
DTSTAMP:20260420T042312
CREATED:20250819T104052Z
LAST-MODIFIED:20251219T130324Z
UID:10001122-1909251000-1909258200@www.kazernereigersbos.org
SUMMARY:Salsa lessen – elke dinsdag
DESCRIPTION:Zet je week in beweging met een salsales van SalsaFactor bij ons in de Remise. \nOnder begeleiding van ervaren docenten leer je de populaire L.A. Style. De lessen zijn toegankelijk voor zowel beginners als gevorderden\, met veel persoonlijke aandacht en een ontspannen sfeer. \nKlik hier voor meer informatie en aanmelding voor (proef)lessen!
URL:https://www.kazernereigersbos.org/event/salsa-lessen-elke-dinsdag/2030-07-02/
LOCATION:Remise\, Remmerdenplein 100\, Amsterdam\, 1106 AK\, Nederland
CATEGORIES:Sport
ATTACH;FMTTYPE=image/jpeg:https://www.kazernereigersbos.org/wp-content/uploads/2025/08/1301584-scaled.jpg
END:VEVENT
BEGIN:VEVENT
DTSTART;TZID=UTC:20300709T193000
DTEND;TZID=UTC:20300709T213000
DTSTAMP:20260420T042312
CREATED:20250819T104052Z
LAST-MODIFIED:20251219T130324Z
UID:10001123-1909855800-1909863000@www.kazernereigersbos.org
SUMMARY:Salsa lessen – elke dinsdag
DESCRIPTION:Zet je week in beweging met een salsales van SalsaFactor bij ons in de Remise. \nOnder begeleiding van ervaren docenten leer je de populaire L.A. Style. De lessen zijn toegankelijk voor zowel beginners als gevorderden\, met veel persoonlijke aandacht en een ontspannen sfeer. \nKlik hier voor meer informatie en aanmelding voor (proef)lessen!
URL:https://www.kazernereigersbos.org/event/salsa-lessen-elke-dinsdag/2030-07-09/
LOCATION:Remise\, Remmerdenplein 100\, Amsterdam\, 1106 AK\, Nederland
CATEGORIES:Sport
ATTACH;FMTTYPE=image/jpeg:https://www.kazernereigersbos.org/wp-content/uploads/2025/08/1301584-scaled.jpg
END:VEVENT
BEGIN:VEVENT
DTSTART;TZID=UTC:20300716T193000
DTEND;TZID=UTC:20300716T213000
DTSTAMP:20260420T042312
CREATED:20250819T104052Z
LAST-MODIFIED:20251219T130324Z
UID:10001124-1910460600-1910467800@www.kazernereigersbos.org
SUMMARY:Salsa lessen – elke dinsdag
DESCRIPTION:Zet je week in beweging met een salsales van SalsaFactor bij ons in de Remise. \nOnder begeleiding van ervaren docenten leer je de populaire L.A. Style. De lessen zijn toegankelijk voor zowel beginners als gevorderden\, met veel persoonlijke aandacht en een ontspannen sfeer. \nKlik hier voor meer informatie en aanmelding voor (proef)lessen!
URL:https://www.kazernereigersbos.org/event/salsa-lessen-elke-dinsdag/2030-07-16/
LOCATION:Remise\, Remmerdenplein 100\, Amsterdam\, 1106 AK\, Nederland
CATEGORIES:Sport
ATTACH;FMTTYPE=image/jpeg:https://www.kazernereigersbos.org/wp-content/uploads/2025/08/1301584-scaled.jpg
END:VEVENT
BEGIN:VEVENT
DTSTART;TZID=UTC:20300723T193000
DTEND;TZID=UTC:20300723T213000
DTSTAMP:20260420T042312
CREATED:20250819T104052Z
LAST-MODIFIED:20251219T130324Z
UID:10001125-1911065400-1911072600@www.kazernereigersbos.org
SUMMARY:Salsa lessen – elke dinsdag
DESCRIPTION:Zet je week in beweging met een salsales van SalsaFactor bij ons in de Remise. \nOnder begeleiding van ervaren docenten leer je de populaire L.A. Style. De lessen zijn toegankelijk voor zowel beginners als gevorderden\, met veel persoonlijke aandacht en een ontspannen sfeer. \nKlik hier voor meer informatie en aanmelding voor (proef)lessen!
URL:https://www.kazernereigersbos.org/event/salsa-lessen-elke-dinsdag/2030-07-23/
LOCATION:Remise\, Remmerdenplein 100\, Amsterdam\, 1106 AK\, Nederland
CATEGORIES:Sport
ATTACH;FMTTYPE=image/jpeg:https://www.kazernereigersbos.org/wp-content/uploads/2025/08/1301584-scaled.jpg
END:VEVENT
BEGIN:VEVENT
DTSTART;TZID=UTC:20300730T193000
DTEND;TZID=UTC:20300730T213000
DTSTAMP:20260420T042312
CREATED:20250819T104052Z
LAST-MODIFIED:20251219T130324Z
UID:10001126-1911670200-1911677400@www.kazernereigersbos.org
SUMMARY:Salsa lessen – elke dinsdag
DESCRIPTION:Zet je week in beweging met een salsales van SalsaFactor bij ons in de Remise. \nOnder begeleiding van ervaren docenten leer je de populaire L.A. Style. De lessen zijn toegankelijk voor zowel beginners als gevorderden\, met veel persoonlijke aandacht en een ontspannen sfeer. \nKlik hier voor meer informatie en aanmelding voor (proef)lessen!
URL:https://www.kazernereigersbos.org/event/salsa-lessen-elke-dinsdag/2030-07-30/
LOCATION:Remise\, Remmerdenplein 100\, Amsterdam\, 1106 AK\, Nederland
CATEGORIES:Sport
ATTACH;FMTTYPE=image/jpeg:https://www.kazernereigersbos.org/wp-content/uploads/2025/08/1301584-scaled.jpg
END:VEVENT
BEGIN:VEVENT
DTSTART;TZID=UTC:20300806T193000
DTEND;TZID=UTC:20300806T213000
DTSTAMP:20260420T042312
CREATED:20250819T104052Z
LAST-MODIFIED:20251219T130324Z
UID:10001127-1912275000-1912282200@www.kazernereigersbos.org
SUMMARY:Salsa lessen – elke dinsdag
DESCRIPTION:Zet je week in beweging met een salsales van SalsaFactor bij ons in de Remise. \nOnder begeleiding van ervaren docenten leer je de populaire L.A. Style. De lessen zijn toegankelijk voor zowel beginners als gevorderden\, met veel persoonlijke aandacht en een ontspannen sfeer. \nKlik hier voor meer informatie en aanmelding voor (proef)lessen!
URL:https://www.kazernereigersbos.org/event/salsa-lessen-elke-dinsdag/2030-08-06/
LOCATION:Remise\, Remmerdenplein 100\, Amsterdam\, 1106 AK\, Nederland
CATEGORIES:Sport
ATTACH;FMTTYPE=image/jpeg:https://www.kazernereigersbos.org/wp-content/uploads/2025/08/1301584-scaled.jpg
END:VEVENT
BEGIN:VEVENT
DTSTART;TZID=UTC:20300813T193000
DTEND;TZID=UTC:20300813T213000
DTSTAMP:20260420T042312
CREATED:20250819T104052Z
LAST-MODIFIED:20251219T130324Z
UID:10001128-1912879800-1912887000@www.kazernereigersbos.org
SUMMARY:Salsa lessen – elke dinsdag
DESCRIPTION:Zet je week in beweging met een salsales van SalsaFactor bij ons in de Remise. \nOnder begeleiding van ervaren docenten leer je de populaire L.A. Style. De lessen zijn toegankelijk voor zowel beginners als gevorderden\, met veel persoonlijke aandacht en een ontspannen sfeer. \nKlik hier voor meer informatie en aanmelding voor (proef)lessen!
URL:https://www.kazernereigersbos.org/event/salsa-lessen-elke-dinsdag/2030-08-13/
LOCATION:Remise\, Remmerdenplein 100\, Amsterdam\, 1106 AK\, Nederland
CATEGORIES:Sport
ATTACH;FMTTYPE=image/jpeg:https://www.kazernereigersbos.org/wp-content/uploads/2025/08/1301584-scaled.jpg
END:VEVENT
BEGIN:VEVENT
DTSTART;TZID=UTC:20300820T193000
DTEND;TZID=UTC:20300820T213000
DTSTAMP:20260420T042312
CREATED:20250819T104052Z
LAST-MODIFIED:20251219T130324Z
UID:10001418-1913484600-1913491800@www.kazernereigersbos.org
SUMMARY:Salsa lessen – elke dinsdag
DESCRIPTION:Zet je week in beweging met een salsales van SalsaFactor bij ons in de Remise. \nOnder begeleiding van ervaren docenten leer je de populaire L.A. Style. De lessen zijn toegankelijk voor zowel beginners als gevorderden\, met veel persoonlijke aandacht en een ontspannen sfeer. \nKlik hier voor meer informatie en aanmelding voor (proef)lessen!
URL:https://www.kazernereigersbos.org/event/salsa-lessen-elke-dinsdag/2030-08-20/
LOCATION:Remise\, Remmerdenplein 100\, Amsterdam\, 1106 AK\, Nederland
CATEGORIES:Sport
ATTACH;FMTTYPE=image/jpeg:https://www.kazernereigersbos.org/wp-content/uploads/2025/08/1301584-scaled.jpg
END:VEVENT
BEGIN:VEVENT
DTSTART;TZID=UTC:20300827T193000
DTEND;TZID=UTC:20300827T213000
DTSTAMP:20260420T042312
CREATED:20250819T104052Z
LAST-MODIFIED:20251219T130324Z
UID:10001419-1914089400-1914096600@www.kazernereigersbos.org
SUMMARY:Salsa lessen – elke dinsdag
DESCRIPTION:Zet je week in beweging met een salsales van SalsaFactor bij ons in de Remise. \nOnder begeleiding van ervaren docenten leer je de populaire L.A. Style. De lessen zijn toegankelijk voor zowel beginners als gevorderden\, met veel persoonlijke aandacht en een ontspannen sfeer. \nKlik hier voor meer informatie en aanmelding voor (proef)lessen!
URL:https://www.kazernereigersbos.org/event/salsa-lessen-elke-dinsdag/2030-08-27/
LOCATION:Remise\, Remmerdenplein 100\, Amsterdam\, 1106 AK\, Nederland
CATEGORIES:Sport
ATTACH;FMTTYPE=image/jpeg:https://www.kazernereigersbos.org/wp-content/uploads/2025/08/1301584-scaled.jpg
END:VEVENT
BEGIN:VEVENT
DTSTART;TZID=UTC:20300903T193000
DTEND;TZID=UTC:20300903T213000
DTSTAMP:20260420T042312
CREATED:20250819T104052Z
LAST-MODIFIED:20251219T130324Z
UID:10001420-1914694200-1914701400@www.kazernereigersbos.org
SUMMARY:Salsa lessen – elke dinsdag
DESCRIPTION:Zet je week in beweging met een salsales van SalsaFactor bij ons in de Remise. \nOnder begeleiding van ervaren docenten leer je de populaire L.A. Style. De lessen zijn toegankelijk voor zowel beginners als gevorderden\, met veel persoonlijke aandacht en een ontspannen sfeer. \nKlik hier voor meer informatie en aanmelding voor (proef)lessen!
URL:https://www.kazernereigersbos.org/event/salsa-lessen-elke-dinsdag/2030-09-03/
LOCATION:Remise\, Remmerdenplein 100\, Amsterdam\, 1106 AK\, Nederland
CATEGORIES:Sport
ATTACH;FMTTYPE=image/jpeg:https://www.kazernereigersbos.org/wp-content/uploads/2025/08/1301584-scaled.jpg
END:VEVENT
BEGIN:VEVENT
DTSTART;TZID=UTC:20300910T193000
DTEND;TZID=UTC:20300910T213000
DTSTAMP:20260420T042312
CREATED:20250819T104052Z
LAST-MODIFIED:20251219T130324Z
UID:10001421-1915299000-1915306200@www.kazernereigersbos.org
SUMMARY:Salsa lessen – elke dinsdag
DESCRIPTION:Zet je week in beweging met een salsales van SalsaFactor bij ons in de Remise. \nOnder begeleiding van ervaren docenten leer je de populaire L.A. Style. De lessen zijn toegankelijk voor zowel beginners als gevorderden\, met veel persoonlijke aandacht en een ontspannen sfeer. \nKlik hier voor meer informatie en aanmelding voor (proef)lessen!
URL:https://www.kazernereigersbos.org/event/salsa-lessen-elke-dinsdag/2030-09-10/
LOCATION:Remise\, Remmerdenplein 100\, Amsterdam\, 1106 AK\, Nederland
CATEGORIES:Sport
ATTACH;FMTTYPE=image/jpeg:https://www.kazernereigersbos.org/wp-content/uploads/2025/08/1301584-scaled.jpg
END:VEVENT
BEGIN:VEVENT
DTSTART;TZID=UTC:20300917T193000
DTEND;TZID=UTC:20300917T213000
DTSTAMP:20260420T042312
CREATED:20250819T104052Z
LAST-MODIFIED:20251219T130324Z
UID:10001422-1915903800-1915911000@www.kazernereigersbos.org
SUMMARY:Salsa lessen – elke dinsdag
DESCRIPTION:Zet je week in beweging met een salsales van SalsaFactor bij ons in de Remise. \nOnder begeleiding van ervaren docenten leer je de populaire L.A. Style. De lessen zijn toegankelijk voor zowel beginners als gevorderden\, met veel persoonlijke aandacht en een ontspannen sfeer. \nKlik hier voor meer informatie en aanmelding voor (proef)lessen!
URL:https://www.kazernereigersbos.org/event/salsa-lessen-elke-dinsdag/2030-09-17/
LOCATION:Remise\, Remmerdenplein 100\, Amsterdam\, 1106 AK\, Nederland
CATEGORIES:Sport
ATTACH;FMTTYPE=image/jpeg:https://www.kazernereigersbos.org/wp-content/uploads/2025/08/1301584-scaled.jpg
END:VEVENT
BEGIN:VEVENT
DTSTART;TZID=UTC:20300924T193000
DTEND;TZID=UTC:20300924T213000
DTSTAMP:20260420T042312
CREATED:20250819T104052Z
LAST-MODIFIED:20251219T130324Z
UID:10001423-1916508600-1916515800@www.kazernereigersbos.org
SUMMARY:Salsa lessen – elke dinsdag
DESCRIPTION:Zet je week in beweging met een salsales van SalsaFactor bij ons in de Remise. \nOnder begeleiding van ervaren docenten leer je de populaire L.A. Style. De lessen zijn toegankelijk voor zowel beginners als gevorderden\, met veel persoonlijke aandacht en een ontspannen sfeer. \nKlik hier voor meer informatie en aanmelding voor (proef)lessen!
URL:https://www.kazernereigersbos.org/event/salsa-lessen-elke-dinsdag/2030-09-24/
LOCATION:Remise\, Remmerdenplein 100\, Amsterdam\, 1106 AK\, Nederland
CATEGORIES:Sport
ATTACH;FMTTYPE=image/jpeg:https://www.kazernereigersbos.org/wp-content/uploads/2025/08/1301584-scaled.jpg
END:VEVENT
BEGIN:VEVENT
DTSTART;TZID=UTC:20301001T193000
DTEND;TZID=UTC:20301001T213000
DTSTAMP:20260420T042312
CREATED:20250819T104052Z
LAST-MODIFIED:20251219T130324Z
UID:10001424-1917113400-1917120600@www.kazernereigersbos.org
SUMMARY:Salsa lessen – elke dinsdag
DESCRIPTION:Zet je week in beweging met een salsales van SalsaFactor bij ons in de Remise. \nOnder begeleiding van ervaren docenten leer je de populaire L.A. Style. De lessen zijn toegankelijk voor zowel beginners als gevorderden\, met veel persoonlijke aandacht en een ontspannen sfeer. \nKlik hier voor meer informatie en aanmelding voor (proef)lessen!
URL:https://www.kazernereigersbos.org/event/salsa-lessen-elke-dinsdag/2030-10-01/
LOCATION:Remise\, Remmerdenplein 100\, Amsterdam\, 1106 AK\, Nederland
CATEGORIES:Sport
ATTACH;FMTTYPE=image/jpeg:https://www.kazernereigersbos.org/wp-content/uploads/2025/08/1301584-scaled.jpg
END:VEVENT
BEGIN:VEVENT
DTSTART;TZID=UTC:20301008T193000
DTEND;TZID=UTC:20301008T213000
DTSTAMP:20260420T042312
CREATED:20250819T104052Z
LAST-MODIFIED:20251219T130324Z
UID:10001425-1917718200-1917725400@www.kazernereigersbos.org
SUMMARY:Salsa lessen – elke dinsdag
DESCRIPTION:Zet je week in beweging met een salsales van SalsaFactor bij ons in de Remise. \nOnder begeleiding van ervaren docenten leer je de populaire L.A. Style. De lessen zijn toegankelijk voor zowel beginners als gevorderden\, met veel persoonlijke aandacht en een ontspannen sfeer. \nKlik hier voor meer informatie en aanmelding voor (proef)lessen!
URL:https://www.kazernereigersbos.org/event/salsa-lessen-elke-dinsdag/2030-10-08/
LOCATION:Remise\, Remmerdenplein 100\, Amsterdam\, 1106 AK\, Nederland
CATEGORIES:Sport
ATTACH;FMTTYPE=image/jpeg:https://www.kazernereigersbos.org/wp-content/uploads/2025/08/1301584-scaled.jpg
END:VEVENT
BEGIN:VEVENT
DTSTART;TZID=UTC:20301015T193000
DTEND;TZID=UTC:20301015T213000
DTSTAMP:20260420T042312
CREATED:20250819T104052Z
LAST-MODIFIED:20251219T130324Z
UID:10001426-1918323000-1918330200@www.kazernereigersbos.org
SUMMARY:Salsa lessen – elke dinsdag
DESCRIPTION:Zet je week in beweging met een salsales van SalsaFactor bij ons in de Remise. \nOnder begeleiding van ervaren docenten leer je de populaire L.A. Style. De lessen zijn toegankelijk voor zowel beginners als gevorderden\, met veel persoonlijke aandacht en een ontspannen sfeer. \nKlik hier voor meer informatie en aanmelding voor (proef)lessen!
URL:https://www.kazernereigersbos.org/event/salsa-lessen-elke-dinsdag/2030-10-15/
LOCATION:Remise\, Remmerdenplein 100\, Amsterdam\, 1106 AK\, Nederland
CATEGORIES:Sport
ATTACH;FMTTYPE=image/jpeg:https://www.kazernereigersbos.org/wp-content/uploads/2025/08/1301584-scaled.jpg
END:VEVENT
BEGIN:VEVENT
DTSTART;TZID=UTC:20301022T193000
DTEND;TZID=UTC:20301022T213000
DTSTAMP:20260420T042312
CREATED:20250819T104052Z
LAST-MODIFIED:20251219T130324Z
UID:10001427-1918927800-1918935000@www.kazernereigersbos.org
SUMMARY:Salsa lessen – elke dinsdag
DESCRIPTION:Zet je week in beweging met een salsales van SalsaFactor bij ons in de Remise. \nOnder begeleiding van ervaren docenten leer je de populaire L.A. Style. De lessen zijn toegankelijk voor zowel beginners als gevorderden\, met veel persoonlijke aandacht en een ontspannen sfeer. \nKlik hier voor meer informatie en aanmelding voor (proef)lessen!
URL:https://www.kazernereigersbos.org/event/salsa-lessen-elke-dinsdag/2030-10-22/
LOCATION:Remise\, Remmerdenplein 100\, Amsterdam\, 1106 AK\, Nederland
CATEGORIES:Sport
ATTACH;FMTTYPE=image/jpeg:https://www.kazernereigersbos.org/wp-content/uploads/2025/08/1301584-scaled.jpg
END:VEVENT
BEGIN:VEVENT
DTSTART;TZID=UTC:20301029T193000
DTEND;TZID=UTC:20301029T213000
DTSTAMP:20260420T042312
CREATED:20250819T104052Z
LAST-MODIFIED:20251219T130324Z
UID:10001428-1919532600-1919539800@www.kazernereigersbos.org
SUMMARY:Salsa lessen – elke dinsdag
DESCRIPTION:Zet je week in beweging met een salsales van SalsaFactor bij ons in de Remise. \nOnder begeleiding van ervaren docenten leer je de populaire L.A. Style. De lessen zijn toegankelijk voor zowel beginners als gevorderden\, met veel persoonlijke aandacht en een ontspannen sfeer. \nKlik hier voor meer informatie en aanmelding voor (proef)lessen!
URL:https://www.kazernereigersbos.org/event/salsa-lessen-elke-dinsdag/2030-10-29/
LOCATION:Remise\, Remmerdenplein 100\, Amsterdam\, 1106 AK\, Nederland
CATEGORIES:Sport
ATTACH;FMTTYPE=image/jpeg:https://www.kazernereigersbos.org/wp-content/uploads/2025/08/1301584-scaled.jpg
END:VEVENT
BEGIN:VEVENT
DTSTART;TZID=UTC:20301105T193000
DTEND;TZID=UTC:20301105T213000
DTSTAMP:20260420T042312
CREATED:20250819T104052Z
LAST-MODIFIED:20251219T130324Z
UID:10001429-1920137400-1920144600@www.kazernereigersbos.org
SUMMARY:Salsa lessen – elke dinsdag
DESCRIPTION:Zet je week in beweging met een salsales van SalsaFactor bij ons in de Remise. \nOnder begeleiding van ervaren docenten leer je de populaire L.A. Style. De lessen zijn toegankelijk voor zowel beginners als gevorderden\, met veel persoonlijke aandacht en een ontspannen sfeer. \nKlik hier voor meer informatie en aanmelding voor (proef)lessen!
URL:https://www.kazernereigersbos.org/event/salsa-lessen-elke-dinsdag/2030-11-05/
LOCATION:Remise\, Remmerdenplein 100\, Amsterdam\, 1106 AK\, Nederland
CATEGORIES:Sport
ATTACH;FMTTYPE=image/jpeg:https://www.kazernereigersbos.org/wp-content/uploads/2025/08/1301584-scaled.jpg
END:VEVENT
BEGIN:VEVENT
DTSTART;TZID=UTC:20301112T193000
DTEND;TZID=UTC:20301112T213000
DTSTAMP:20260420T042312
CREATED:20250819T104052Z
LAST-MODIFIED:20251219T130324Z
UID:10001430-1920742200-1920749400@www.kazernereigersbos.org
SUMMARY:Salsa lessen – elke dinsdag
DESCRIPTION:Zet je week in beweging met een salsales van SalsaFactor bij ons in de Remise. \nOnder begeleiding van ervaren docenten leer je de populaire L.A. Style. De lessen zijn toegankelijk voor zowel beginners als gevorderden\, met veel persoonlijke aandacht en een ontspannen sfeer. \nKlik hier voor meer informatie en aanmelding voor (proef)lessen!
URL:https://www.kazernereigersbos.org/event/salsa-lessen-elke-dinsdag/2030-11-12/
LOCATION:Remise\, Remmerdenplein 100\, Amsterdam\, 1106 AK\, Nederland
CATEGORIES:Sport
ATTACH;FMTTYPE=image/jpeg:https://www.kazernereigersbos.org/wp-content/uploads/2025/08/1301584-scaled.jpg
END:VEVENT
BEGIN:VEVENT
DTSTART;TZID=UTC:20301119T193000
DTEND;TZID=UTC:20301119T213000
DTSTAMP:20260420T042312
CREATED:20250819T104052Z
LAST-MODIFIED:20251219T130324Z
UID:10001431-1921347000-1921354200@www.kazernereigersbos.org
SUMMARY:Salsa lessen – elke dinsdag
DESCRIPTION:Zet je week in beweging met een salsales van SalsaFactor bij ons in de Remise. \nOnder begeleiding van ervaren docenten leer je de populaire L.A. Style. De lessen zijn toegankelijk voor zowel beginners als gevorderden\, met veel persoonlijke aandacht en een ontspannen sfeer. \nKlik hier voor meer informatie en aanmelding voor (proef)lessen!
URL:https://www.kazernereigersbos.org/event/salsa-lessen-elke-dinsdag/2030-11-19/
LOCATION:Remise\, Remmerdenplein 100\, Amsterdam\, 1106 AK\, Nederland
CATEGORIES:Sport
ATTACH;FMTTYPE=image/jpeg:https://www.kazernereigersbos.org/wp-content/uploads/2025/08/1301584-scaled.jpg
END:VEVENT
BEGIN:VEVENT
DTSTART;TZID=UTC:20301126T193000
DTEND;TZID=UTC:20301126T213000
DTSTAMP:20260420T042312
CREATED:20250819T104052Z
LAST-MODIFIED:20251219T130324Z
UID:10001432-1921951800-1921959000@www.kazernereigersbos.org
SUMMARY:Salsa lessen – elke dinsdag
DESCRIPTION:Zet je week in beweging met een salsales van SalsaFactor bij ons in de Remise. \nOnder begeleiding van ervaren docenten leer je de populaire L.A. Style. De lessen zijn toegankelijk voor zowel beginners als gevorderden\, met veel persoonlijke aandacht en een ontspannen sfeer. \nKlik hier voor meer informatie en aanmelding voor (proef)lessen!
URL:https://www.kazernereigersbos.org/event/salsa-lessen-elke-dinsdag/2030-11-26/
LOCATION:Remise\, Remmerdenplein 100\, Amsterdam\, 1106 AK\, Nederland
CATEGORIES:Sport
ATTACH;FMTTYPE=image/jpeg:https://www.kazernereigersbos.org/wp-content/uploads/2025/08/1301584-scaled.jpg
END:VEVENT
BEGIN:VEVENT
DTSTART;TZID=UTC:20301203T193000
DTEND;TZID=UTC:20301203T213000
DTSTAMP:20260420T042312
CREATED:20250819T104052Z
LAST-MODIFIED:20251219T130324Z
UID:10001433-1922556600-1922563800@www.kazernereigersbos.org
SUMMARY:Salsa lessen – elke dinsdag
DESCRIPTION:Zet je week in beweging met een salsales van SalsaFactor bij ons in de Remise. \nOnder begeleiding van ervaren docenten leer je de populaire L.A. Style. De lessen zijn toegankelijk voor zowel beginners als gevorderden\, met veel persoonlijke aandacht en een ontspannen sfeer. \nKlik hier voor meer informatie en aanmelding voor (proef)lessen!
URL:https://www.kazernereigersbos.org/event/salsa-lessen-elke-dinsdag/2030-12-03/
LOCATION:Remise\, Remmerdenplein 100\, Amsterdam\, 1106 AK\, Nederland
CATEGORIES:Sport
ATTACH;FMTTYPE=image/jpeg:https://www.kazernereigersbos.org/wp-content/uploads/2025/08/1301584-scaled.jpg
END:VEVENT
BEGIN:VEVENT
DTSTART;TZID=UTC:20301210T193000
DTEND;TZID=UTC:20301210T213000
DTSTAMP:20260420T042312
CREATED:20250819T104052Z
LAST-MODIFIED:20251219T130324Z
UID:10001434-1923161400-1923168600@www.kazernereigersbos.org
SUMMARY:Salsa lessen – elke dinsdag
DESCRIPTION:Zet je week in beweging met een salsales van SalsaFactor bij ons in de Remise. \nOnder begeleiding van ervaren docenten leer je de populaire L.A. Style. De lessen zijn toegankelijk voor zowel beginners als gevorderden\, met veel persoonlijke aandacht en een ontspannen sfeer. \nKlik hier voor meer informatie en aanmelding voor (proef)lessen!
URL:https://www.kazernereigersbos.org/event/salsa-lessen-elke-dinsdag/2030-12-10/
LOCATION:Remise\, Remmerdenplein 100\, Amsterdam\, 1106 AK\, Nederland
CATEGORIES:Sport
ATTACH;FMTTYPE=image/jpeg:https://www.kazernereigersbos.org/wp-content/uploads/2025/08/1301584-scaled.jpg
END:VEVENT
BEGIN:VEVENT
DTSTART;TZID=UTC:20301217T193000
DTEND;TZID=UTC:20301217T213000
DTSTAMP:20260420T042312
CREATED:20250819T104052Z
LAST-MODIFIED:20251219T130324Z
UID:10001435-1923766200-1923773400@www.kazernereigersbos.org
SUMMARY:Salsa lessen – elke dinsdag
DESCRIPTION:Zet je week in beweging met een salsales van SalsaFactor bij ons in de Remise. \nOnder begeleiding van ervaren docenten leer je de populaire L.A. Style. De lessen zijn toegankelijk voor zowel beginners als gevorderden\, met veel persoonlijke aandacht en een ontspannen sfeer. \nKlik hier voor meer informatie en aanmelding voor (proef)lessen!
URL:https://www.kazernereigersbos.org/event/salsa-lessen-elke-dinsdag/2030-12-17/
LOCATION:Remise\, Remmerdenplein 100\, Amsterdam\, 1106 AK\, Nederland
CATEGORIES:Sport
ATTACH;FMTTYPE=image/jpeg:https://www.kazernereigersbos.org/wp-content/uploads/2025/08/1301584-scaled.jpg
END:VEVENT
END:VCALENDAR