BEGIN:VCALENDAR
VERSION:2.0
PRODID:-//Kazerne Reigersbos - ECPv6.15.20//NONSGML v1.0//EN
CALSCALE:GREGORIAN
METHOD:PUBLISH
X-WR-CALNAME:Kazerne Reigersbos
X-ORIGINAL-URL:https://www.kazernereigersbos.org
X-WR-CALDESC:Evenementen voor Kazerne Reigersbos
REFRESH-INTERVAL;VALUE=DURATION:PT1H
X-Robots-Tag:noindex
X-PUBLISHED-TTL:PT1H
BEGIN:VTIMEZONE
TZID:UTC
BEGIN:STANDARD
TZOFFSETFROM:+0000
TZOFFSETTO:+0000
TZNAME:UTC
DTSTART:20260101T000000
END:STANDARD
END:VTIMEZONE
BEGIN:VEVENT
DTSTART;TZID=UTC:20271005T193000
DTEND;TZID=UTC:20271005T213000
DTSTAMP:20260420T205504
CREATED:20250819T104052Z
LAST-MODIFIED:20251219T130324Z
UID:10000979-1822764600-1822771800@www.kazernereigersbos.org
SUMMARY:Salsa lessen – elke dinsdag
DESCRIPTION:Zet je week in beweging met een salsales van SalsaFactor bij ons in de Remise. \nOnder begeleiding van ervaren docenten leer je de populaire L.A. Style. De lessen zijn toegankelijk voor zowel beginners als gevorderden\, met veel persoonlijke aandacht en een ontspannen sfeer. \nKlik hier voor meer informatie en aanmelding voor (proef)lessen!
URL:https://www.kazernereigersbos.org/event/salsa-lessen-elke-dinsdag/2027-10-05/
LOCATION:Remise\, Remmerdenplein 100\, Amsterdam\, 1106 AK\, Nederland
CATEGORIES:Sport
ATTACH;FMTTYPE=image/jpeg:https://www.kazernereigersbos.org/wp-content/uploads/2025/08/1301584-scaled.jpg
END:VEVENT
BEGIN:VEVENT
DTSTART;TZID=UTC:20271012T193000
DTEND;TZID=UTC:20271012T213000
DTSTAMP:20260420T205504
CREATED:20250819T104052Z
LAST-MODIFIED:20251219T130324Z
UID:10000980-1823369400-1823376600@www.kazernereigersbos.org
SUMMARY:Salsa lessen – elke dinsdag
DESCRIPTION:Zet je week in beweging met een salsales van SalsaFactor bij ons in de Remise. \nOnder begeleiding van ervaren docenten leer je de populaire L.A. Style. De lessen zijn toegankelijk voor zowel beginners als gevorderden\, met veel persoonlijke aandacht en een ontspannen sfeer. \nKlik hier voor meer informatie en aanmelding voor (proef)lessen!
URL:https://www.kazernereigersbos.org/event/salsa-lessen-elke-dinsdag/2027-10-12/
LOCATION:Remise\, Remmerdenplein 100\, Amsterdam\, 1106 AK\, Nederland
CATEGORIES:Sport
ATTACH;FMTTYPE=image/jpeg:https://www.kazernereigersbos.org/wp-content/uploads/2025/08/1301584-scaled.jpg
END:VEVENT
BEGIN:VEVENT
DTSTART;TZID=UTC:20271019T193000
DTEND;TZID=UTC:20271019T213000
DTSTAMP:20260420T205504
CREATED:20250819T104052Z
LAST-MODIFIED:20251219T130324Z
UID:10000981-1823974200-1823981400@www.kazernereigersbos.org
SUMMARY:Salsa lessen – elke dinsdag
DESCRIPTION:Zet je week in beweging met een salsales van SalsaFactor bij ons in de Remise. \nOnder begeleiding van ervaren docenten leer je de populaire L.A. Style. De lessen zijn toegankelijk voor zowel beginners als gevorderden\, met veel persoonlijke aandacht en een ontspannen sfeer. \nKlik hier voor meer informatie en aanmelding voor (proef)lessen!
URL:https://www.kazernereigersbos.org/event/salsa-lessen-elke-dinsdag/2027-10-19/
LOCATION:Remise\, Remmerdenplein 100\, Amsterdam\, 1106 AK\, Nederland
CATEGORIES:Sport
ATTACH;FMTTYPE=image/jpeg:https://www.kazernereigersbos.org/wp-content/uploads/2025/08/1301584-scaled.jpg
END:VEVENT
BEGIN:VEVENT
DTSTART;TZID=UTC:20271026T193000
DTEND;TZID=UTC:20271026T213000
DTSTAMP:20260420T205504
CREATED:20250819T104052Z
LAST-MODIFIED:20251219T130324Z
UID:10000982-1824579000-1824586200@www.kazernereigersbos.org
SUMMARY:Salsa lessen – elke dinsdag
DESCRIPTION:Zet je week in beweging met een salsales van SalsaFactor bij ons in de Remise. \nOnder begeleiding van ervaren docenten leer je de populaire L.A. Style. De lessen zijn toegankelijk voor zowel beginners als gevorderden\, met veel persoonlijke aandacht en een ontspannen sfeer. \nKlik hier voor meer informatie en aanmelding voor (proef)lessen!
URL:https://www.kazernereigersbos.org/event/salsa-lessen-elke-dinsdag/2027-10-26/
LOCATION:Remise\, Remmerdenplein 100\, Amsterdam\, 1106 AK\, Nederland
CATEGORIES:Sport
ATTACH;FMTTYPE=image/jpeg:https://www.kazernereigersbos.org/wp-content/uploads/2025/08/1301584-scaled.jpg
END:VEVENT
END:VCALENDAR