BEGIN:VCALENDAR
VERSION:2.0
PRODID:-//Kazerne Reigersbos - ECPv6.15.20//NONSGML v1.0//EN
CALSCALE:GREGORIAN
METHOD:PUBLISH
X-ORIGINAL-URL:https://www.kazernereigersbos.org
X-WR-CALDESC:Evenementen voor Kazerne Reigersbos
REFRESH-INTERVAL;VALUE=DURATION:PT1H
X-Robots-Tag:noindex
X-PUBLISHED-TTL:PT1H
BEGIN:VTIMEZONE
TZID:UTC
BEGIN:STANDARD
TZOFFSETFROM:+0000
TZOFFSETTO:+0000
TZNAME:UTC
DTSTART:20240101T000000
END:STANDARD
END:VTIMEZONE
BEGIN:VEVENT
DTSTART;TZID=UTC:20250614T110000
DTEND;TZID=UTC:20250614T120000
DTSTAMP:20260420T073104
CREATED:20250613T093839Z
LAST-MODIFIED:20250613T094058Z
UID:10000808-1749898800-1749902400@www.kazernereigersbos.org
SUMMARY:The Fit Girl Club: 5KM Run
DESCRIPTION:Dames\, het is tijd om je veters te strikken! 👟\nThe Fit Girl Club is terug — een sportieve en gezellige hardloopgroep speciaal voor vrouwen die willen werken aan hun conditie\, zelfvertrouwen en verbinding. 💪💖 \nOf je nu net begint of al vaker hebt gelopen\, iedereen is welkom. We lopen in een veilige en ontspannen sfeer\, waarbij plezier en elkaar steunen centraal staan. \nWat kun je verwachten?– Een gezamenlijke 5 km run (geen wedstrijdtempo)– Begeleiding en motivatie onderweg– Warming-up & cooling-down– Een groep gelijkgestemde vrouwen– Plezier\, beweging en support! \nAanmelden:\nStuur een DM via Instagram naar @the.fitgirlclub
URL:https://www.kazernereigersbos.org/event/the-fit-girl-club-5km-run/
LOCATION:Buitenwerkplaats de Kazerne
CATEGORIES:Buurt,Sport
END:VEVENT
END:VCALENDAR