BEGIN:VCALENDAR
VERSION:2.0
PRODID:-//Kazerne Reigersbos - ECPv6.15.20//NONSGML v1.0//EN
CALSCALE:GREGORIAN
METHOD:PUBLISH
X-WR-CALNAME:Kazerne Reigersbos
X-ORIGINAL-URL:https://www.kazernereigersbos.org
X-WR-CALDESC:Evenementen voor Kazerne Reigersbos
REFRESH-INTERVAL;VALUE=DURATION:PT1H
X-Robots-Tag:noindex
X-PUBLISHED-TTL:PT1H
BEGIN:VTIMEZONE
TZID:UTC
BEGIN:STANDARD
TZOFFSETFROM:+0000
TZOFFSETTO:+0000
TZNAME:UTC
DTSTART:20240101T000000
END:STANDARD
END:VTIMEZONE
BEGIN:VEVENT
DTSTART;TZID=UTC:20251022T190000
DTEND;TZID=UTC:20251023T000000
DTSTAMP:20260421T054231
CREATED:20250819T101223Z
LAST-MODIFIED:20251021T093231Z
UID:10000846-1761159600-1761177600@www.kazernereigersbos.org
SUMMARY:ADE: Bairro x Kazerne Reigersbos
DESCRIPTION:ADE 2025 is terug — groter dan ooit.\nBairro en Kazerne Reigersbos slaan de handen ineen en brengen community\, ritme en diepe Afro-electronic vibes naar Reigersbos tijdens Amsterdam Dance Event. \nBairro is een in Rotterdam gevestigde Afro-electronic muziekplatform dat community\, cultuur en sound met elkaar verbindt. We geven een podium aan DJ’s\, artiesten en creatives via live opnames\, radioshows en events — en brengen zo de Afro-electronic scene van Rotterdam naar een internationaal publiek. \nTijdens ADE landt Bairro bij Kazerne Reigersbos om de rijkdom van Afro-electronic muziek en cultuur te vieren. Vanuit de energie van Rotterdam brengen we artiesten en publiek samen door ritme\, storytelling en gedeelde vibes — en toveren Kazerne om tot een ruimte vol dans\, identiteit en verbinding. \n 
URL:https://www.kazernereigersbos.org/event/ade-bairro-x-kazerne-reigersbos/
LOCATION:Remise\, Remmerdenplein 100\, Amsterdam\, 1106 AK\, Nederland
CATEGORIES:ADE,Muziek
ATTACH;FMTTYPE=image/png:https://www.kazernereigersbos.org/wp-content/uploads/2025/08/Screenshot-2025-08-19-at-14.03.57-1.png
END:VEVENT
END:VCALENDAR