BEGIN:VCALENDAR
VERSION:2.0
PRODID:-//Kazerne Reigersbos - ECPv6.15.20//NONSGML v1.0//EN
CALSCALE:GREGORIAN
METHOD:PUBLISH
X-WR-CALNAME:Kazerne Reigersbos
X-ORIGINAL-URL:https://www.kazernereigersbos.org
X-WR-CALDESC:Evenementen voor Kazerne Reigersbos
REFRESH-INTERVAL;VALUE=DURATION:PT1H
X-Robots-Tag:noindex
X-PUBLISHED-TTL:PT1H
BEGIN:VTIMEZONE
TZID:UTC
BEGIN:STANDARD
TZOFFSETFROM:+0000
TZOFFSETTO:+0000
TZNAME:UTC
DTSTART:20240101T000000
END:STANDARD
END:VTIMEZONE
BEGIN:VEVENT
DTSTART;TZID=UTC:20250829T120000
DTEND;TZID=UTC:20250830T010000
DTSTAMP:20260421T103133
CREATED:20250822T094907Z
LAST-MODIFIED:20250822T094907Z
UID:10001395-1756468800-1756515600@www.kazernereigersbos.org
SUMMARY:41 Vision
DESCRIPTION:Wat kun je verwachten bij 41 Vision? \n– Twee inspirerende gastsprekers die hun journey en tips delen (co-owner FOUR Amsterdam: Jordi & artiest Burleson)\n– Een interactieve workshop om zelf aan de slag te gaan + pitchbacks & prijzen te winnen van o.a. Four & Banlieue (20 plekken)\n– Ongeveer 20 stands van jonge ondernemers en creators\n– Fashion show met upcoming brands\n– Live performances\n– Afterparty met DJ’s tot 01:00 (+ 1 gratis Lavish) \nBij aankoop van een ticket heb je toegang tot het volledige programma (inclusief afterparty + Lavish)\, krijg je een welkomstdrankje\, cupcake én een goodiebag met super leuke goodies!
URL:https://www.kazernereigersbos.org/event/41-vision/
LOCATION:Remise\, Remmerdenplein 100\, Amsterdam\, 1106 AK\, Nederland
ATTACH;FMTTYPE=image/jpeg:https://www.kazernereigersbos.org/wp-content/uploads/2025/08/https___cdn.evbuc_.com_images_1072255483_2208153395383_1_original.jpeg
END:VEVENT
BEGIN:VEVENT
DTSTART;TZID=UTC:20250830T090000
DTEND;TZID=UTC:20250830T160000
DTSTAMP:20260421T103133
CREATED:20250819T110148Z
LAST-MODIFIED:20250819T110348Z
UID:10001130-1756544400-1756569600@www.kazernereigersbos.org
SUMMARY:Tante Nel's buurtmarkt - elke zaterdag
DESCRIPTION:Zaterdag is marktdag bij Tante Nel! \nSnuffel tussen de leukste tweedehands vondsten\, ontdek verborgen schatten en geniet van de gezellige sfeer in de tuin. Iedere zaterdag van 9.00 tot 16.00 uur ben je van harte welkom op de Buurtmarkt van Tante Nel bij ons in de tuin.
URL:https://www.kazernereigersbos.org/event/tante-nels-buurtmarkt-elke-zaterdag/2025-08-30/
LOCATION:Buitenwerkplaats de Kazerne
CATEGORIES:Buurt
ATTACH;FMTTYPE=image/jpeg:https://www.kazernereigersbos.org/wp-content/uploads/2025/04/1289436-scaled.jpg
END:VEVENT
END:VCALENDAR