BEGIN:VCALENDAR
VERSION:2.0
PRODID:-//Kazerne Reigersbos - ECPv6.15.20//NONSGML v1.0//EN
CALSCALE:GREGORIAN
METHOD:PUBLISH
X-ORIGINAL-URL:https://www.kazernereigersbos.org
X-WR-CALDESC:Evenementen voor Kazerne Reigersbos
REFRESH-INTERVAL;VALUE=DURATION:PT1H
X-Robots-Tag:noindex
X-PUBLISHED-TTL:PT1H
BEGIN:VTIMEZONE
TZID:UTC
BEGIN:STANDARD
TZOFFSETFROM:+0000
TZOFFSETTO:+0000
TZNAME:UTC
DTSTART:20240101T000000
END:STANDARD
END:VTIMEZONE
BEGIN:VEVENT
DTSTART;TZID=UTC:20250731T190000
DTEND;TZID=UTC:20250731T213000
DTSTAMP:20260421T103207
CREATED:20250722T102426Z
LAST-MODIFIED:20250819T111341Z
UID:10000809-1753988400-1753997400@www.kazernereigersbos.org
SUMMARY:Sankofa Archives presents House of Artistry Workshops
DESCRIPTION:This summer\, Sankofa Archives present House of Artistry\, a series of creative workshops led by inspiring artists and creators. From visual art and music to storytelling and culture\, each session invites you to explore your creativity\, connect with others\, and learn directly from professionals in their field. Open to all levels — no experience needed. \nWorkshop Line-Up:\n🎨 July 31 — Creative Workshop with Dion Rosina\nExplore images\, memories\, and imagination to create your own artwork. \n🎶 August 21 — Music Masterclass with Jarreau Vandal & Mondesir\nDive into sound\, creativity\, and collaboration in this hands-on session. \n🌍 September 25 — What’s Culture Workshop with Jamal Jama\nUnderstand culture through stories\, visuals\, and shared perspectives. \nBe part of the experience! Buy your tickets here.
URL:https://www.kazernereigersbos.org/event/house-of-artistry-workshops/2025-07-31/
LOCATION:Noord-Holland
CATEGORIES:Workshop
ATTACH;FMTTYPE=image/jpeg:https://www.kazernereigersbos.org/wp-content/uploads/2025/07/Agenda-2-1-scaled.jpg
END:VEVENT
END:VCALENDAR