BEGIN:VCALENDAR
VERSION:2.0
PRODID:-//Kazerne Reigersbos - ECPv6.15.20//NONSGML v1.0//EN
CALSCALE:GREGORIAN
METHOD:PUBLISH
X-ORIGINAL-URL:https://www.kazernereigersbos.org
X-WR-CALDESC:Evenementen voor Kazerne Reigersbos
REFRESH-INTERVAL;VALUE=DURATION:PT1H
X-Robots-Tag:noindex
X-PUBLISHED-TTL:PT1H
BEGIN:VTIMEZONE
TZID:UTC
BEGIN:STANDARD
TZOFFSETFROM:+0000
TZOFFSETTO:+0000
TZNAME:UTC
DTSTART:20240101T000000
END:STANDARD
END:VTIMEZONE
BEGIN:VEVENT
DTSTART;TZID=UTC:20250317T170000
DTEND;TZID=UTC:20250317T210000
DTSTAMP:20260422T020638
CREATED:20250311T152852Z
LAST-MODIFIED:20250311T153755Z
UID:10000021-1742230800-1742245200@www.kazernereigersbos.org
SUMMARY:Kazerne Reigersbos 5 Years: Jubileumdag
DESCRIPTION:Kazerne Reigersbos viert 5 jaar! 🎉 \nOp maandag 17 maart nodigen we je uit om samen met ons vijf jaar creativiteit\, samenwerking en community te vieren. Verwacht een avond vol muziek\, inspirerende verhalen en mooie ontmoetingen! \n🔥 Wat kun je verwachten?\n🎧 Live DJ-sets – Geniet van optredens van ZILLA\, NELLZ\, Solange AB\, Joya & Jade.\n🎥 Stories from Reigersbos – Deel je verhaal in onze videobooth en ontdek de impact van Kazerne.\n🥂 Meet & Toast – Netwerk met buurtbewoners\, creatieven en partners. \n📅 Datum: Maandag 17 maart\n⏰ Tijd: 17:00 – 21:00\n📍 Locatie: Kazerne Reigersbos \nDeze avond is het startsein voor een bijzonder jubileumjaar vol verrassingen. Kom langs\, proost met ons en laat je inspireren! \n🔗 RSVP nu!
URL:https://www.kazernereigersbos.org/event/kazerne-reigersbos-5-years-jubileumdag/
LOCATION:Remise\, Remmerdenplein 100\, Amsterdam\, 1106 AK\, Nederland
CATEGORIES:Buurt,Muziek
ATTACH;FMTTYPE=image/jpeg:https://www.kazernereigersbos.org/wp-content/uploads/2025/03/Artboard_5Years_Kazerne-scaled.jpg
END:VEVENT
END:VCALENDAR