BEGIN:VCALENDAR
VERSION:2.0
PRODID:-//Kazerne Reigersbos - ECPv6.15.20//NONSGML v1.0//EN
CALSCALE:GREGORIAN
METHOD:PUBLISH
X-ORIGINAL-URL:https://www.kazernereigersbos.org
X-WR-CALDESC:Evenementen voor Kazerne Reigersbos
REFRESH-INTERVAL;VALUE=DURATION:PT1H
X-Robots-Tag:noindex
X-PUBLISHED-TTL:PT1H
BEGIN:VTIMEZONE
TZID:UTC
BEGIN:STANDARD
TZOFFSETFROM:+0000
TZOFFSETTO:+0000
TZNAME:UTC
DTSTART:20240101T000000
END:STANDARD
END:VTIMEZONE
BEGIN:VEVENT
DTSTART;TZID=UTC:20250117T213000
DTEND;TZID=UTC:20250118T020000
DTSTAMP:20260422T033846
CREATED:20250110T115326Z
LAST-MODIFIED:20250110T120315Z
UID:10000019-1737149400-1737165600@www.kazernereigersbos.org
SUMMARY:Kazerne & Verdedig Noord presents: New Years Party 2025
DESCRIPTION:Start het nieuwe jaar goed en vier samen met ons tijdens de New Year’s Party 2025! Op donderdag 17 januari om 21:30 uur openen we de deuren van Kazerne Reigersbos voor een avond vol muziek\, verbinding en gezelligheid. \nSamen met Verdedig Noord en Kazerne Reigersbos zorgen we voor een energieke sfeer met een dope DJ line-up\, heerlijke vibes en de perfecte gelegenheid om het nieuwe jaar in te luiden met de mensen die onze community zo speciaal maken. \nMis het niet! Klik hier op de RSVP-link om je registratie voor een gratis kaartje te voltooien. We hopen je daar te zien!
URL:https://www.kazernereigersbos.org/event/kazerne-verdedig-noord-presents-new-years-party-2025-2/
LOCATION:Remise\, Remmerdenplein 100\, Amsterdam\, 1106 AK\, Nederland
CATEGORIES:Buurt
ATTACH;FMTTYPE=image/jpeg:https://www.kazernereigersbos.org/wp-content/uploads/2025/01/IMG_0822.jpg
END:VEVENT
END:VCALENDAR