BEGIN:VCALENDAR
VERSION:2.0
PRODID:-//Kazerne Reigersbos - ECPv6.15.20//NONSGML v1.0//EN
CALSCALE:GREGORIAN
METHOD:PUBLISH
X-WR-CALNAME:Kazerne Reigersbos
X-ORIGINAL-URL:https://www.kazernereigersbos.org
X-WR-CALDESC:Evenementen voor Kazerne Reigersbos
REFRESH-INTERVAL;VALUE=DURATION:PT1H
X-Robots-Tag:noindex
X-PUBLISHED-TTL:PT1H
BEGIN:VTIMEZONE
TZID:UTC
BEGIN:STANDARD
TZOFFSETFROM:+0000
TZOFFSETTO:+0000
TZNAME:UTC
DTSTART:20230101T000000
END:STANDARD
END:VTIMEZONE
BEGIN:VEVENT
DTSTART;TZID=UTC:20240421T110000
DTEND;TZID=UTC:20240421T130000
DTSTAMP:20260422T202251
CREATED:20240426T130545Z
LAST-MODIFIED:20240426T130545Z
UID:10000013-1713697200-1713704400@www.kazernereigersbos.org
SUMMARY:The Herd - Music Poduction Workshop
DESCRIPTION:Lamsi geeft zijn allereerste workshop over de kunst en basisprincipes van muziekproductie\, branding\, onderhandeling en meer! \nMeld je aan via de link in mijn bio om je plaats te reserveren. Let op\, een RSVP betekent niet automatisch een gegarandeerde plek. De geselecteerde deelnemers worden per e-mail op de hoogte gesteld. Als je geselecteerd wordt\, is aanwezigheid verplicht op alle workshopdata: 21 april\, 28 april\, 12 mei en 19 mei\, van 11:00 tot 13:00 uur bij Kazerne Reigersbos. Dit wordt een geweldige kans om te leren\, te groeien en te verbinden. Ik kijk ernaar uit je daar te zien!”
URL:https://www.kazernereigersbos.org/event/the-herd-music-poduction-workshop/
LOCATION:Media Ruimte
CATEGORIES:Workshop
ATTACH;FMTTYPE=image/jpeg:https://www.kazernereigersbos.org/wp-content/uploads/2024/04/THE-HERD-2.jpg
END:VEVENT
END:VCALENDAR